BEGIN:VCALENDAR
VERSION:2.0
PRODID:-//Mancomunidad la vega - ECPv6.11.2//NONSGML v1.0//EN
CALSCALE:GREGORIAN
METHOD:PUBLISH
X-WR-CALNAME:Mancomunidad la vega
X-ORIGINAL-URL:https://www.mancomunidadlavega.es
X-WR-CALDESC:Eventos para Mancomunidad la vega
REFRESH-INTERVAL;VALUE=DURATION:PT1H
X-Robots-Tag:noindex
X-PUBLISHED-TTL:PT1H
BEGIN:VTIMEZONE
TZID:UTC
BEGIN:STANDARD
TZOFFSETFROM:+0000
TZOFFSETTO:+0000
TZNAME:UTC
DTSTART:20240101T000000
END:STANDARD
END:VTIMEZONE
BEGIN:VEVENT
DTSTART;TZID=UTC:20240522T080000
DTEND;TZID=UTC:20240522T140000
DTSTAMP:20260423T182739
CREATED:20240227T133333Z
LAST-MODIFIED:20240227T134258Z
UID:58048-1716364800-1716386400@www.mancomunidadlavega.es
SUMMARY:Talleres "Creciendo en Igualdad". Redován
DESCRIPTION:Educando en valores es un conjunto de talleres dirigido a niñas y niños de Mancomunidad la Vega\, con edades comprendidas entre 6 y 9 años\, con el objetivo de trabajar e integrar valores para el desarrollo personal. \n\nAlgorfa: CEIP Miguel de Cervantes\nJacarilla:  CEIP Virgen de Belén\nRedován: CEIP Sagados Corazones\nSan Miguel: CEIP Gloria Fuertes\n\nConsulta toda la programación del 8 de marzo en el siguiente enlace:  https://socy.al/vv0Qrd \n  \n 
URL:https://www.mancomunidadlavega.es/event/talleres-creciendo-en-igualdad-jacarilla-2-2/2024-05-22/
LOCATION:Redován\, Alicante\, España
CATEGORIES:Mujer,Redován
END:VEVENT
BEGIN:VEVENT
DTSTART;TZID=UTC:20240521T080000
DTEND;TZID=UTC:20240521T140000
DTSTAMP:20260423T182739
CREATED:20240227T133333Z
LAST-MODIFIED:20240227T134257Z
UID:58047-1716278400-1716300000@www.mancomunidadlavega.es
SUMMARY:Talleres "Creciendo en Igualdad". Redován
DESCRIPTION:Educando en valores es un conjunto de talleres dirigido a niñas y niños de Mancomunidad la Vega\, con edades comprendidas entre 6 y 9 años\, con el objetivo de trabajar e integrar valores para el desarrollo personal. \n\nAlgorfa: CEIP Miguel de Cervantes\nJacarilla:  CEIP Virgen de Belén\nRedován: CEIP Sagados Corazones\nSan Miguel: CEIP Gloria Fuertes\n\nConsulta toda la programación del 8 de marzo en el siguiente enlace:  https://socy.al/vv0Qrd \n  \n 
URL:https://www.mancomunidadlavega.es/event/talleres-creciendo-en-igualdad-jacarilla-2-2/2024-05-21/
LOCATION:Redován\, Alicante\, España
CATEGORIES:Mujer,Redován
END:VEVENT
BEGIN:VEVENT
DTSTART;TZID=UTC:20240520T080000
DTEND;TZID=UTC:20240520T140000
DTSTAMP:20260423T182739
CREATED:20240227T133333Z
LAST-MODIFIED:20240227T134256Z
UID:58046-1716192000-1716213600@www.mancomunidadlavega.es
SUMMARY:Talleres "Creciendo en Igualdad". Redován
DESCRIPTION:Educando en valores es un conjunto de talleres dirigido a niñas y niños de Mancomunidad la Vega\, con edades comprendidas entre 6 y 9 años\, con el objetivo de trabajar e integrar valores para el desarrollo personal. \n\nAlgorfa: CEIP Miguel de Cervantes\nJacarilla:  CEIP Virgen de Belén\nRedován: CEIP Sagados Corazones\nSan Miguel: CEIP Gloria Fuertes\n\nConsulta toda la programación del 8 de marzo en el siguiente enlace:  https://socy.al/vv0Qrd \n  \n 
URL:https://www.mancomunidadlavega.es/event/talleres-creciendo-en-igualdad-jacarilla-2-2/2024-05-20/
LOCATION:Redován\, Alicante\, España
CATEGORIES:Mujer,Redován
END:VEVENT
BEGIN:VEVENT
DTSTART;TZID=UTC:20240517T080000
DTEND;TZID=UTC:20240517T140000
DTSTAMP:20260423T182739
CREATED:20240227T133333Z
LAST-MODIFIED:20240227T134255Z
UID:58045-1715932800-1715954400@www.mancomunidadlavega.es
SUMMARY:Talleres "Creciendo en Igualdad". Redován
DESCRIPTION:Educando en valores es un conjunto de talleres dirigido a niñas y niños de Mancomunidad la Vega\, con edades comprendidas entre 6 y 9 años\, con el objetivo de trabajar e integrar valores para el desarrollo personal. \n\nAlgorfa: CEIP Miguel de Cervantes\nJacarilla:  CEIP Virgen de Belén\nRedován: CEIP Sagados Corazones\nSan Miguel: CEIP Gloria Fuertes\n\nConsulta toda la programación del 8 de marzo en el siguiente enlace:  https://socy.al/vv0Qrd \n  \n 
URL:https://www.mancomunidadlavega.es/event/talleres-creciendo-en-igualdad-jacarilla-2-2/2024-05-17/
LOCATION:Redován\, Alicante\, España
CATEGORIES:Mujer,Redován
END:VEVENT
BEGIN:VEVENT
DTSTART;TZID=UTC:20240516T080000
DTEND;TZID=UTC:20240516T140000
DTSTAMP:20260423T182739
CREATED:20240227T133333Z
LAST-MODIFIED:20240227T134255Z
UID:58044-1715846400-1715868000@www.mancomunidadlavega.es
SUMMARY:Talleres "Creciendo en Igualdad". Redován
DESCRIPTION:Educando en valores es un conjunto de talleres dirigido a niñas y niños de Mancomunidad la Vega\, con edades comprendidas entre 6 y 9 años\, con el objetivo de trabajar e integrar valores para el desarrollo personal. \n\nAlgorfa: CEIP Miguel de Cervantes\nJacarilla:  CEIP Virgen de Belén\nRedován: CEIP Sagados Corazones\nSan Miguel: CEIP Gloria Fuertes\n\nConsulta toda la programación del 8 de marzo en el siguiente enlace:  https://socy.al/vv0Qrd \n  \n 
URL:https://www.mancomunidadlavega.es/event/talleres-creciendo-en-igualdad-jacarilla-2-2/2024-05-16/
LOCATION:Redován\, Alicante\, España
CATEGORIES:Mujer,Redován
END:VEVENT
BEGIN:VEVENT
DTSTART;TZID=UTC:20240515T120000
DTEND;TZID=UTC:20240515T130000
DTSTAMP:20260423T182739
CREATED:20240508T093822Z
LAST-MODIFIED:20240508T094112Z
UID:58643-1715774400-1715778000@www.mancomunidadlavega.es
SUMMARY:Taller renta valenciana de inclusión. Redován
DESCRIPTION:Taller renta valenciana de inclusión \n\n¿Qué es? ¿A qué tipo puedo acceder? Qué documentación necesito?\n\nLa renta valenciana de inclusión es una herramienta para garantizar la calidad de vida de la ciudadanía desde la igualdad de oportunidades\, el apoyo a las familias\, los derechos de la infancia y con perspectiva de género. Un derecho tanto a una prestación económica como a un proceso de inclusión social y laboral. \nResponderemos a estas preguntas y otras más en los talleres. \nRedován: 15 de mayo 2024\, 12:00h. Centro Social 3ª Edad. \n  \n 
URL:https://www.mancomunidadlavega.es/event/taller-renta-valenciana-de-inclusion-redovan-3-2/
LOCATION:Redován\, Alicante\, España
CATEGORIES:Infancia y Familia,Redován
END:VEVENT
BEGIN:VEVENT
DTSTART;TZID=UTC:20240515T080000
DTEND;TZID=UTC:20240515T140000
DTSTAMP:20260423T182739
CREATED:20240227T133333Z
LAST-MODIFIED:20240227T134254Z
UID:58043-1715760000-1715781600@www.mancomunidadlavega.es
SUMMARY:Talleres "Creciendo en Igualdad". Redován
DESCRIPTION:Educando en valores es un conjunto de talleres dirigido a niñas y niños de Mancomunidad la Vega\, con edades comprendidas entre 6 y 9 años\, con el objetivo de trabajar e integrar valores para el desarrollo personal. \n\nAlgorfa: CEIP Miguel de Cervantes\nJacarilla:  CEIP Virgen de Belén\nRedován: CEIP Sagados Corazones\nSan Miguel: CEIP Gloria Fuertes\n\nConsulta toda la programación del 8 de marzo en el siguiente enlace:  https://socy.al/vv0Qrd \n  \n 
URL:https://www.mancomunidadlavega.es/event/talleres-creciendo-en-igualdad-jacarilla-2-2/2024-05-15/
LOCATION:Redován\, Alicante\, España
CATEGORIES:Mujer,Redován
END:VEVENT
BEGIN:VEVENT
DTSTART;TZID=UTC:20240514T080000
DTEND;TZID=UTC:20240514T140000
DTSTAMP:20260423T182739
CREATED:20240227T133333Z
LAST-MODIFIED:20240227T134253Z
UID:58042-1715673600-1715695200@www.mancomunidadlavega.es
SUMMARY:Talleres "Creciendo en Igualdad". Redován
DESCRIPTION:Educando en valores es un conjunto de talleres dirigido a niñas y niños de Mancomunidad la Vega\, con edades comprendidas entre 6 y 9 años\, con el objetivo de trabajar e integrar valores para el desarrollo personal. \n\nAlgorfa: CEIP Miguel de Cervantes\nJacarilla:  CEIP Virgen de Belén\nRedován: CEIP Sagados Corazones\nSan Miguel: CEIP Gloria Fuertes\n\nConsulta toda la programación del 8 de marzo en el siguiente enlace:  https://socy.al/vv0Qrd \n  \n 
URL:https://www.mancomunidadlavega.es/event/talleres-creciendo-en-igualdad-jacarilla-2-2/2024-05-14/
LOCATION:Redován\, Alicante\, España
CATEGORIES:Mujer,Redován
END:VEVENT
BEGIN:VEVENT
DTSTART;TZID=UTC:20240513T080000
DTEND;TZID=UTC:20240513T140000
DTSTAMP:20260423T182739
CREATED:20240227T133333Z
LAST-MODIFIED:20240227T134253Z
UID:58041-1715587200-1715608800@www.mancomunidadlavega.es
SUMMARY:Talleres "Creciendo en Igualdad". Redován
DESCRIPTION:Educando en valores es un conjunto de talleres dirigido a niñas y niños de Mancomunidad la Vega\, con edades comprendidas entre 6 y 9 años\, con el objetivo de trabajar e integrar valores para el desarrollo personal. \n\nAlgorfa: CEIP Miguel de Cervantes\nJacarilla:  CEIP Virgen de Belén\nRedován: CEIP Sagados Corazones\nSan Miguel: CEIP Gloria Fuertes\n\nConsulta toda la programación del 8 de marzo en el siguiente enlace:  https://socy.al/vv0Qrd \n  \n 
URL:https://www.mancomunidadlavega.es/event/talleres-creciendo-en-igualdad-jacarilla-2-2/2024-05-13/
LOCATION:Redován\, Alicante\, España
CATEGORIES:Mujer,Redován
END:VEVENT
BEGIN:VEVENT
DTSTART;TZID=UTC:20240510T080000
DTEND;TZID=UTC:20240510T140000
DTSTAMP:20260423T182739
CREATED:20240227T133333Z
LAST-MODIFIED:20240227T134252Z
UID:58040-1715328000-1715349600@www.mancomunidadlavega.es
SUMMARY:Talleres "Creciendo en Igualdad". Redován
DESCRIPTION:Educando en valores es un conjunto de talleres dirigido a niñas y niños de Mancomunidad la Vega\, con edades comprendidas entre 6 y 9 años\, con el objetivo de trabajar e integrar valores para el desarrollo personal. \n\nAlgorfa: CEIP Miguel de Cervantes\nJacarilla:  CEIP Virgen de Belén\nRedován: CEIP Sagados Corazones\nSan Miguel: CEIP Gloria Fuertes\n\nConsulta toda la programación del 8 de marzo en el siguiente enlace:  https://socy.al/vv0Qrd \n  \n 
URL:https://www.mancomunidadlavega.es/event/talleres-creciendo-en-igualdad-jacarilla-2-2/2024-05-10/
LOCATION:Redován\, Alicante\, España
CATEGORIES:Mujer,Redován
END:VEVENT
BEGIN:VEVENT
DTSTART;TZID=UTC:20240509T080000
DTEND;TZID=UTC:20240509T140000
DTSTAMP:20260423T182739
CREATED:20240227T133333Z
LAST-MODIFIED:20240227T134251Z
UID:58039-1715241600-1715263200@www.mancomunidadlavega.es
SUMMARY:Talleres "Creciendo en Igualdad". Redován
DESCRIPTION:Educando en valores es un conjunto de talleres dirigido a niñas y niños de Mancomunidad la Vega\, con edades comprendidas entre 6 y 9 años\, con el objetivo de trabajar e integrar valores para el desarrollo personal. \n\nAlgorfa: CEIP Miguel de Cervantes\nJacarilla:  CEIP Virgen de Belén\nRedován: CEIP Sagados Corazones\nSan Miguel: CEIP Gloria Fuertes\n\nConsulta toda la programación del 8 de marzo en el siguiente enlace:  https://socy.al/vv0Qrd \n  \n 
URL:https://www.mancomunidadlavega.es/event/talleres-creciendo-en-igualdad-jacarilla-2-2/2024-05-09/
LOCATION:Redován\, Alicante\, España
CATEGORIES:Mujer,Redován
END:VEVENT
BEGIN:VEVENT
DTSTART;TZID=UTC:20240508T080000
DTEND;TZID=UTC:20240508T140000
DTSTAMP:20260423T182739
CREATED:20240227T133333Z
LAST-MODIFIED:20240227T134251Z
UID:58038-1715155200-1715176800@www.mancomunidadlavega.es
SUMMARY:Talleres "Creciendo en Igualdad". Redován
DESCRIPTION:Educando en valores es un conjunto de talleres dirigido a niñas y niños de Mancomunidad la Vega\, con edades comprendidas entre 6 y 9 años\, con el objetivo de trabajar e integrar valores para el desarrollo personal. \n\nAlgorfa: CEIP Miguel de Cervantes\nJacarilla:  CEIP Virgen de Belén\nRedován: CEIP Sagados Corazones\nSan Miguel: CEIP Gloria Fuertes\n\nConsulta toda la programación del 8 de marzo en el siguiente enlace:  https://socy.al/vv0Qrd \n  \n 
URL:https://www.mancomunidadlavega.es/event/talleres-creciendo-en-igualdad-jacarilla-2-2/2024-05-08/
LOCATION:Redován\, Alicante\, España
CATEGORIES:Mujer,Redován
END:VEVENT
BEGIN:VEVENT
DTSTART;TZID=UTC:20240507T080000
DTEND;TZID=UTC:20240507T140000
DTSTAMP:20260423T182739
CREATED:20240227T133333Z
LAST-MODIFIED:20240227T134250Z
UID:58037-1715068800-1715090400@www.mancomunidadlavega.es
SUMMARY:Talleres "Creciendo en Igualdad". Redován
DESCRIPTION:Educando en valores es un conjunto de talleres dirigido a niñas y niños de Mancomunidad la Vega\, con edades comprendidas entre 6 y 9 años\, con el objetivo de trabajar e integrar valores para el desarrollo personal. \n\nAlgorfa: CEIP Miguel de Cervantes\nJacarilla:  CEIP Virgen de Belén\nRedován: CEIP Sagados Corazones\nSan Miguel: CEIP Gloria Fuertes\n\nConsulta toda la programación del 8 de marzo en el siguiente enlace:  https://socy.al/vv0Qrd \n  \n 
URL:https://www.mancomunidadlavega.es/event/talleres-creciendo-en-igualdad-jacarilla-2-2/2024-05-07/
LOCATION:Redován\, Alicante\, España
CATEGORIES:Mujer,Redován
END:VEVENT
BEGIN:VEVENT
DTSTART;TZID=UTC:20240506T080000
DTEND;TZID=UTC:20240506T140000
DTSTAMP:20260423T182739
CREATED:20240227T133333Z
LAST-MODIFIED:20240227T134249Z
UID:58036-1714982400-1715004000@www.mancomunidadlavega.es
SUMMARY:Talleres "Creciendo en Igualdad". Redován
DESCRIPTION:Educando en valores es un conjunto de talleres dirigido a niñas y niños de Mancomunidad la Vega\, con edades comprendidas entre 6 y 9 años\, con el objetivo de trabajar e integrar valores para el desarrollo personal. \n\nAlgorfa: CEIP Miguel de Cervantes\nJacarilla:  CEIP Virgen de Belén\nRedován: CEIP Sagados Corazones\nSan Miguel: CEIP Gloria Fuertes\n\nConsulta toda la programación del 8 de marzo en el siguiente enlace:  https://socy.al/vv0Qrd \n  \n 
URL:https://www.mancomunidadlavega.es/event/talleres-creciendo-en-igualdad-jacarilla-2-2/2024-05-06/
LOCATION:Redován\, Alicante\, España
CATEGORIES:Mujer,Redován
END:VEVENT
BEGIN:VEVENT
DTSTART;TZID=UTC:20240503T080000
DTEND;TZID=UTC:20240503T140000
DTSTAMP:20260423T182739
CREATED:20240227T133333Z
LAST-MODIFIED:20240227T134249Z
UID:58035-1714723200-1714744800@www.mancomunidadlavega.es
SUMMARY:Talleres "Creciendo en Igualdad". Redován
DESCRIPTION:Educando en valores es un conjunto de talleres dirigido a niñas y niños de Mancomunidad la Vega\, con edades comprendidas entre 6 y 9 años\, con el objetivo de trabajar e integrar valores para el desarrollo personal. \n\nAlgorfa: CEIP Miguel de Cervantes\nJacarilla:  CEIP Virgen de Belén\nRedován: CEIP Sagados Corazones\nSan Miguel: CEIP Gloria Fuertes\n\nConsulta toda la programación del 8 de marzo en el siguiente enlace:  https://socy.al/vv0Qrd \n  \n 
URL:https://www.mancomunidadlavega.es/event/talleres-creciendo-en-igualdad-jacarilla-2-2/2024-05-03/
LOCATION:Redován\, Alicante\, España
CATEGORIES:Mujer,Redován
END:VEVENT
BEGIN:VEVENT
DTSTART;TZID=UTC:20240502T080000
DTEND;TZID=UTC:20240502T140000
DTSTAMP:20260423T182739
CREATED:20240227T133333Z
LAST-MODIFIED:20240227T134248Z
UID:58034-1714636800-1714658400@www.mancomunidadlavega.es
SUMMARY:Talleres "Creciendo en Igualdad". Redován
DESCRIPTION:Educando en valores es un conjunto de talleres dirigido a niñas y niños de Mancomunidad la Vega\, con edades comprendidas entre 6 y 9 años\, con el objetivo de trabajar e integrar valores para el desarrollo personal. \n\nAlgorfa: CEIP Miguel de Cervantes\nJacarilla:  CEIP Virgen de Belén\nRedován: CEIP Sagados Corazones\nSan Miguel: CEIP Gloria Fuertes\n\nConsulta toda la programación del 8 de marzo en el siguiente enlace:  https://socy.al/vv0Qrd \n  \n 
URL:https://www.mancomunidadlavega.es/event/talleres-creciendo-en-igualdad-jacarilla-2-2/2024-05-02/
LOCATION:Redován\, Alicante\, España
CATEGORIES:Mujer,Redován
END:VEVENT
BEGIN:VEVENT
DTSTART;TZID=UTC:20240501T080000
DTEND;TZID=UTC:20240501T140000
DTSTAMP:20260423T182739
CREATED:20240227T133333Z
LAST-MODIFIED:20240227T134247Z
UID:58033-1714550400-1714572000@www.mancomunidadlavega.es
SUMMARY:Talleres "Creciendo en Igualdad". Redován
DESCRIPTION:Educando en valores es un conjunto de talleres dirigido a niñas y niños de Mancomunidad la Vega\, con edades comprendidas entre 6 y 9 años\, con el objetivo de trabajar e integrar valores para el desarrollo personal. \n\nAlgorfa: CEIP Miguel de Cervantes\nJacarilla:  CEIP Virgen de Belén\nRedován: CEIP Sagados Corazones\nSan Miguel: CEIP Gloria Fuertes\n\nConsulta toda la programación del 8 de marzo en el siguiente enlace:  https://socy.al/vv0Qrd \n  \n 
URL:https://www.mancomunidadlavega.es/event/talleres-creciendo-en-igualdad-jacarilla-2-2/2024-05-01/
LOCATION:Redován\, Alicante\, España
CATEGORIES:Mujer,Redován
END:VEVENT
BEGIN:VEVENT
DTSTART;TZID=UTC:20240430T080000
DTEND;TZID=UTC:20240430T140000
DTSTAMP:20260423T182739
CREATED:20240227T133333Z
LAST-MODIFIED:20240227T134247Z
UID:58032-1714464000-1714485600@www.mancomunidadlavega.es
SUMMARY:Talleres "Creciendo en Igualdad". Redován
DESCRIPTION:Educando en valores es un conjunto de talleres dirigido a niñas y niños de Mancomunidad la Vega\, con edades comprendidas entre 6 y 9 años\, con el objetivo de trabajar e integrar valores para el desarrollo personal. \n\nAlgorfa: CEIP Miguel de Cervantes\nJacarilla:  CEIP Virgen de Belén\nRedován: CEIP Sagados Corazones\nSan Miguel: CEIP Gloria Fuertes\n\nConsulta toda la programación del 8 de marzo en el siguiente enlace:  https://socy.al/vv0Qrd \n  \n 
URL:https://www.mancomunidadlavega.es/event/talleres-creciendo-en-igualdad-jacarilla-2-2/2024-04-30/
LOCATION:Redován\, Alicante\, España
CATEGORIES:Mujer,Redován
END:VEVENT
BEGIN:VEVENT
DTSTART;TZID=UTC:20240429T080000
DTEND;TZID=UTC:20240429T140000
DTSTAMP:20260423T182739
CREATED:20240227T133333Z
LAST-MODIFIED:20240227T134246Z
UID:58031-1714377600-1714399200@www.mancomunidadlavega.es
SUMMARY:Talleres "Creciendo en Igualdad". Redován
DESCRIPTION:Educando en valores es un conjunto de talleres dirigido a niñas y niños de Mancomunidad la Vega\, con edades comprendidas entre 6 y 9 años\, con el objetivo de trabajar e integrar valores para el desarrollo personal. \n\nAlgorfa: CEIP Miguel de Cervantes\nJacarilla:  CEIP Virgen de Belén\nRedován: CEIP Sagados Corazones\nSan Miguel: CEIP Gloria Fuertes\n\nConsulta toda la programación del 8 de marzo en el siguiente enlace:  https://socy.al/vv0Qrd \n  \n 
URL:https://www.mancomunidadlavega.es/event/talleres-creciendo-en-igualdad-jacarilla-2-2/2024-04-29/
LOCATION:Redován\, Alicante\, España
CATEGORIES:Mujer,Redován
END:VEVENT
BEGIN:VEVENT
DTSTART;TZID=UTC:20240426T080000
DTEND;TZID=UTC:20240426T140000
DTSTAMP:20260423T182739
CREATED:20240227T133333Z
LAST-MODIFIED:20240227T134245Z
UID:58030-1714118400-1714140000@www.mancomunidadlavega.es
SUMMARY:Talleres "Creciendo en Igualdad". Redován
DESCRIPTION:Educando en valores es un conjunto de talleres dirigido a niñas y niños de Mancomunidad la Vega\, con edades comprendidas entre 6 y 9 años\, con el objetivo de trabajar e integrar valores para el desarrollo personal. \n\nAlgorfa: CEIP Miguel de Cervantes\nJacarilla:  CEIP Virgen de Belén\nRedován: CEIP Sagados Corazones\nSan Miguel: CEIP Gloria Fuertes\n\nConsulta toda la programación del 8 de marzo en el siguiente enlace:  https://socy.al/vv0Qrd \n  \n 
URL:https://www.mancomunidadlavega.es/event/talleres-creciendo-en-igualdad-jacarilla-2-2/2024-04-26/
LOCATION:Redován\, Alicante\, España
CATEGORIES:Mujer,Redován
END:VEVENT
BEGIN:VEVENT
DTSTART;TZID=UTC:20240425T080000
DTEND;TZID=UTC:20240425T140000
DTSTAMP:20260423T182739
CREATED:20240227T133333Z
LAST-MODIFIED:20240227T134245Z
UID:58029-1714032000-1714053600@www.mancomunidadlavega.es
SUMMARY:Talleres "Creciendo en Igualdad". Redován
DESCRIPTION:Educando en valores es un conjunto de talleres dirigido a niñas y niños de Mancomunidad la Vega\, con edades comprendidas entre 6 y 9 años\, con el objetivo de trabajar e integrar valores para el desarrollo personal. \n\nAlgorfa: CEIP Miguel de Cervantes\nJacarilla:  CEIP Virgen de Belén\nRedován: CEIP Sagados Corazones\nSan Miguel: CEIP Gloria Fuertes\n\nConsulta toda la programación del 8 de marzo en el siguiente enlace:  https://socy.al/vv0Qrd \n  \n 
URL:https://www.mancomunidadlavega.es/event/talleres-creciendo-en-igualdad-jacarilla-2-2/2024-04-25/
LOCATION:Redován\, Alicante\, España
CATEGORIES:Mujer,Redován
END:VEVENT
BEGIN:VEVENT
DTSTART;TZID=UTC:20240424T080000
DTEND;TZID=UTC:20240424T140000
DTSTAMP:20260423T182740
CREATED:20240227T133333Z
LAST-MODIFIED:20240227T134244Z
UID:58028-1713945600-1713967200@www.mancomunidadlavega.es
SUMMARY:Talleres "Creciendo en Igualdad". Redován
DESCRIPTION:Educando en valores es un conjunto de talleres dirigido a niñas y niños de Mancomunidad la Vega\, con edades comprendidas entre 6 y 9 años\, con el objetivo de trabajar e integrar valores para el desarrollo personal. \n\nAlgorfa: CEIP Miguel de Cervantes\nJacarilla:  CEIP Virgen de Belén\nRedován: CEIP Sagados Corazones\nSan Miguel: CEIP Gloria Fuertes\n\nConsulta toda la programación del 8 de marzo en el siguiente enlace:  https://socy.al/vv0Qrd \n  \n 
URL:https://www.mancomunidadlavega.es/event/talleres-creciendo-en-igualdad-jacarilla-2-2/2024-04-24/
LOCATION:Redován\, Alicante\, España
CATEGORIES:Mujer,Redován
END:VEVENT
BEGIN:VEVENT
DTSTART;TZID=UTC:20240423T080000
DTEND;TZID=UTC:20240423T140000
DTSTAMP:20260423T182740
CREATED:20240227T133333Z
LAST-MODIFIED:20240227T134243Z
UID:58027-1713859200-1713880800@www.mancomunidadlavega.es
SUMMARY:Talleres "Creciendo en Igualdad". Redován
DESCRIPTION:Educando en valores es un conjunto de talleres dirigido a niñas y niños de Mancomunidad la Vega\, con edades comprendidas entre 6 y 9 años\, con el objetivo de trabajar e integrar valores para el desarrollo personal. \n\nAlgorfa: CEIP Miguel de Cervantes\nJacarilla:  CEIP Virgen de Belén\nRedován: CEIP Sagados Corazones\nSan Miguel: CEIP Gloria Fuertes\n\nConsulta toda la programación del 8 de marzo en el siguiente enlace:  https://socy.al/vv0Qrd \n  \n 
URL:https://www.mancomunidadlavega.es/event/talleres-creciendo-en-igualdad-jacarilla-2-2/2024-04-23/
LOCATION:Redován\, Alicante\, España
CATEGORIES:Mujer,Redován
END:VEVENT
BEGIN:VEVENT
DTSTART;TZID=UTC:20240320T193000
DTEND;TZID=UTC:20240320T203000
DTSTAMP:20260423T182740
CREATED:20240227T141237Z
LAST-MODIFIED:20240227T141237Z
UID:58283-1710963000-1710966600@www.mancomunidadlavega.es
SUMMARY:Salud sexual femenina. Redován
DESCRIPTION:Taller salud sexual femenina\n \n¿Quieres aprender sobre sexualidad y resolver tus dudas?. La sexualidad femenina sigue siendo un tabú\, a pesar de los avances conseguidos\, rodeada de numerosos mitos que promueven miedo y baja autoestima. \nTe esperamos en los talleres: \n\n\n\n\n\nAlgorfa: Miércoles  20 de marzo. 16:00h. Centro Social San Vicente Ferrer.\nRedován: Miércoles 20 de marzo. 19:30h. Centro Social 3ª Edad.\n\nInscripciones: Sofía 658 757 043 \nConsulta toda la programación del 8 de marzo en el siguiente enlace:  https://socy.al/vv0Qrd
URL:https://www.mancomunidadlavega.es/event/salud-sexual-femenina-redovan/
LOCATION:Redován\, Alicante\, España
CATEGORIES:Mujer,Redován
END:VEVENT
BEGIN:VEVENT
DTSTART;TZID=UTC:20240313T193000
DTEND;TZID=UTC:20240313T203000
DTSTAMP:20260423T182740
CREATED:20240228T073127Z
LAST-MODIFIED:20240228T073127Z
UID:58293-1710358200-1710361800@www.mancomunidadlavega.es
SUMMARY:Yoga y respiración. Redován
DESCRIPTION:Taller Yoga y Respiración. \n¿Quieres aprender a respirar a través del yoga?. El yoga ayuda a reducir la presión arterial\, relajarse\, reducir el estrés\, mejorar la concentración y mil beneficios más. \nTrae tu esterilla o toalla. \n\nAlgorfa: Miércoles 13 de marzo. 16:00 horas. Gimnasio Polideportivo Municipal.\nJacarilla: Martes 5 de marzo. 17:30 horas. Salón de actos del centro social.\nRedován: Miércoles 13 de marzo. 19:30 horas. Centro Social 3ª Edad.\nSan Miguel: Martes 5 de marzo. 20:00 horas. CEIP Gloria Fuertes.\n\nInscripción previa: Sofía 658 757 043 \nConsulta toda la programación del 8 de marzo en el siguiente enlace:  https://socy.al/vv0Qrd \n 
URL:https://www.mancomunidadlavega.es/event/yoga-y-respiracion-redovan/
LOCATION:Redován\, Alicante\, España
CATEGORIES:Mujer,Redován
END:VEVENT
BEGIN:VEVENT
DTSTART;TZID=UTC:20240308T093000
DTEND;TZID=UTC:20240308T110000
DTSTAMP:20260423T182740
CREATED:20240226T112654Z
LAST-MODIFIED:20240226T113610Z
UID:57090-1709890200-1709895600@www.mancomunidadlavega.es
SUMMARY:Mercado de la igualdad. Redován
DESCRIPTION:¡Vuelven los mercados de la igualdad!  Un espacio donde podrás informarte y recoger información sobre todas las cuestiones de igualdad de género de tu municipio\, recoger tu bolsa contra los estereotipos de género que tan desfasados están ya y jugar al pasapalabra. \nTendrán lugar en los mercados municipales los días: \n\nAlgorfa: Miércoles 13 de marzo. 9:30 horas.\nJacarilla:  Viernes 8 de marzo. 9:30 horas.\nRedován: Viernes 8 de marzo. 9:30 horas.\nSan Miguel: Miércoles 6 de marzo. 9:30 horas.\n\nConsulta toda la programación del 8 de marzo en el siguiente enlace:  https://socy.al/vv0Qrd \n  \n 
URL:https://www.mancomunidadlavega.es/event/mercado-de-la-igualdad-redovan/
LOCATION:Redován\, Alicante\, España
CATEGORIES:Mujer,Redován
END:VEVENT
BEGIN:VEVENT
DTSTART;TZID=UTC:20240307T093000
DTEND;TZID=UTC:20240307T110000
DTSTAMP:20260423T182740
CREATED:20240226T115938Z
LAST-MODIFIED:20240226T115938Z
UID:57106-1709803800-1709809200@www.mancomunidadlavega.es
SUMMARY:Desayuno documental "Extranjeras". Redován
DESCRIPTION:“Extranjeras” es un documental en dirigido por Helena Tabernael\, que muestra la cara desconocida y cotidiana de mujeres de todas las edades y otras culturas\, a través de la experiencia de mujeres inmigrantes\, latinoamericanas\, africanas y asiáticas\, que viven en Madrid. \nTrae tu desayuno para compartir. \n\nAlgorfa: Lunes 11 de marzo. 9:30 horas.\nJacarilla:  Miércoles 13 de marzo. 9:30 horas.\nRedován: Jueves 7 de marzo. 9:30 horas.\nSan Miguel: Viernes 8 de marzo. 9:30 horas.\n\nConsulta toda la programación del 8 de marzo en el siguiente enlace:  https://socy.al/vv0Qrd \n  \n 
URL:https://www.mancomunidadlavega.es/event/desayuno-documental-extranjeras-redovan/
LOCATION:Redován\, Alicante\, España
CATEGORIES:Mujer,Redován
END:VEVENT
BEGIN:VEVENT
DTSTART;TZID=UTC:20240306T193000
DTEND;TZID=UTC:20240306T203000
DTSTAMP:20260423T182740
CREATED:20240227T140105Z
LAST-MODIFIED:20240227T140614Z
UID:58281-1709753400-1709757000@www.mancomunidadlavega.es
SUMMARY:Risoterapia. Redován
DESCRIPTION:La Risoterapia consiste en una serie de técnicas orientadas a aprovechar los beneficios físicos y emocionales de la risa. Para ello se recurre a toda clase de técnicas\, fundamentalmente juegos y técnicas de respiración\, que favorecen que ciertas hormonas beneficiosas para el organismo (endocrinas\, serotonina y dopaminas) se liberen por todo el cuerpo. Además\, los talleres se diseñan para que las funciones cerebrales se centren en el aquí y en el ahora\, haciendo que las personas salgan durante dos horas de su rutina habitual. \n\n\n\n\n\nAlgorfa: Miércoles  6 de marzo. 16:00h. Gimnasio Polideportivo.\nJacarilla:  Martes 12 de marzo. 16:30h. Salón de actos del centro social.\nRedován: Miércoles 6 de marzo. 19:30h. Centro Social 3ª Edad.\n\nInscripciones: Sofía 658 757 043 \nConsulta toda la programación del 8 de marzo en el siguiente enlace:  https://socy.al/vv0Qrd
URL:https://www.mancomunidadlavega.es/event/risoterapia-redovan-3/
LOCATION:Redován\, Alicante\, España
CATEGORIES:Mujer,Redován
END:VEVENT
BEGIN:VEVENT
DTSTART;TZID=UTC:20240201T080000
DTEND;TZID=UTC:20240201T140000
DTSTAMP:20260423T182740
CREATED:20240227T133333Z
LAST-MODIFIED:20240227T134201Z
UID:57968-1706774400-1706796000@www.mancomunidadlavega.es
SUMMARY:Talleres "Creciendo en Igualdad". Redován
DESCRIPTION:Educando en valores es un conjunto de talleres dirigido a niñas y niños de Mancomunidad la Vega\, con edades comprendidas entre 6 y 9 años\, con el objetivo de trabajar e integrar valores para el desarrollo personal. \n\nAlgorfa: CEIP Miguel de Cervantes\nJacarilla:  CEIP Virgen de Belén\nRedován: CEIP Sagados Corazones\nSan Miguel: CEIP Gloria Fuertes\n\nConsulta toda la programación del 8 de marzo en el siguiente enlace:  https://socy.al/vv0Qrd \n  \n 
URL:https://www.mancomunidadlavega.es/event/talleres-creciendo-en-igualdad-jacarilla-2-2/2024-02-01/
LOCATION:Redován\, Alicante\, España
CATEGORIES:Mujer,Redován
END:VEVENT
BEGIN:VEVENT
DTSTART;TZID=UTC:20240105T090000
DTEND;TZID=UTC:20240105T140000
DTSTAMP:20260423T182740
CREATED:20231213T094554Z
LAST-MODIFIED:20231213T094554Z
UID:56882-1704445200-1704463200@www.mancomunidadlavega.es
SUMMARY:Juega en las fiestas de Navidad. Redován
DESCRIPTION:JUEGA EN LAS FIESTAS DE NAVIDAD. ACTIVIDADES DE LA VEGA JOVEN \n\n\n\nNiñas\, niños y adolescentes de Redován\, no os perdáis las actividades de diciembre.\nLugar: Centro municipal Los Pasos.\nHorario: de 9:00h a 14:00h\nNiños y niñas cursando desde infantil a Primaria.\nInscripciones: en el Ayuntamiento de 9:00h a 11:00h del 14 al 20 de diciembre.\nPlazas limitadas\n\n\n\n+Info.: https://www.mancomunidadlavega.es/lavegajoven/ \n 
URL:https://www.mancomunidadlavega.es/event/juega-en-las-fiestas-de-navidad-redovan-2-2-2-2-2-2-2/
LOCATION:Redován\, Alicante\, España
CATEGORIES:Infancia y Familia,Jóvenes,Redován
END:VEVENT
END:VCALENDAR