BEGIN:VCALENDAR
VERSION:2.0
PRODID:-//Mancomunidad la vega - ECPv6.11.2//NONSGML v1.0//EN
CALSCALE:GREGORIAN
METHOD:PUBLISH
X-WR-CALNAME:Mancomunidad la vega
X-ORIGINAL-URL:https://www.mancomunidadlavega.es
X-WR-CALDESC:Eventos para Mancomunidad la vega
REFRESH-INTERVAL;VALUE=DURATION:PT1H
X-Robots-Tag:noindex
X-PUBLISHED-TTL:PT1H
BEGIN:VTIMEZONE
TZID:UTC
BEGIN:STANDARD
TZOFFSETFROM:+0000
TZOFFSETTO:+0000
TZNAME:UTC
DTSTART:20240101T000000
END:STANDARD
END:VTIMEZONE
BEGIN:VEVENT
DTSTART;TZID=UTC:20240702T173000
DTEND;TZID=UTC:20240702T203000
DTSTAMP:20260423T045822
CREATED:20240705T065140Z
LAST-MODIFIED:20240910T072058Z
UID:59359-1719941400-1719952200@www.mancomunidadlavega.es
SUMMARY:Talleres julio jóvenes. Redován
DESCRIPTION:Talleres julio La Vega Joven.\n\n¿Preparad@ para la llegada del verano? ¿Quieres olvidarte de la televisión y el sofá durante el mes de julio? ESTE ES TU LUGAR!!\n\n\n#lavegajoven te ofrece una serie de TALLERES y ACTIVIDADES para que aproveches al máximo tu tiempo libre este verano!\n\n\n\nRedovan 1\,2\,5\,8\,9\,15\,22\,23\,29 y 30 de JULIO en Casa de Juventud de 17\,30 a 20\,30 horas.\nAlgorfa 3\,10\, 12\, 17\, 24 y 31 de JULIO en Casa de Juventud de 17\,30 a 20\,30 horas.\n\nJacarilla 4\, 11\, 18\, 19 y 25 de JULIO y 1 de AGOSTO en Centro Social de 17\,30 a 20\,30 horas.\n\n\n\n\n+INFO  658796154\n+info. La vega joven
URL:https://www.mancomunidadlavega.es/event/talleres-julio-redovan-2-2/
LOCATION:Redován\, Alicante\, España
CATEGORIES:Jóvenes,Redován
END:VEVENT
BEGIN:VEVENT
DTSTART;TZID=UTC:20240702T090000
DTEND;TZID=UTC:20240702T140000
DTSTAMP:20260423T045822
CREATED:20240604T090526Z
LAST-MODIFIED:20240604T090606Z
UID:59076-1719910800-1719928800@www.mancomunidadlavega.es
SUMMARY:Vegavacaciones 2024. Redován
DESCRIPTION:VEGAVACACIONES se realiza cada año durante el mes de julio-agosto en horario de mañanas. \n\n\nVegaVacaciones es un espacio de apoyo a la familia dirigido a facilitar la conciliación de la vida familiar y laboral y como un espacio socioeducativo que favorece la convivencia\, el aprendizaje de valores y el desarrollo personal y social de los menores\, donde el juego es el vehículo no solo para la diversión sino para fomentar aspectos positivos como la solidaridad\, respeto\, tolerancia\, participación e integración social\, creatividad\, la interculturalidad\, la igualdad de género\, la convivencia. \nLugares de realización: \n\nAlgorfa: CEIP Miguel de Cervantes. De 9:00h a 14:00h.\nJacarilla: CEIP Virgen de Belén y Pinada Jardines de Palacio. De 9:00h a 14:00h.\nSan Miguel de Salinas: CEIP Gloria Fuertes. De 9:00h a 14:00h.\nRedován: CEIP Sagrados Corazones. De 9:00h a 14:00h.\n\nMás info. e inscripciones: Vegavacaciones \n 
URL:https://www.mancomunidadlavega.es/event/vegavacaciones-2024-algorfa-2-2/2024-07-02/
LOCATION:Redován\, Alicante\, España
CATEGORIES:Infancia y Familia,Redován
END:VEVENT
BEGIN:VEVENT
DTSTART;TZID=UTC:20240701T173000
DTEND;TZID=UTC:20240701T203000
DTSTAMP:20260423T045822
CREATED:20240705T064638Z
LAST-MODIFIED:20240910T072102Z
UID:59351-1719855000-1719865800@www.mancomunidadlavega.es
SUMMARY:Talleres julio jóvenes. Redován
DESCRIPTION:Talleres julio La Vega Joven.\n\n¿Preparad@ para la llegada del verano? ¿Quieres olvidarte de la televisión y el sofá durante el mes de julio? ESTE ES TU LUGAR!!\n\n\n#lavegajoven te ofrece una serie de TALLERES y ACTIVIDADES para que aproveches al máximo tu tiempo libre este verano!\n\n\n\nRedovan 1\,2\,5\,8\,9\,15\,22\,23\,29 y 30 de JULIO en Casa de Juventud de 17\,30 a 20\,30 horas.\nAlgorfa 3\,10\, 12\, 17\, 24 y 31 de JULIO en Casa de Juventud de 17\,30 a 20\,30 horas.\n\nJacarilla 4\, 11\, 18\, 19 y 25 de JULIO y 1 de AGOSTO en Centro Social de 17\,30 a 20\,30 horas.\n\n\n\n\n+INFO  658796154\n+info. La vega joven
URL:https://www.mancomunidadlavega.es/event/talleres-julio-redovan/
LOCATION:Redován\, Alicante\, España
CATEGORIES:Jóvenes,Redován
END:VEVENT
BEGIN:VEVENT
DTSTART;TZID=UTC:20240701T090000
DTEND;TZID=UTC:20240701T140000
DTSTAMP:20260423T045822
CREATED:20240604T090526Z
LAST-MODIFIED:20240604T090606Z
UID:59074-1719824400-1719842400@www.mancomunidadlavega.es
SUMMARY:Vegavacaciones 2024. Redován
DESCRIPTION:VEGAVACACIONES se realiza cada año durante el mes de julio-agosto en horario de mañanas. \n\n\nVegaVacaciones es un espacio de apoyo a la familia dirigido a facilitar la conciliación de la vida familiar y laboral y como un espacio socioeducativo que favorece la convivencia\, el aprendizaje de valores y el desarrollo personal y social de los menores\, donde el juego es el vehículo no solo para la diversión sino para fomentar aspectos positivos como la solidaridad\, respeto\, tolerancia\, participación e integración social\, creatividad\, la interculturalidad\, la igualdad de género\, la convivencia. \nLugares de realización: \n\nAlgorfa: CEIP Miguel de Cervantes. De 9:00h a 14:00h.\nJacarilla: CEIP Virgen de Belén y Pinada Jardines de Palacio. De 9:00h a 14:00h.\nSan Miguel de Salinas: CEIP Gloria Fuertes. De 9:00h a 14:00h.\nRedován: CEIP Sagrados Corazones. De 9:00h a 14:00h.\n\nMás info. e inscripciones: Vegavacaciones \n 
URL:https://www.mancomunidadlavega.es/event/vegavacaciones-2024-algorfa-2-2/2024-07-01/
LOCATION:Redován\, Alicante\, España
CATEGORIES:Infancia y Familia,Redován
END:VEVENT
BEGIN:VEVENT
DTSTART;TZID=UTC:20240621T080000
DTEND;TZID=UTC:20240621T140000
DTSTAMP:20260423T045822
CREATED:20240227T133333Z
LAST-MODIFIED:20240227T134313Z
UID:58070-1718956800-1718978400@www.mancomunidadlavega.es
SUMMARY:Talleres "Creciendo en Igualdad". Redován
DESCRIPTION:Educando en valores es un conjunto de talleres dirigido a niñas y niños de Mancomunidad la Vega\, con edades comprendidas entre 6 y 9 años\, con el objetivo de trabajar e integrar valores para el desarrollo personal. \n\nAlgorfa: CEIP Miguel de Cervantes\nJacarilla:  CEIP Virgen de Belén\nRedován: CEIP Sagados Corazones\nSan Miguel: CEIP Gloria Fuertes\n\nConsulta toda la programación del 8 de marzo en el siguiente enlace:  https://socy.al/vv0Qrd \n  \n 
URL:https://www.mancomunidadlavega.es/event/talleres-creciendo-en-igualdad-jacarilla-2-2/2024-06-21/
LOCATION:Redován\, Alicante\, España
CATEGORIES:Mujer,Redován
END:VEVENT
BEGIN:VEVENT
DTSTART;TZID=UTC:20240620T080000
DTEND;TZID=UTC:20240620T140000
DTSTAMP:20260423T045822
CREATED:20240227T133333Z
LAST-MODIFIED:20240227T134313Z
UID:58069-1718870400-1718892000@www.mancomunidadlavega.es
SUMMARY:Talleres "Creciendo en Igualdad". Redován
DESCRIPTION:Educando en valores es un conjunto de talleres dirigido a niñas y niños de Mancomunidad la Vega\, con edades comprendidas entre 6 y 9 años\, con el objetivo de trabajar e integrar valores para el desarrollo personal. \n\nAlgorfa: CEIP Miguel de Cervantes\nJacarilla:  CEIP Virgen de Belén\nRedován: CEIP Sagados Corazones\nSan Miguel: CEIP Gloria Fuertes\n\nConsulta toda la programación del 8 de marzo en el siguiente enlace:  https://socy.al/vv0Qrd \n  \n 
URL:https://www.mancomunidadlavega.es/event/talleres-creciendo-en-igualdad-jacarilla-2-2/2024-06-20/
LOCATION:Redován\, Alicante\, España
CATEGORIES:Mujer,Redován
END:VEVENT
BEGIN:VEVENT
DTSTART;TZID=UTC:20240619T080000
DTEND;TZID=UTC:20240619T140000
DTSTAMP:20260423T045822
CREATED:20240227T133333Z
LAST-MODIFIED:20240227T134312Z
UID:58068-1718784000-1718805600@www.mancomunidadlavega.es
SUMMARY:Talleres "Creciendo en Igualdad". Redován
DESCRIPTION:Educando en valores es un conjunto de talleres dirigido a niñas y niños de Mancomunidad la Vega\, con edades comprendidas entre 6 y 9 años\, con el objetivo de trabajar e integrar valores para el desarrollo personal. \n\nAlgorfa: CEIP Miguel de Cervantes\nJacarilla:  CEIP Virgen de Belén\nRedován: CEIP Sagados Corazones\nSan Miguel: CEIP Gloria Fuertes\n\nConsulta toda la programación del 8 de marzo en el siguiente enlace:  https://socy.al/vv0Qrd \n  \n 
URL:https://www.mancomunidadlavega.es/event/talleres-creciendo-en-igualdad-jacarilla-2-2/2024-06-19/
LOCATION:Redován\, Alicante\, España
CATEGORIES:Mujer,Redován
END:VEVENT
BEGIN:VEVENT
DTSTART;TZID=UTC:20240618T080000
DTEND;TZID=UTC:20240618T140000
DTSTAMP:20260423T045822
CREATED:20240227T133333Z
LAST-MODIFIED:20240227T134311Z
UID:58067-1718697600-1718719200@www.mancomunidadlavega.es
SUMMARY:Talleres "Creciendo en Igualdad". Redován
DESCRIPTION:Educando en valores es un conjunto de talleres dirigido a niñas y niños de Mancomunidad la Vega\, con edades comprendidas entre 6 y 9 años\, con el objetivo de trabajar e integrar valores para el desarrollo personal. \n\nAlgorfa: CEIP Miguel de Cervantes\nJacarilla:  CEIP Virgen de Belén\nRedován: CEIP Sagados Corazones\nSan Miguel: CEIP Gloria Fuertes\n\nConsulta toda la programación del 8 de marzo en el siguiente enlace:  https://socy.al/vv0Qrd \n  \n 
URL:https://www.mancomunidadlavega.es/event/talleres-creciendo-en-igualdad-jacarilla-2-2/2024-06-18/
LOCATION:Redován\, Alicante\, España
CATEGORIES:Mujer,Redován
END:VEVENT
BEGIN:VEVENT
DTSTART;TZID=UTC:20240617T080000
DTEND;TZID=UTC:20240617T140000
DTSTAMP:20260423T045822
CREATED:20240227T133333Z
LAST-MODIFIED:20240227T134311Z
UID:58066-1718611200-1718632800@www.mancomunidadlavega.es
SUMMARY:Talleres "Creciendo en Igualdad". Redován
DESCRIPTION:Educando en valores es un conjunto de talleres dirigido a niñas y niños de Mancomunidad la Vega\, con edades comprendidas entre 6 y 9 años\, con el objetivo de trabajar e integrar valores para el desarrollo personal. \n\nAlgorfa: CEIP Miguel de Cervantes\nJacarilla:  CEIP Virgen de Belén\nRedován: CEIP Sagados Corazones\nSan Miguel: CEIP Gloria Fuertes\n\nConsulta toda la programación del 8 de marzo en el siguiente enlace:  https://socy.al/vv0Qrd \n  \n 
URL:https://www.mancomunidadlavega.es/event/talleres-creciendo-en-igualdad-jacarilla-2-2/2024-06-17/
LOCATION:Redován\, Alicante\, España
CATEGORIES:Mujer,Redován
END:VEVENT
BEGIN:VEVENT
DTSTART;TZID=UTC:20240614T180000
DTEND;TZID=UTC:20240614T200000
DTSTAMP:20260423T045822
CREATED:20240604T091638Z
LAST-MODIFIED:20240604T091748Z
UID:59160-1718388000-1718395200@www.mancomunidadlavega.es
SUMMARY:Taller pinta tu camiseta. Redován
DESCRIPTION:Taller pinta tu camiseta. Redován. \nCasa de la Juventud. 14 de junio-18:00h \nLos Pasos-Redován. De 12 a 30 años
URL:https://www.mancomunidadlavega.es/event/taller-pinta-tu-camiseta-redovan/
LOCATION:Redován\, Alicante\, España
CATEGORIES:Jóvenes,Redován
END:VEVENT
BEGIN:VEVENT
DTSTART;TZID=UTC:20240614T080000
DTEND;TZID=UTC:20240614T140000
DTSTAMP:20260423T045822
CREATED:20240227T133333Z
LAST-MODIFIED:20240227T134310Z
UID:58065-1718352000-1718373600@www.mancomunidadlavega.es
SUMMARY:Talleres "Creciendo en Igualdad". Redován
DESCRIPTION:Educando en valores es un conjunto de talleres dirigido a niñas y niños de Mancomunidad la Vega\, con edades comprendidas entre 6 y 9 años\, con el objetivo de trabajar e integrar valores para el desarrollo personal. \n\nAlgorfa: CEIP Miguel de Cervantes\nJacarilla:  CEIP Virgen de Belén\nRedován: CEIP Sagados Corazones\nSan Miguel: CEIP Gloria Fuertes\n\nConsulta toda la programación del 8 de marzo en el siguiente enlace:  https://socy.al/vv0Qrd \n  \n 
URL:https://www.mancomunidadlavega.es/event/talleres-creciendo-en-igualdad-jacarilla-2-2/2024-06-14/
LOCATION:Redován\, Alicante\, España
CATEGORIES:Mujer,Redován
END:VEVENT
BEGIN:VEVENT
DTSTART;TZID=UTC:20240613T080000
DTEND;TZID=UTC:20240613T140000
DTSTAMP:20260423T045822
CREATED:20240227T133333Z
LAST-MODIFIED:20240227T134309Z
UID:58064-1718265600-1718287200@www.mancomunidadlavega.es
SUMMARY:Talleres "Creciendo en Igualdad". Redován
DESCRIPTION:Educando en valores es un conjunto de talleres dirigido a niñas y niños de Mancomunidad la Vega\, con edades comprendidas entre 6 y 9 años\, con el objetivo de trabajar e integrar valores para el desarrollo personal. \n\nAlgorfa: CEIP Miguel de Cervantes\nJacarilla:  CEIP Virgen de Belén\nRedován: CEIP Sagados Corazones\nSan Miguel: CEIP Gloria Fuertes\n\nConsulta toda la programación del 8 de marzo en el siguiente enlace:  https://socy.al/vv0Qrd \n  \n 
URL:https://www.mancomunidadlavega.es/event/talleres-creciendo-en-igualdad-jacarilla-2-2/2024-06-13/
LOCATION:Redován\, Alicante\, España
CATEGORIES:Mujer,Redován
END:VEVENT
BEGIN:VEVENT
DTSTART;TZID=UTC:20240612T080000
DTEND;TZID=UTC:20240612T140000
DTSTAMP:20260423T045822
CREATED:20240227T133333Z
LAST-MODIFIED:20240227T134308Z
UID:58063-1718179200-1718200800@www.mancomunidadlavega.es
SUMMARY:Talleres "Creciendo en Igualdad". Redován
DESCRIPTION:Educando en valores es un conjunto de talleres dirigido a niñas y niños de Mancomunidad la Vega\, con edades comprendidas entre 6 y 9 años\, con el objetivo de trabajar e integrar valores para el desarrollo personal. \n\nAlgorfa: CEIP Miguel de Cervantes\nJacarilla:  CEIP Virgen de Belén\nRedován: CEIP Sagados Corazones\nSan Miguel: CEIP Gloria Fuertes\n\nConsulta toda la programación del 8 de marzo en el siguiente enlace:  https://socy.al/vv0Qrd \n  \n 
URL:https://www.mancomunidadlavega.es/event/talleres-creciendo-en-igualdad-jacarilla-2-2/2024-06-12/
LOCATION:Redován\, Alicante\, España
CATEGORIES:Mujer,Redován
END:VEVENT
BEGIN:VEVENT
DTSTART;TZID=UTC:20240611T080000
DTEND;TZID=UTC:20240611T140000
DTSTAMP:20260423T045822
CREATED:20240227T133333Z
LAST-MODIFIED:20240227T134308Z
UID:58062-1718092800-1718114400@www.mancomunidadlavega.es
SUMMARY:Talleres "Creciendo en Igualdad". Redován
DESCRIPTION:Educando en valores es un conjunto de talleres dirigido a niñas y niños de Mancomunidad la Vega\, con edades comprendidas entre 6 y 9 años\, con el objetivo de trabajar e integrar valores para el desarrollo personal. \n\nAlgorfa: CEIP Miguel de Cervantes\nJacarilla:  CEIP Virgen de Belén\nRedován: CEIP Sagados Corazones\nSan Miguel: CEIP Gloria Fuertes\n\nConsulta toda la programación del 8 de marzo en el siguiente enlace:  https://socy.al/vv0Qrd \n  \n 
URL:https://www.mancomunidadlavega.es/event/talleres-creciendo-en-igualdad-jacarilla-2-2/2024-06-11/
LOCATION:Redován\, Alicante\, España
CATEGORIES:Mujer,Redován
END:VEVENT
BEGIN:VEVENT
DTSTART;TZID=UTC:20240610T080000
DTEND;TZID=UTC:20240610T140000
DTSTAMP:20260423T045822
CREATED:20240227T133333Z
LAST-MODIFIED:20240227T134307Z
UID:58061-1718006400-1718028000@www.mancomunidadlavega.es
SUMMARY:Talleres "Creciendo en Igualdad". Redován
DESCRIPTION:Educando en valores es un conjunto de talleres dirigido a niñas y niños de Mancomunidad la Vega\, con edades comprendidas entre 6 y 9 años\, con el objetivo de trabajar e integrar valores para el desarrollo personal. \n\nAlgorfa: CEIP Miguel de Cervantes\nJacarilla:  CEIP Virgen de Belén\nRedován: CEIP Sagados Corazones\nSan Miguel: CEIP Gloria Fuertes\n\nConsulta toda la programación del 8 de marzo en el siguiente enlace:  https://socy.al/vv0Qrd \n  \n 
URL:https://www.mancomunidadlavega.es/event/talleres-creciendo-en-igualdad-jacarilla-2-2/2024-06-10/
LOCATION:Redován\, Alicante\, España
CATEGORIES:Mujer,Redován
END:VEVENT
BEGIN:VEVENT
DTSTART;TZID=UTC:20240607T180000
DTEND;TZID=UTC:20240607T200000
DTSTAMP:20260423T045822
CREATED:20240604T091157Z
LAST-MODIFIED:20240604T091217Z
UID:59150-1717783200-1717790400@www.mancomunidadlavega.es
SUMMARY:Taller Baile Fitness. Redován
DESCRIPTION:Taller Baile Fitness. Redován. \nCasa de la Juventud. 7 de junio-18:00h \nLos Pasos-Redován. De 12 a 30 años
URL:https://www.mancomunidadlavega.es/event/taller-baile-fitness-redovan/
LOCATION:Redován\, Alicante\, España
CATEGORIES:Jóvenes,Redován
END:VEVENT
BEGIN:VEVENT
DTSTART;TZID=UTC:20240607T080000
DTEND;TZID=UTC:20240607T140000
DTSTAMP:20260423T045822
CREATED:20240227T133333Z
LAST-MODIFIED:20240227T134306Z
UID:58060-1717747200-1717768800@www.mancomunidadlavega.es
SUMMARY:Talleres "Creciendo en Igualdad". Redován
DESCRIPTION:Educando en valores es un conjunto de talleres dirigido a niñas y niños de Mancomunidad la Vega\, con edades comprendidas entre 6 y 9 años\, con el objetivo de trabajar e integrar valores para el desarrollo personal. \n\nAlgorfa: CEIP Miguel de Cervantes\nJacarilla:  CEIP Virgen de Belén\nRedován: CEIP Sagados Corazones\nSan Miguel: CEIP Gloria Fuertes\n\nConsulta toda la programación del 8 de marzo en el siguiente enlace:  https://socy.al/vv0Qrd \n  \n 
URL:https://www.mancomunidadlavega.es/event/talleres-creciendo-en-igualdad-jacarilla-2-2/2024-06-07/
LOCATION:Redován\, Alicante\, España
CATEGORIES:Mujer,Redován
END:VEVENT
BEGIN:VEVENT
DTSTART;TZID=UTC:20240606T080000
DTEND;TZID=UTC:20240606T140000
DTSTAMP:20260423T045822
CREATED:20240227T133333Z
LAST-MODIFIED:20240227T134306Z
UID:58059-1717660800-1717682400@www.mancomunidadlavega.es
SUMMARY:Talleres "Creciendo en Igualdad". Redován
DESCRIPTION:Educando en valores es un conjunto de talleres dirigido a niñas y niños de Mancomunidad la Vega\, con edades comprendidas entre 6 y 9 años\, con el objetivo de trabajar e integrar valores para el desarrollo personal. \n\nAlgorfa: CEIP Miguel de Cervantes\nJacarilla:  CEIP Virgen de Belén\nRedován: CEIP Sagados Corazones\nSan Miguel: CEIP Gloria Fuertes\n\nConsulta toda la programación del 8 de marzo en el siguiente enlace:  https://socy.al/vv0Qrd \n  \n 
URL:https://www.mancomunidadlavega.es/event/talleres-creciendo-en-igualdad-jacarilla-2-2/2024-06-06/
LOCATION:Redován\, Alicante\, España
CATEGORIES:Mujer,Redován
END:VEVENT
BEGIN:VEVENT
DTSTART;TZID=UTC:20240605T080000
DTEND;TZID=UTC:20240605T140000
DTSTAMP:20260423T045822
CREATED:20240227T133333Z
LAST-MODIFIED:20240227T134305Z
UID:58058-1717574400-1717596000@www.mancomunidadlavega.es
SUMMARY:Talleres "Creciendo en Igualdad". Redován
DESCRIPTION:Educando en valores es un conjunto de talleres dirigido a niñas y niños de Mancomunidad la Vega\, con edades comprendidas entre 6 y 9 años\, con el objetivo de trabajar e integrar valores para el desarrollo personal. \n\nAlgorfa: CEIP Miguel de Cervantes\nJacarilla:  CEIP Virgen de Belén\nRedován: CEIP Sagados Corazones\nSan Miguel: CEIP Gloria Fuertes\n\nConsulta toda la programación del 8 de marzo en el siguiente enlace:  https://socy.al/vv0Qrd \n  \n 
URL:https://www.mancomunidadlavega.es/event/talleres-creciendo-en-igualdad-jacarilla-2-2/2024-06-05/
LOCATION:Redován\, Alicante\, España
CATEGORIES:Mujer,Redován
END:VEVENT
BEGIN:VEVENT
DTSTART;TZID=UTC:20240604T080000
DTEND;TZID=UTC:20240604T140000
DTSTAMP:20260423T045822
CREATED:20240227T133333Z
LAST-MODIFIED:20240227T134304Z
UID:58057-1717488000-1717509600@www.mancomunidadlavega.es
SUMMARY:Talleres "Creciendo en Igualdad". Redován
DESCRIPTION:Educando en valores es un conjunto de talleres dirigido a niñas y niños de Mancomunidad la Vega\, con edades comprendidas entre 6 y 9 años\, con el objetivo de trabajar e integrar valores para el desarrollo personal. \n\nAlgorfa: CEIP Miguel de Cervantes\nJacarilla:  CEIP Virgen de Belén\nRedován: CEIP Sagados Corazones\nSan Miguel: CEIP Gloria Fuertes\n\nConsulta toda la programación del 8 de marzo en el siguiente enlace:  https://socy.al/vv0Qrd \n  \n 
URL:https://www.mancomunidadlavega.es/event/talleres-creciendo-en-igualdad-jacarilla-2-2/2024-06-04/
LOCATION:Redován\, Alicante\, España
CATEGORIES:Mujer,Redován
END:VEVENT
BEGIN:VEVENT
DTSTART;TZID=UTC:20240603T080000
DTEND;TZID=UTC:20240603T140000
DTSTAMP:20260423T045822
CREATED:20240227T133333Z
LAST-MODIFIED:20240227T134303Z
UID:58056-1717401600-1717423200@www.mancomunidadlavega.es
SUMMARY:Talleres "Creciendo en Igualdad". Redován
DESCRIPTION:Educando en valores es un conjunto de talleres dirigido a niñas y niños de Mancomunidad la Vega\, con edades comprendidas entre 6 y 9 años\, con el objetivo de trabajar e integrar valores para el desarrollo personal. \n\nAlgorfa: CEIP Miguel de Cervantes\nJacarilla:  CEIP Virgen de Belén\nRedován: CEIP Sagados Corazones\nSan Miguel: CEIP Gloria Fuertes\n\nConsulta toda la programación del 8 de marzo en el siguiente enlace:  https://socy.al/vv0Qrd \n  \n 
URL:https://www.mancomunidadlavega.es/event/talleres-creciendo-en-igualdad-jacarilla-2-2/2024-06-03/
LOCATION:Redován\, Alicante\, España
CATEGORIES:Mujer,Redován
END:VEVENT
BEGIN:VEVENT
DTSTART;TZID=UTC:20240531T180000
DTEND;TZID=UTC:20240531T200000
DTSTAMP:20260423T045822
CREATED:20240604T091352Z
LAST-MODIFIED:20240604T091522Z
UID:59157-1717178400-1717185600@www.mancomunidadlavega.es
SUMMARY:Taller de Fotografía. Redován
DESCRIPTION:Taller de Fotografía. Redován. \nCasa de la Juventud. 31 de mayo-18:00h \nLos Pasos-Redován. De 12 a 30 años
URL:https://www.mancomunidadlavega.es/event/taller-de-fotografia-redovan/
LOCATION:Redován\, Alicante\, España
CATEGORIES:Jóvenes,Redován
END:VEVENT
BEGIN:VEVENT
DTSTART;TZID=UTC:20240531T080000
DTEND;TZID=UTC:20240531T140000
DTSTAMP:20260423T045822
CREATED:20240227T133333Z
LAST-MODIFIED:20240227T134303Z
UID:58055-1717142400-1717164000@www.mancomunidadlavega.es
SUMMARY:Talleres "Creciendo en Igualdad". Redován
DESCRIPTION:Educando en valores es un conjunto de talleres dirigido a niñas y niños de Mancomunidad la Vega\, con edades comprendidas entre 6 y 9 años\, con el objetivo de trabajar e integrar valores para el desarrollo personal. \n\nAlgorfa: CEIP Miguel de Cervantes\nJacarilla:  CEIP Virgen de Belén\nRedován: CEIP Sagados Corazones\nSan Miguel: CEIP Gloria Fuertes\n\nConsulta toda la programación del 8 de marzo en el siguiente enlace:  https://socy.al/vv0Qrd \n  \n 
URL:https://www.mancomunidadlavega.es/event/talleres-creciendo-en-igualdad-jacarilla-2-2/2024-05-31/
LOCATION:Redován\, Alicante\, España
CATEGORIES:Mujer,Redován
END:VEVENT
BEGIN:VEVENT
DTSTART;TZID=UTC:20240530T080000
DTEND;TZID=UTC:20240530T140000
DTSTAMP:20260423T045822
CREATED:20240227T133333Z
LAST-MODIFIED:20240227T134302Z
UID:58054-1717056000-1717077600@www.mancomunidadlavega.es
SUMMARY:Talleres "Creciendo en Igualdad". Redován
DESCRIPTION:Educando en valores es un conjunto de talleres dirigido a niñas y niños de Mancomunidad la Vega\, con edades comprendidas entre 6 y 9 años\, con el objetivo de trabajar e integrar valores para el desarrollo personal. \n\nAlgorfa: CEIP Miguel de Cervantes\nJacarilla:  CEIP Virgen de Belén\nRedován: CEIP Sagados Corazones\nSan Miguel: CEIP Gloria Fuertes\n\nConsulta toda la programación del 8 de marzo en el siguiente enlace:  https://socy.al/vv0Qrd \n  \n 
URL:https://www.mancomunidadlavega.es/event/talleres-creciendo-en-igualdad-jacarilla-2-2/2024-05-30/
LOCATION:Redován\, Alicante\, España
CATEGORIES:Mujer,Redován
END:VEVENT
BEGIN:VEVENT
DTSTART;TZID=UTC:20240529T080000
DTEND;TZID=UTC:20240529T140000
DTSTAMP:20260423T045822
CREATED:20240227T133333Z
LAST-MODIFIED:20240227T134301Z
UID:58053-1716969600-1716991200@www.mancomunidadlavega.es
SUMMARY:Talleres "Creciendo en Igualdad". Redován
DESCRIPTION:Educando en valores es un conjunto de talleres dirigido a niñas y niños de Mancomunidad la Vega\, con edades comprendidas entre 6 y 9 años\, con el objetivo de trabajar e integrar valores para el desarrollo personal. \n\nAlgorfa: CEIP Miguel de Cervantes\nJacarilla:  CEIP Virgen de Belén\nRedován: CEIP Sagados Corazones\nSan Miguel: CEIP Gloria Fuertes\n\nConsulta toda la programación del 8 de marzo en el siguiente enlace:  https://socy.al/vv0Qrd \n  \n 
URL:https://www.mancomunidadlavega.es/event/talleres-creciendo-en-igualdad-jacarilla-2-2/2024-05-29/
LOCATION:Redován\, Alicante\, España
CATEGORIES:Mujer,Redován
END:VEVENT
BEGIN:VEVENT
DTSTART;TZID=UTC:20240528T080000
DTEND;TZID=UTC:20240528T140000
DTSTAMP:20260423T045822
CREATED:20240227T133333Z
LAST-MODIFIED:20240227T134300Z
UID:58052-1716883200-1716904800@www.mancomunidadlavega.es
SUMMARY:Talleres "Creciendo en Igualdad". Redován
DESCRIPTION:Educando en valores es un conjunto de talleres dirigido a niñas y niños de Mancomunidad la Vega\, con edades comprendidas entre 6 y 9 años\, con el objetivo de trabajar e integrar valores para el desarrollo personal. \n\nAlgorfa: CEIP Miguel de Cervantes\nJacarilla:  CEIP Virgen de Belén\nRedován: CEIP Sagados Corazones\nSan Miguel: CEIP Gloria Fuertes\n\nConsulta toda la programación del 8 de marzo en el siguiente enlace:  https://socy.al/vv0Qrd \n  \n 
URL:https://www.mancomunidadlavega.es/event/talleres-creciendo-en-igualdad-jacarilla-2-2/2024-05-28/
LOCATION:Redován\, Alicante\, España
CATEGORIES:Mujer,Redován
END:VEVENT
BEGIN:VEVENT
DTSTART;TZID=UTC:20240527T113000
DTEND;TZID=UTC:20240527T130000
DTSTAMP:20260423T045822
CREATED:20250521T121036Z
LAST-MODIFIED:20250521T122643Z
UID:63430-1716809400-1716814800@www.mancomunidadlavega.es
SUMMARY:Taller renta valenciana de inclusión. Redován
DESCRIPTION:Taller renta valenciana de inclusión \n\n¿Qué es? ¿A qué tipo puedo acceder? Qué documentación necesito?\n\nLa renta valenciana de inclusión es una herramienta para garantizar la calidad de vida de la ciudadanía desde la igualdad de oportunidades\, el apoyo a las familias\, los derechos de la infancia y con perspectiva de género. Un derecho tanto a una prestación económica como a un proceso de inclusión social y laboral. \nResponderemos a estas preguntas y otras más en los talleres. \nRedován: 27 de mayo 2025\, 11:30h. Centro Social 3ª Edad. \n  \n 
URL:https://www.mancomunidadlavega.es/event/taller-renta-valenciana-de-inclusion-redovan-4/
LOCATION:Redován\, Alicante\, España
CATEGORIES:Infancia y Familia,Redován
END:VEVENT
BEGIN:VEVENT
DTSTART;TZID=UTC:20240527T080000
DTEND;TZID=UTC:20240527T140000
DTSTAMP:20260423T045822
CREATED:20240227T133333Z
LAST-MODIFIED:20240227T134300Z
UID:58051-1716796800-1716818400@www.mancomunidadlavega.es
SUMMARY:Talleres "Creciendo en Igualdad". Redován
DESCRIPTION:Educando en valores es un conjunto de talleres dirigido a niñas y niños de Mancomunidad la Vega\, con edades comprendidas entre 6 y 9 años\, con el objetivo de trabajar e integrar valores para el desarrollo personal. \n\nAlgorfa: CEIP Miguel de Cervantes\nJacarilla:  CEIP Virgen de Belén\nRedován: CEIP Sagados Corazones\nSan Miguel: CEIP Gloria Fuertes\n\nConsulta toda la programación del 8 de marzo en el siguiente enlace:  https://socy.al/vv0Qrd \n  \n 
URL:https://www.mancomunidadlavega.es/event/talleres-creciendo-en-igualdad-jacarilla-2-2/2024-05-27/
LOCATION:Redován\, Alicante\, España
CATEGORIES:Mujer,Redován
END:VEVENT
BEGIN:VEVENT
DTSTART;TZID=UTC:20240524T080000
DTEND;TZID=UTC:20240524T140000
DTSTAMP:20260423T045822
CREATED:20240227T133333Z
LAST-MODIFIED:20240227T134259Z
UID:58050-1716537600-1716559200@www.mancomunidadlavega.es
SUMMARY:Talleres "Creciendo en Igualdad". Redován
DESCRIPTION:Educando en valores es un conjunto de talleres dirigido a niñas y niños de Mancomunidad la Vega\, con edades comprendidas entre 6 y 9 años\, con el objetivo de trabajar e integrar valores para el desarrollo personal. \n\nAlgorfa: CEIP Miguel de Cervantes\nJacarilla:  CEIP Virgen de Belén\nRedován: CEIP Sagados Corazones\nSan Miguel: CEIP Gloria Fuertes\n\nConsulta toda la programación del 8 de marzo en el siguiente enlace:  https://socy.al/vv0Qrd \n  \n 
URL:https://www.mancomunidadlavega.es/event/talleres-creciendo-en-igualdad-jacarilla-2-2/2024-05-24/
LOCATION:Redován\, Alicante\, España
CATEGORIES:Mujer,Redován
END:VEVENT
BEGIN:VEVENT
DTSTART;TZID=UTC:20240523T080000
DTEND;TZID=UTC:20240523T140000
DTSTAMP:20260423T045822
CREATED:20240227T133333Z
LAST-MODIFIED:20240227T134258Z
UID:58049-1716451200-1716472800@www.mancomunidadlavega.es
SUMMARY:Talleres "Creciendo en Igualdad". Redován
DESCRIPTION:Educando en valores es un conjunto de talleres dirigido a niñas y niños de Mancomunidad la Vega\, con edades comprendidas entre 6 y 9 años\, con el objetivo de trabajar e integrar valores para el desarrollo personal. \n\nAlgorfa: CEIP Miguel de Cervantes\nJacarilla:  CEIP Virgen de Belén\nRedován: CEIP Sagados Corazones\nSan Miguel: CEIP Gloria Fuertes\n\nConsulta toda la programación del 8 de marzo en el siguiente enlace:  https://socy.al/vv0Qrd \n  \n 
URL:https://www.mancomunidadlavega.es/event/talleres-creciendo-en-igualdad-jacarilla-2-2/2024-05-23/
LOCATION:Redován\, Alicante\, España
CATEGORIES:Mujer,Redován
END:VEVENT
END:VCALENDAR