BEGIN:VCALENDAR
VERSION:2.0
PRODID:-//Mancomunidad la vega - ECPv6.11.2//NONSGML v1.0//EN
CALSCALE:GREGORIAN
METHOD:PUBLISH
X-WR-CALNAME:Mancomunidad la vega
X-ORIGINAL-URL:https://www.mancomunidadlavega.es
X-WR-CALDESC:Eventos para Mancomunidad la vega
REFRESH-INTERVAL;VALUE=DURATION:PT1H
X-Robots-Tag:noindex
X-PUBLISHED-TTL:PT1H
BEGIN:VTIMEZONE
TZID:UTC
BEGIN:STANDARD
TZOFFSETFROM:+0000
TZOFFSETTO:+0000
TZNAME:UTC
DTSTART:20250101T000000
END:STANDARD
END:VTIMEZONE
BEGIN:VEVENT
DTSTART;TZID=UTC:20250930T183000
DTEND;TZID=UTC:20260930T200000
DTSTAMP:20260422T214817
CREATED:20251002T133231Z
LAST-MODIFIED:20260304T072421Z
UID:64331-1759257000-1790798400@www.mancomunidadlavega.es
SUMMARY:Circulo de cuidados. Algorfa
DESCRIPTION:Círculo de Cuidados de Mancomunidad la Vega. \n\nUn espacio dedicado a las personas que cuidan de familiares en situación de dependencia\, un lugar para compartir\, para apoyarse y para el autocuidado.\n\n\n¿Qué es?\nUn grupo de apoyo para personas cuidadoras\, guiado por profesionales\, donde podrás aprender nuevas habilidades y a cuidar de tu bienestar emocional.\n\n\nPróximas reuniones en cada municipio:\n\nJacarilla: lunes 29 de septiembre de 17 a 18\,30 horas en el Salón de Actos.\nAlgorfa: martes 30 de septiembre de 18\,30 a 20\,00 horas en Servicios Sociales.\nSan Miguel de Salinas: martes 14 de octubre de 16\,30 a 18\,00 horas en Servicios Sociales\nRedován: Miércoles 15 deoctubre de 16\,30 a 18 horas en el Centro Social.\n\ny muchos más… Consulta fechas y horarios en tu Servicios Sociales.\n\n\nUn espacio para diálogo\, para el intercambio de experiencias y para el bienestar mutuo. Porque para cuidar a otros necesitas cuidar de ti.\n\n\nPara más info o inscripciones\, llama a Alba 658757284 o pregunta en Servicios Sociales de tu municipio.
URL:https://www.mancomunidadlavega.es/event/circulo-de-cuidados-algorfa-3/
LOCATION:Algorfa
CATEGORIES:Algorfa,Mayores,San Miguel de Salinas
ATTACH;FMTTYPE=image/png:https://www.mancomunidadlavega.es/wp-content/uploads/2025/10/circulocuidados.png
END:VEVENT
BEGIN:VEVENT
DTSTART;TZID=UTC:20251013T110000
DTEND;TZID=UTC:20251013T123000
DTSTAMP:20260422T214817
CREATED:20251021T071031Z
LAST-MODIFIED:20251021T071948Z
UID:64885-1760353200-1760358600@www.mancomunidadlavega.es
SUMMARY:Escuela de Mayores. Algorfa
DESCRIPTION: A través del Programa CALIDAD DE VIDA se ponen en marcha diversas actividades cuya finalidad es mantener activos tanto física como mentalmente a las personas mayores\, contribuyendo así a prevenir situaciones propias del proceso de envejecimiento como el aislamiento\, la perdida de autonomía personal y social\, el deterioro físico y cognitivo\,… Los talleres para el año 2022/2023 son: ESCUELA DE MAYORES Y ACTIVIDAD FÍSICA. \nEn Algorfa la actividad será los lunes. \n\nInicio actividad: A partir de octubre de 2025\nDuración: Octubre-2025 a Junio 2026\nHorario: 11:00h a 12\,30h\nPrecio: Gratuito\nEste programa se lleva a cabo con el apoyo del area de Bienestar Social de la Diputación Provincial. +Info. escuela-mayores
URL:https://www.mancomunidadlavega.es/event/escuela-de-mayores-algorfa-5/2025-10-13/
LOCATION:Centro Social de la Tercera Edad. Redován\, C/ Juan XXIII\, s/n\, Redován\, Alicante\, 03370\, España
CATEGORIES:Algorfa,Mayores
ATTACH;FMTTYPE=image/jpeg:https://www.mancomunidadlavega.es/wp-content/uploads/2021/09/banner-escuelamayores.jpg
GEO:38.1142082;-0.9076136
X-APPLE-STRUCTURED-LOCATION;VALUE=URI;X-ADDRESS=Centro Social de la Tercera Edad. Redován C/ Juan XXIII s/n Redován Alicante 03370 España;X-APPLE-RADIUS=500;X-TITLE=C/ Juan XXIII\, s/n:geo:-0.9076136,38.1142082
END:VEVENT
BEGIN:VEVENT
DTSTART;TZID=UTC:20251013T160000
DTEND;TZID=UTC:20251013T170000
DTSTAMP:20260422T214817
CREATED:20251002T113302Z
LAST-MODIFIED:20251120T110548Z
UID:64317-1760371200-1760374800@www.mancomunidadlavega.es
SUMMARY:Mindfulness. Redován
DESCRIPTION:Mindfulness \n\nLa Mancomunidad la Vega organiza talleres de Mindfulness gratuitos para mayores en los cuatro municipios. Ven a relajarte\, aprender técnicas para el bienestar y compartir un rato agradable.\n\n\n\n Redován:\n\n13 de octubre\, Centro Social 3ª Edad\, 16:00 a 17:00h\nTeléfono inscripción: 658 796 510\n\n\n\n Jacarilla:\n\n3 de octubre\, Centro Social\, Salón de Actos\, 16:00 a 17:00h\nTeléfono inscripción: 658 796 510\n\n\n\n San Miguel de Salinas:\n\n17 de octubre\, Centro Social (1ª Planta)\, 16:00 a 17:00h\nTeléfono inscripción: 658 796 467\n\n\n\nAlgorfa:\n\n20 de octubre\, Centro 3ª Edad\, 16:00 a 17:00h\nTeléfono inscripción: 658 796 467\n\n\nPara participar\, solo tienes que llamar o inscribirte en Servicios Sociales de tu pueblo.\n\nSerá el 14 de octubre a las 9:30 en el Centro Social Tercera Edad.
URL:https://www.mancomunidadlavega.es/event/mindfulness-redovan-2/
LOCATION:Redován\, Alicante\, España
CATEGORIES:Mayores,Redován
ATTACH;FMTTYPE=image/png:https://www.mancomunidadlavega.es/wp-content/uploads/2025/10/mindfulness.png
END:VEVENT
BEGIN:VEVENT
DTSTART;TZID=UTC:20251014T093000
DTEND;TZID=UTC:20251014T110000
DTSTAMP:20260422T214817
CREATED:20250925T091846Z
LAST-MODIFIED:20251120T110648Z
UID:64199-1760434200-1760439600@www.mancomunidadlavega.es
SUMMARY:El arte de reir. Algorfa
DESCRIPTION:Taller de Risoterapia: El arte de reir \nA través del programa Actívate\, en colaboración con Columbares\, se van a llevar a cabo talleres de risoterapia » El arte de reir» en los municipios de la mancomunidad. Se trata de una propuesta centrada en el bienestar emocional de las personas mayores. La actividad\, dinámica y vivencial\, busca fomentar el cuidado personal a través del humor\, el juego y la conexión con otras personas. \nSerá el 14 de octubre a las 9:30 en el Centro Social Tercera Edad.
URL:https://www.mancomunidadlavega.es/event/el-arte-de-reir-algorfa/
LOCATION:Algorfa
CATEGORIES:Algorfa,Diversidad Funcional,Mayores
ATTACH;FMTTYPE=image/png:https://www.mancomunidadlavega.es/wp-content/uploads/2025/09/captura-de-pantalla-2025-09-26-a-las-10.34.22.png
END:VEVENT
BEGIN:VEVENT
DTSTART;TZID=UTC:20251015T093000
DTEND;TZID=UTC:20251015T110000
DTSTAMP:20260422T214817
CREATED:20250925T092410Z
LAST-MODIFIED:20251120T110624Z
UID:64204-1760520600-1760526000@www.mancomunidadlavega.es
SUMMARY:El arte de reir. Jacarilla
DESCRIPTION:Taller de Risoterapia: El arte de reir \nA través del programa Actívate\, en colaboración con Columbares\, se van a llevar a cabo talleres de risoterapia » El arte de reir» en los municipios de la mancomunidad. Se trata de una propuesta centrada en el bienestar emocional de las personas mayores. La actividad\, dinámica y vivencial\, busca fomentar el cuidado personal a través del humor\, el juego y la conexión con otras personas.\nSerá el 15 de octubre a las 9:30 en el Centro Social Tercera Edad.
URL:https://www.mancomunidadlavega.es/event/el-arte-de-reir-jacarilla/
LOCATION:Jacarilla
CATEGORIES:Diversidad Funcional,Jacarilla,Mayores
ATTACH;FMTTYPE=image/png:https://www.mancomunidadlavega.es/wp-content/uploads/2025/09/captura-de-pantalla-2025-09-26-a-las-10.34.22.png
GEO:38.1142082;-0.9076136
END:VEVENT
BEGIN:VEVENT
DTSTART;TZID=UTC:20251016T093000
DTEND;TZID=UTC:20251016T110000
DTSTAMP:20260422T214817
CREATED:20250925T093624Z
LAST-MODIFIED:20251120T110718Z
UID:64207-1760607000-1760612400@www.mancomunidadlavega.es
SUMMARY:El arte de reir. Redován
DESCRIPTION:Taller de Risoterapia: El arte de reir \nA través del programa Actívate\, en colaboración con Columbares\, se van a llevar a cabo talleres de risoterapia » El arte de reir» en los municipios de la mancomunidad. Se trata de una propuesta centrada en el bienestar emocional de las personas mayores. La actividad\, dinámica y vivencial\, busca fomentar el cuidado personal a través del humor\, el juego y la conexión con otras personas. \nSerá el 16 de octubre a las 9:30 en el Centro Social Tercera Edad.
URL:https://www.mancomunidadlavega.es/event/el-arte-de-reir-redovan/
LOCATION:Redován\, Alicante\, España
CATEGORIES:Mayores,Redován
ATTACH;FMTTYPE=image/png:https://www.mancomunidadlavega.es/wp-content/uploads/2025/09/captura-de-pantalla-2025-09-26-a-las-10.34.22.png
END:VEVENT
BEGIN:VEVENT
DTSTART;TZID=UTC:20251017T160000
DTEND;TZID=UTC:20251017T160000
DTSTAMP:20260422T214817
CREATED:20250925T094720Z
LAST-MODIFIED:20251120T110818Z
UID:64213-1760716800-1760716800@www.mancomunidadlavega.es
SUMMARY:El arte de reir. San Miguel
DESCRIPTION:Taller de Risoterapia: El arte de reir \nA través del programa Actívate\, en colaboración con Columbares\, se van a llevar a cabo talleres de risoterapia » El arte de reir» en los municipios de la mancomunidad. Se trata de una propuesta centrada en el bienestar emocional de las personas mayores. La actividad\, dinámica y vivencial\, busca fomentar el cuidado personal a través del humor\, el juego y la conexión con otras personas. \nSerá el 13 de octubre a las 9:30 en el Centro Social Primera Planta.
URL:https://www.mancomunidadlavega.es/event/el-arte-de-reir-san-miguel/
LOCATION:San Miguel de Salinas\, San Miguel de Salinas\, Alicante\, 03370\, España
CATEGORIES:Diversidad Funcional,Mayores,San Miguel de Salinas
ATTACH;FMTTYPE=image/png:https://www.mancomunidadlavega.es/wp-content/uploads/2025/09/captura-de-pantalla-2025-09-26-a-las-10.34.22.png
GEO:38.3671062;-0.4796285
END:VEVENT
BEGIN:VEVENT
DTSTART;TZID=UTC:20251017T160000
DTEND;TZID=UTC:20251017T170000
DTSTAMP:20260422T214817
CREATED:20251002T121543Z
LAST-MODIFIED:20251120T110748Z
UID:64328-1760716800-1760720400@www.mancomunidadlavega.es
SUMMARY:Mindfulness. San Miguel
DESCRIPTION:Mindfulness \n\nLa Mancomunidad la Vega organiza talleres de Mindfulness gratuitos para mayores en los cuatro municipios. Ven a relajarte\, aprender técnicas para el bienestar y compartir un rato agradable.\n\n\n\n Redován:\n\n13 de octubre\, Centro Social 3ª Edad\, 16:00 a 17:00h\nTeléfono inscripción: 658 796 510\n\n\n\n Jacarilla:\n\n3 de octubre\, Centro Social\, Salón de Actos\, 16:00 a 17:00h\nTeléfono inscripción: 658 796 510\n\n\n\n San Miguel de Salinas:\n\n17 de octubre\, Centro Social (1ª Planta)\, 16:00 a 17:00h\nTeléfono inscripción: 658 796 467\n\n\n\nAlgorfa:\n\n20 de octubre\, Centro 3ª Edad\, 16:00 a 17:00h\nTeléfono inscripción: 658 796 467\n\n\nPara participar\, solo tienes que llamar o inscribirte en Servicios Sociales de tu pueblo.\n\nSerá el 14 de octubre a las 9:30 en el Centro Social Tercera Edad.
URL:https://www.mancomunidadlavega.es/event/mindfulness-san-miguel/
LOCATION:Redován\, Alicante\, España
CATEGORIES:Mayores,San Miguel de Salinas
ATTACH;FMTTYPE=image/png:https://www.mancomunidadlavega.es/wp-content/uploads/2025/10/mindfulness.png
END:VEVENT
END:VCALENDAR