BEGIN:VCALENDAR
VERSION:2.0
PRODID:-//Mancomunidad la vega - ECPv6.11.2//NONSGML v1.0//EN
CALSCALE:GREGORIAN
METHOD:PUBLISH
X-WR-CALNAME:Mancomunidad la vega
X-ORIGINAL-URL:https://www.mancomunidadlavega.es
X-WR-CALDESC:Eventos para Mancomunidad la vega
REFRESH-INTERVAL;VALUE=DURATION:PT1H
X-Robots-Tag:noindex
X-PUBLISHED-TTL:PT1H
BEGIN:VTIMEZONE
TZID:UTC
BEGIN:STANDARD
TZOFFSETFROM:+0000
TZOFFSETTO:+0000
TZNAME:UTC
DTSTART:20190101T000000
END:STANDARD
END:VTIMEZONE
BEGIN:VEVENT
DTSTART;TZID=UTC:20190305T080000
DTEND;TZID=UTC:20190305T170000
DTSTAMP:20260420T080959
CREATED:20190314T115942Z
LAST-MODIFIED:20190314T115958Z
UID:24823-1551772800-1551805200@www.mancomunidadlavega.es
SUMMARY:Taller adolescentes y apuestas. Redován
DESCRIPTION:PREVENCIÓN DE JUEGO DE APUESTAS EN POBLACION ADOLESCENTE. \nPROGRAMA APUESTA POR TI \nAcción desarrollada por la Diputación de Alicante en colaboración con FUNDACION AEPA\, a través de la Mancomunidad La Vega. \nEl programa APUESTA POR TI surge ante la alarmante situación detectada desde la Fundación AEPA a través de sus recursos de prevención y tratamiento respecto al incremento exponencial del juego patológico en adolescentes de edades comprendidas entre los 14 y 20 años. Estos jóvenes presentan conductas de juego especialmente a juego on-line y apuestas deportivas y en algunos de ellos se detectan criterios de abuso y dependencia a la conducta problema. \n  \nObjetivos: \n– Sensibilizar y dar información de los riesgos y factores de prevención de los problemas de adicción a las tecnologías. \n– Cambiar creencias y mitos que favorecen el inicio y manteamiento de conductas de juego y apuestas en la población joven. \n– Fomentar conductas saludables y positivas para prevenir la aparición de problemas con el juego de azar. \n  \nSe han realizado 3 sesiones con el alumnado de 4º y 1ºBACH del IES Jaime de Sant-Ángel del Municipio de Redován. \n  \n\nSesión 1: El juego y la adicción al juego.\nSesión 2: El juego y la publicidad\nSesión 3: El juego\, orientaciones y tratamiento\n\n  \nEl programa fue impartido por especialistas en conductas adictivas que aplicaron dinámicas de aprendizaje colaborativo para el cambio de actitudes y adquisición de habilidades protectoras ante el juego patológico. \n1\, 5 y 11 de marzo. Dirigido a alumos de la ESO Y 1º BACH.
URL:https://www.mancomunidadlavega.es/event/taller-adolescentes-y-apuestas-redovan-2/
LOCATION:Alicante
CATEGORIES:Jóvenes,Redován
END:VEVENT
END:VCALENDAR