BEGIN:VCALENDAR
VERSION:2.0
PRODID:-//Mancomunidad la vega - ECPv6.11.2//NONSGML v1.0//EN
CALSCALE:GREGORIAN
METHOD:PUBLISH
X-WR-CALNAME:Mancomunidad la vega
X-ORIGINAL-URL:https://www.mancomunidadlavega.es
X-WR-CALDESC:Eventos para Mancomunidad la vega
REFRESH-INTERVAL;VALUE=DURATION:PT1H
X-Robots-Tag:noindex
X-PUBLISHED-TTL:PT1H
BEGIN:VTIMEZONE
TZID:UTC
BEGIN:STANDARD
TZOFFSETFROM:+0000
TZOFFSETTO:+0000
TZNAME:UTC
DTSTART:20170101T000000
END:STANDARD
END:VTIMEZONE
BEGIN:VEVENT
DTSTART;TZID=UTC:20171030T163000
DTEND;TZID=UTC:20171030T173000
DTSTAMP:20260421T004029
CREATED:20171012T085145Z
LAST-MODIFIED:20200312T085648Z
UID:29095-1509381000-1509384600@www.mancomunidadlavega.es
SUMMARY:Campaña de sensibilización y voluntariado. "Alzheimer". Jacarilla
DESCRIPTION:
URL:https://www.mancomunidadlavega.es/event/campana-de-sensibilizacion-y-voluntariado-alzheimer-jacarilla/
LOCATION:Salón de actos del Centro Social Jacarilla
CATEGORIES:Jacarilla,Mayores
END:VEVENT
BEGIN:VEVENT
DTSTART;TZID=UTC:20171030T183000
DTEND;TZID=UTC:20171030T183000
DTSTAMP:20260421T004029
CREATED:20171015T085238Z
LAST-MODIFIED:20200312T085539Z
UID:29098-1509388200-1509388200@www.mancomunidadlavega.es
SUMMARY:Campaña de sensibilización y voluntariado. "Alzheimer". San Miguel
DESCRIPTION:
URL:https://www.mancomunidadlavega.es/event/campana-de-sensibilizacion-y-voluntariado-alzheimer-jacarilla-2/
LOCATION:Servicios Sociales. San Miguel De Salinas
CATEGORIES:Mayores,Redován
END:VEVENT
END:VCALENDAR