BEGIN:VCALENDAR
VERSION:2.0
PRODID:-//Mancomunidad la vega - ECPv6.11.2//NONSGML v1.0//EN
CALSCALE:GREGORIAN
METHOD:PUBLISH
X-WR-CALNAME:Mancomunidad la vega
X-ORIGINAL-URL:https://www.mancomunidadlavega.es
X-WR-CALDESC:Eventos para Mancomunidad la vega
REFRESH-INTERVAL;VALUE=DURATION:PT1H
X-Robots-Tag:noindex
X-PUBLISHED-TTL:PT1H
BEGIN:VTIMEZONE
TZID:UTC
BEGIN:STANDARD
TZOFFSETFROM:+0000
TZOFFSETTO:+0000
TZNAME:UTC
DTSTART:20190101T000000
END:STANDARD
END:VTIMEZONE
BEGIN:VEVENT
DTSTART;TZID=UTC:20190514T180000
DTEND;TZID=UTC:20190514T200000
DTSTAMP:20260421T031938
CREATED:20190513T115027Z
LAST-MODIFIED:20190514T111501Z
UID:25588-1557856800-1557864000@www.mancomunidadlavega.es
SUMMARY:III Encuentro familias acogedoras
DESCRIPTION:III Encuentro familias acogedoras de la Mancomunidad la Vega. \nEl martes 14 de mayo se celebrará en el municipio de San Miguel de Salinas\, el III Encuentro de Familias acogedoras MLV. \nVolveremos a contar con la presencia de todas estas familias así como con diferentes profesionales del Equipo Específico de Intervención con Infancia y Adolescencia (EEIIA)\, donde trataremos aspectos importantes para ellas que les faciliten su tarea como acogedor/a y favorezca un desarrollo optimo del propio acogimiento. \nEsta propuesta sigue formando parte del acompañamiento y asesoramiento a cada una de las familias acogedoras de nuestros cuatro municipios. Para ello seguimos haciendo hincapié en la importancia de fomentar un espacio cálido y cercano para cada una de ellas\, donde se sientan cómodas para compartir experiencias\, y apoyarse las unas a las otras desde una misma perspectiva\, LA PROPIA VIVENCIA.
URL:https://www.mancomunidadlavega.es/event/iii-encuentro-familias-acogedoras/
LOCATION:Centro Social Algorfa\, Centro Social. Plaza de España\, sn\, Algorfa\, Alicante\, 03169\, España
CATEGORIES:Infancia y Familia,San Miguel de Salinas
GEO:38.0659364;-0.7789426
X-APPLE-STRUCTURED-LOCATION;VALUE=URI;X-ADDRESS=Centro Social Algorfa Centro Social. Plaza de España sn Algorfa Alicante 03169 España;X-APPLE-RADIUS=500;X-TITLE=Centro Social. Plaza de España\, sn:geo:-0.7789426,38.0659364
END:VEVENT
BEGIN:VEVENT
DTSTART;TZID=UTC:20190515T080000
DTEND;TZID=UTC:20190515T233000
DTSTAMP:20260421T031938
CREATED:20190514T120220Z
LAST-MODIFIED:20190514T120343Z
UID:25597-1557907200-1557963000@www.mancomunidadlavega.es
SUMMARY:15 de mayo. Día de la familia
DESCRIPTION:https://www.mancomunidadlavega.es/wp-content/uploads/2019/05/15_de_mayo_d_a_de_la_familia.mp4\nDÍA INTERNACIONAL DE LAS FAMILIAS 15 DE MAYO DE 2019. \n El Día Internacional de las Familias se celebra el 15 de mayo de cada año desde 1994. Esta fecha fue proclamada en 1993 por la Asamblea General de las Naciones Unidas (A/RES/47/237) haciéndose eco de la importancia que la comunidad internacional otorga a la familia. El Día Internacional de las Familias es una ocasión propicia para promover la concienciación y un mejor conocimiento de los procesos sociales\, económicos y demográficos que afectan a este importante núcleo de la sociedad. \n  \nPara el año 2019 Naciones Unidas ha propuesto el lema: Familias y Acción por el Clima\, vinculado al Objetivo de Desarrollo Sostenible 13\, a fin de resaltar que las familias desempeñan un papel importante en la mejora de la educación\, la sensibilización y la capacidad humana e institucional para la mitigación del cambio climático\, la adaptación\, la reducción del impacto y la alerta temprana. \n  \n(Lea más sobre la celebración de este año en la Nota de contexto del Día Internacional de las Familias 2019 ) \n  \nHaciendo eco de la importancia que la comunidad internacional le otorga a la familia\, desde la Mancomunidad La Vega (MLV)\, aprovechamos también este día para mostrar nuestra preocupación y compromiso con la atención a las necesidades y demandas de LAS FAMILIAS. \n  \nLa Mancomunidad “La Vega” cuenta con diversos servicios\, prestaciones y programas cuya finalidad es dar respuesta a cualquier demanda o problema que puedan presentar nuestras familias\, sean estas de tipo económico\, social\, relacional\, jurídico\,..\, entre los que destacamos: \n \n\nEquipo Específico de Intervención con Infancia y Adolescencia (EEIIA).\nPrograma de Ayudas Económicas (renta valenciana de inclusión social\, por acogimiento familiar\, emergencia social…)\nEscuela de Familia. Promoción de la Parentalidad Positiva.\nProgramas de Conciliación de vida familiar y laboral y de Respiro Familiar. VegaVAcaciones\,…\nServicio de Asesoría Jurídica.\nServicio de Ayuda a Domicilio.\nTeleasistencia Domiciliaria.\nAtención a la Dependencia.\n\n  \nMás información y acceso a estos recursos en las oficinas de Servicios Sociales Municipales y en nuestra web: www.mancomunidadlavega.es \n  \n  \n  \n 
URL:https://www.mancomunidadlavega.es/event/15-de-mayo-dia-de-la-familia/
LOCATION:Alicante
CATEGORIES:Algorfa,Infancia y Familia,Jacarilla,Redován,San Miguel de Salinas
END:VEVENT
END:VCALENDAR