BEGIN:VCALENDAR
VERSION:2.0
PRODID:-//Mancomunidad la vega - ECPv6.11.2//NONSGML v1.0//EN
CALSCALE:GREGORIAN
METHOD:PUBLISH
X-WR-CALNAME:Mancomunidad la vega
X-ORIGINAL-URL:https://www.mancomunidadlavega.es
X-WR-CALDESC:Eventos para Mancomunidad la vega
REFRESH-INTERVAL;VALUE=DURATION:PT1H
X-Robots-Tag:noindex
X-PUBLISHED-TTL:PT1H
BEGIN:VTIMEZONE
TZID:UTC
BEGIN:STANDARD
TZOFFSETFROM:+0000
TZOFFSETTO:+0000
TZNAME:UTC
DTSTART:20180101T000000
END:STANDARD
END:VTIMEZONE
BEGIN:VEVENT
DTSTART;TZID=UTC:20181113T173000
DTEND;TZID=UTC:20181113T193000
DTSTAMP:20260421T154942
CREATED:20181106T134049Z
LAST-MODIFIED:20181107T082106Z
UID:23915-1542130200-1542137400@www.mancomunidadlavega.es
SUMMARY:II Encuentro familias acogedoras
DESCRIPTION:II Encuentro familias acogedoras de la Mancomunidad la Vega. 13 de noviembre en el Centro Social de Algorfa. \nTras el éxito y buena acogida del I Encuentro de Familias Acogedoras de Mancomunidad la Vega\, el pasado 29 de mayo de 2018 en Redovan\, el próximo martes 13 de noviembre se celebrará en el municipio de Algorfa\, el II Encuentro de Familias acogedoras MLV. \nVolveremos a contar con la presencia de todas estas familias así como con diferentes profesionales del Equipo Específico de Intervención con Infancia y Adolescencia (EEIIA)\, donde trataremos aspectos importantes para ellas que les faciliten su tarea como acogedor/a y favorezca un desarrollo optimo del propio acogimiento. \nEsta propuesta sigue formando parte del acompañamiento y asesoramiento a cada una de las familias acogedoras de nuestros cuatro municipios. Para ello seguimos haciendo hincapié en la importancia de fomentar un espacio cálido y cercano para cada una de ellas\, donde se sientan cómodas para compartir experiencias\, y apoyarse las unas a las otras desde una misma perspectiva\, LA PROPIA VIVENCIA.
URL:https://www.mancomunidadlavega.es/event/ii-encuentro-familias-acogedoras/
LOCATION:Centro Social Algorfa\, Centro Social. Plaza de España\, sn\, Algorfa\, Alicante\, 03169\, España
CATEGORIES:Algorfa,Infancia y Familia
GEO:38.0659364;-0.7789426
X-APPLE-STRUCTURED-LOCATION;VALUE=URI;X-ADDRESS=Centro Social Algorfa Centro Social. Plaza de España sn Algorfa Alicante 03169 España;X-APPLE-RADIUS=500;X-TITLE=Centro Social. Plaza de España\, sn:geo:-0.7789426,38.0659364
END:VEVENT
END:VCALENDAR