BEGIN:VCALENDAR
VERSION:2.0
PRODID:-//Mancomunidad la vega - ECPv6.11.2//NONSGML v1.0//EN
CALSCALE:GREGORIAN
METHOD:PUBLISH
X-ORIGINAL-URL:https://www.mancomunidadlavega.es
X-WR-CALDESC:Eventos para Mancomunidad la vega
REFRESH-INTERVAL;VALUE=DURATION:PT1H
X-Robots-Tag:noindex
X-PUBLISHED-TTL:PT1H
BEGIN:VTIMEZONE
TZID:UTC
BEGIN:STANDARD
TZOFFSETFROM:+0000
TZOFFSETTO:+0000
TZNAME:UTC
DTSTART:20220101T000000
END:STANDARD
END:VTIMEZONE
BEGIN:VEVENT
DTSTART;TZID=UTC:20220615T100000
DTEND;TZID=UTC:20220615T110000
DTSTAMP:20260420T062921
CREATED:20220531T111948Z
LAST-MODIFIED:20220531T111948Z
UID:40130-1655287200-1655290800@www.mancomunidadlavega.es
SUMMARY:Taller Mi móvil y yo. San Miguel
DESCRIPTION:Taller práctico en el que acercamos las nuevas tecnologías a las personas mayores. \nContenido: \n¿Cómo utilizar el Smartphone? \n\nBeneficios y utilidad.\nManejo Básico: Encender apagar\, batería tarjetas y carga.\nMultimedia: Fotos\, vídeos…\nAcceso a Internet y configuración del correo.\nInstalación y uso del WhatsApp y Zoom (mensajería y videollamada).\n\n+ Info. e inscripciones: https://www.mancomunidadlavega.es/tramites/mimovilyyo/ \n  \n 
URL:https://www.mancomunidadlavega.es/event/tecnologiasmayores/
LOCATION:Centro Social. 1ªPlanta. San Miguel de Salinas\, C/ Vicente Blasco Ibáñez\, 1\, San Miguel de Salinas\, Alicante\, 03193\, España
CATEGORIES:Mayores,San Miguel de Salinas
GEO:37.9784386;-0.7889244
X-APPLE-STRUCTURED-LOCATION;VALUE=URI;X-ADDRESS=Centro Social. 1ªPlanta. San Miguel de Salinas C/ Vicente Blasco Ibáñez 1 San Miguel de Salinas Alicante 03193 España;X-APPLE-RADIUS=500;X-TITLE=C/ Vicente Blasco Ibáñez\, 1:geo:-0.7889244,37.9784386
END:VEVENT
BEGIN:VEVENT
DTSTART;TZID=UTC:20220616T193000
DTEND;TZID=UTC:20220616T203000
DTSTAMP:20260420T062921
CREATED:20220613T073147Z
LAST-MODIFIED:20241029T104836Z
UID:40292-1655407800-1655411400@www.mancomunidadlavega.es
SUMMARY:Charla separación o divorcio. San Miguel
DESCRIPTION:TALLER SOBRE SEPARACIÓN Y DIVORCIO \n\nConoce todos tus derechos y deberes sobre:\n– custodias\n– pensión de alimentos\,\n– uso de la vivienda familiar\,\n– régimen de visitas\,\n– gastos extraordinarios\,\n– incumplimientos de las obligaciones por algunos de los progenitores\,\nmodificaciones de medidas civiles y ..…\n\n\n¿DONDE?\n\n\n 14 de junio: Algorfa a las 17:00 horas en Centro Social\n 14 de junio:Redován a las 20:00 horas en Centro Social\n 16 de junio:San Miguel de Salinas a las 19:30 horas en Centro Social\n 23 de junio: Jacarilla a las 18:00 horas en la Casa de Cultura\n\n\n\n¿Y PARA ASISTIR?\n\n\nSólo tienes que llamar al  678814229 y confirmar tu asistencia (Silvia\, abogada servicio jurídico Mancomunidad la Vega\n\n\n + Info: https://cutt.ly/lJKhOha\n\n\n\n 
URL:https://www.mancomunidadlavega.es/event/charla-separacion-o-divorcio-san-miguel/
LOCATION:San Miguel de Salinas\, San Miguel de Salinas\, Alicante\, 03370\, España
CATEGORIES:Mujer,San Miguel de Salinas
GEO:38.3671062;-0.4796285
END:VEVENT
END:VCALENDAR