BEGIN:VCALENDAR
VERSION:2.0
PRODID:-//Mancomunidad la vega - ECPv6.11.2//NONSGML v1.0//EN
CALSCALE:GREGORIAN
METHOD:PUBLISH
X-WR-CALNAME:Mancomunidad la vega
X-ORIGINAL-URL:https://www.mancomunidadlavega.es
X-WR-CALDESC:Eventos para Mancomunidad la vega
REFRESH-INTERVAL;VALUE=DURATION:PT1H
X-Robots-Tag:noindex
X-PUBLISHED-TTL:PT1H
BEGIN:VTIMEZONE
TZID:UTC
BEGIN:STANDARD
TZOFFSETFROM:+0000
TZOFFSETTO:+0000
TZNAME:UTC
DTSTART:20220101T000000
END:STANDARD
END:VTIMEZONE
BEGIN:VEVENT
DTSTART;TZID=UTC:20221123T193000
DTEND;TZID=UTC:20221123T203000
DTSTAMP:20260419T123555
CREATED:20221104T131453Z
LAST-MODIFIED:20221114T081324Z
UID:43085-1669231800-1669235400@www.mancomunidadlavega.es
SUMMARY:Taller Defensa personal femenina. San Miguel
DESCRIPTION:Taller de Defensa personal \nAprenderás técnicas para bloquear al contrario en puntos vulnerables\, estrategias psicológicas o a reaccionar a los diferentes tipos de agresión. \nCon la instructora Arantxa Ferre Leza. Experta en autodefensa. \n  \nUbicación y horarios \nSan Miguel:  Centro Social. Miércoles 16\, 23 y 30 noviembre a las 19\,30h. \nConsultar otros municipios. \nInscripciones: https://forms.gle/37U5Aea2jQVv88q57 \n 
URL:https://www.mancomunidadlavega.es/event/taller-defensa-personal-femenina-san-miguel-3/
LOCATION:Centro Social. 1ªPlanta. San Miguel de Salinas\, C/ Vicente Blasco Ibáñez\, 1\, San Miguel de Salinas\, Alicante\, 03193\, España
CATEGORIES:Mujer,San Miguel de Salinas
GEO:37.9784386;-0.7889244
X-APPLE-STRUCTURED-LOCATION;VALUE=URI;X-ADDRESS=Centro Social. 1ªPlanta. San Miguel de Salinas C/ Vicente Blasco Ibáñez 1 San Miguel de Salinas Alicante 03193 España;X-APPLE-RADIUS=500;X-TITLE=C/ Vicente Blasco Ibáñez\, 1:geo:-0.7889244,37.9784386
END:VEVENT
END:VCALENDAR