BEGIN:VCALENDAR
VERSION:2.0
PRODID:-//Mancomunidad la vega - ECPv6.11.2//NONSGML v1.0//EN
CALSCALE:GREGORIAN
METHOD:PUBLISH
X-ORIGINAL-URL:https://www.mancomunidadlavega.es
X-WR-CALDESC:Eventos para Mancomunidad la vega
REFRESH-INTERVAL;VALUE=DURATION:PT1H
X-Robots-Tag:noindex
X-PUBLISHED-TTL:PT1H
BEGIN:VTIMEZONE
TZID:UTC
BEGIN:STANDARD
TZOFFSETFROM:+0000
TZOFFSETTO:+0000
TZNAME:UTC
DTSTART:20210101T000000
END:STANDARD
END:VTIMEZONE
BEGIN:VEVENT
DTSTART;TZID=UTC:20211108T090000
DTEND;TZID=UTC:20211108T130000
DTSTAMP:20260421T030931
CREATED:20211025T083218Z
LAST-MODIFIED:20211025T094224Z
UID:35618-1636362000-1636376400@www.mancomunidadlavega.es
SUMMARY:Curso de limpieza. San Miguel
DESCRIPTION:
URL:https://www.mancomunidadlavega.es/event/curso-de-limpieza-algorfa-2/2021-11-08/
LOCATION:San Miguel de Salinas\, San Miguel de Salinas\, Alicante\, 03370\, España
CATEGORIES:Jóvenes,San Miguel de Salinas
GEO:38.3671062;-0.4796285
END:VEVENT
BEGIN:VEVENT
DTSTART;TZID=UTC:20211108T163000
DTEND;TZID=UTC:20211108T180000
DTSTAMP:20260421T030931
CREATED:20211022T112243Z
LAST-MODIFIED:20211022T112552Z
UID:35577-1636389000-1636394400@www.mancomunidadlavega.es
SUMMARY:Taller mi herencia. San Miguel
DESCRIPTION:
URL:https://www.mancomunidadlavega.es/event/taller-mi-herencia-san-miguel/
LOCATION:Centro Social. 1ªPlanta. San Miguel de Salinas\, C/ Vicente Blasco Ibáñez\, 1\, San Miguel de Salinas\, Alicante\, 03193\, España
CATEGORIES:Mayores,San Miguel de Salinas
GEO:37.9784386;-0.7889244
X-APPLE-STRUCTURED-LOCATION;VALUE=URI;X-ADDRESS=Centro Social. 1ªPlanta. San Miguel de Salinas C/ Vicente Blasco Ibáñez 1 San Miguel de Salinas Alicante 03193 España;X-APPLE-RADIUS=500;X-TITLE=C/ Vicente Blasco Ibáñez\, 1:geo:-0.7889244,37.9784386
END:VEVENT
END:VCALENDAR