BEGIN:VCALENDAR
VERSION:2.0
PRODID:-//Mancomunidad la vega - ECPv6.11.2//NONSGML v1.0//EN
CALSCALE:GREGORIAN
METHOD:PUBLISH
X-WR-CALNAME:Mancomunidad la vega
X-ORIGINAL-URL:https://www.mancomunidadlavega.es
X-WR-CALDESC:Eventos para Mancomunidad la vega
REFRESH-INTERVAL;VALUE=DURATION:PT1H
X-Robots-Tag:noindex
X-PUBLISHED-TTL:PT1H
BEGIN:VTIMEZONE
TZID:UTC
BEGIN:STANDARD
TZOFFSETFROM:+0000
TZOFFSETTO:+0000
TZNAME:UTC
DTSTART:20220101T000000
END:STANDARD
END:VTIMEZONE
BEGIN:VEVENT
DTSTART;TZID=UTC:20221003T093000
DTEND;TZID=UTC:20221003T113000
DTSTAMP:20260419T173222
CREATED:20221006T080547Z
LAST-MODIFIED:20221021T041126Z
UID:41243-1664789400-1664796600@www.mancomunidadlavega.es
SUMMARY:Actívate. San Miguel
DESCRIPTION:Talleres ACTIVATE de mejora de la salud nutricional y emocional impartido por Proyectos Columbares Comunidad Valenciana.\nVer horarios en cada municipio.
URL:https://www.mancomunidadlavega.es/event/activate-san-miguel/
LOCATION:Servicios Sociales. San Miguel De Salinas
CATEGORIES:Mayores,San Miguel de Salinas
END:VEVENT
BEGIN:VEVENT
DTSTART;TZID=UTC:20221003T180000
DTEND;TZID=UTC:20221003T200000
DTSTAMP:20260419T173222
CREATED:20221006T093144Z
LAST-MODIFIED:20221006T093144Z
UID:41261-1664820000-1664827200@www.mancomunidadlavega.es
SUMMARY:Curso Online. Responsabilidad Social
DESCRIPTION:¿Qué podemos hacer para que nuestras decisiones \, ya sea individualmente\, como ayuntamiento o como empresa ayuden a mejorar la comunidad\, que sea un lugar donde se cuide a las personas y a nuestro entorno\, un lugar más justo y sostenible?\n\n\n\n\nDe eso trata la responsabilidad social\, de una actitud ética que beneficia al conjunto de la comunidad.\n\n\n\n\nPara conocer qué podemos hacer en beneficio de nuestra comunidad os invitamos a participar en las  Jornadas on line sobre Responsabilidad Social que vamos a hacer la próxima semana.\n\n\n\n\nLunes 3 de Octubre de 18 a 20 horas\nMiércoles 5 de Octubre de 18 a 20 horas\n\n\n\n Son gratuitas\, solo tienes que inscribirte en el siguiente enlace: https://bit.ly/3BObDlx\n\n\nCon el apoyo de la GVA Participació\, Conselleria de Participación\, Transparencia\, Cooperación y Calidad Democrática\n\n\n#mancomunidadlavega #responsabilidadsocial #transparencia Ayuntamiento de San Miguel de Salinas (Alicante) Ayuntamiento de Algorfa Ayuntamiento de Redován Jacarilla Ayuntamiento
URL:https://www.mancomunidadlavega.es/event/curso-online-responsabilidad-social/
LOCATION:Alicante
CATEGORIES:Algorfa,Jacarilla,Redován,San Miguel de Salinas
END:VEVENT
BEGIN:VEVENT
DTSTART;TZID=UTC:20221005T180000
DTEND;TZID=UTC:20221005T200000
DTSTAMP:20260419T173222
CREATED:20221006T093218Z
LAST-MODIFIED:20221006T093218Z
UID:41264-1664992800-1665000000@www.mancomunidadlavega.es
SUMMARY:Curso Online. Responsabilidad Social
DESCRIPTION:¿Qué podemos hacer para que nuestras decisiones \, ya sea individualmente\, como ayuntamiento o como empresa ayuden a mejorar la comunidad\, que sea un lugar donde se cuide a las personas y a nuestro entorno\, un lugar más justo y sostenible?\n\n\n\n\nDe eso trata la responsabilidad social\, de una actitud ética que beneficia al conjunto de la comunidad.\n\n\n\n\nPara conocer qué podemos hacer en beneficio de nuestra comunidad os invitamos a participar en las  Jornadas on line sobre Responsabilidad Social que vamos a hacer la próxima semana.\n\n\n\n\nLunes 3 de Octubre de 18 a 20 horas\nMiércoles 5 de Octubre de 18 a 20 horas\n\n\n\n Son gratuitas\, solo tienes que inscribirte en el siguiente enlace: https://bit.ly/3BObDlx\n\n\nCon el apoyo de la GVA Participació\, Conselleria de Participación\, Transparencia\, Cooperación y Calidad Democrática\n\n\n#mancomunidadlavega #responsabilidadsocial #transparencia Ayuntamiento de San Miguel de Salinas (Alicante) Ayuntamiento de Algorfa Ayuntamiento de Redován Jacarilla Ayuntamiento
URL:https://www.mancomunidadlavega.es/event/curso-online-responsabilidad-social-2/
LOCATION:Alicante
CATEGORIES:Algorfa,Jacarilla,Redován,San Miguel de Salinas
END:VEVENT
BEGIN:VEVENT
DTSTART;TZID=UTC:20221009T100000
DTEND;TZID=UTC:20221009T130000
DTSTAMP:20260419T173222
CREATED:20221007T103332Z
LAST-MODIFIED:20221028T084021Z
UID:41269-1665309600-1665320400@www.mancomunidadlavega.es
SUMMARY:Findes en familia. San Miguel
DESCRIPTION:  \n¿Sueñas con unos momentos de diversión en plena Naturaleza? \n¿Hart@ de que l@s peques pasen demasiadas horas con el móvil? \n¿Tienes necesidad de respirar aire puro y disfrutar con tu familia? \n\nAHORA ES EL MOMENTO.\n\nFINDES EN FAMILIA   Caminando Junt@s.\n\n\nEL sábado día 16 de Octubre comenzaremos en la Plaza del Ayuntamiento y desde allí haremos una ruta hacia el «Hoyo del Serrano» para disfrutar de las actividades que nos han preparado desde el EEIIA de la Mancomunidad.\n\n\n\n\nLa actividad es gratuita.\nHay que inscribirse por teléfono 658757043(Sofia)/658796280 (Tamara)\n\n\n\n Calendario\n\nDomingo 09 de Octubre de 10h. – 13h. en San Miguel.\nSábado 15 de Octubre de 10h. – 13h. en Redován.\nDomingo 16 de Octubre de 10h. – 12:30h. en Algorfa.\nSábado 29 de Octubre de 10h. – 13h. en Jacarilla.
URL:https://www.mancomunidadlavega.es/event/findes-en-familia-san-miguel/
LOCATION:San Miguel de Salinas\, San Miguel de Salinas\, Alicante\, 03370\, España
CATEGORIES:Infancia y Familia,San Miguel de Salinas
GEO:38.3671062;-0.4796285
END:VEVENT
BEGIN:VEVENT
DTSTART;TZID=UTC:20221010T160000
DTEND;TZID=UTC:20221010T173000
DTSTAMP:20260419T173222
CREATED:20221010T121424Z
LAST-MODIFIED:20221010T122738Z
UID:41372-1665417600-1665423000@www.mancomunidadlavega.es
SUMMARY:Escuela de mayores. San Miguel
DESCRIPTION:A través del Programa CALIDAD DE VIDA se ponen en marcha diversas actividades cuya finalidad es mantener activos tanto física como mentalmente a las personas mayores\, contribuyendo así a prevenir situaciones propias del proceso de envejecimiento como el aislamiento\, la perdida de autonomía personal y social\, el deterioro físico y cognitivo\,… Los talleres para el año 2022/2023 son: ESCUELA DE MAYORES Y ACTIVIDAD FÍSICA. \nEste programa se lleva a cabo con el apoyo del area de Bienestar Social de la Diputación Provincial. +Info. escuela-mayores
URL:https://www.mancomunidadlavega.es/event/escuela-de-mayores-san-miguel-3/2022-10-10/
LOCATION:San Miguel de Salinas\, San Miguel de Salinas\, Alicante\, 03370\, España
CATEGORIES:Mayores,San Miguel de Salinas
GEO:38.3671062;-0.4796285
END:VEVENT
BEGIN:VEVENT
DTSTART;TZID=UTC:20221014T100000
DTEND;TZID=UTC:20221014T110000
DTSTAMP:20260419T173222
CREATED:20221005T102343Z
LAST-MODIFIED:20221005T102343Z
UID:40990-1665741600-1665745200@www.mancomunidadlavega.es
SUMMARY:Taller Mi móvil y yo. San Miguel
DESCRIPTION:Taller práctico en el que acercamos las nuevas tecnologías a las personas mayores. \nContenido: \n¿Cómo utilizar el Smartphone? \n\nBeneficios y utilidad.\nManejo Básico: Encender apagar\, batería tarjetas y carga.\nMultimedia: Fotos\, vídeos…\nAcceso a Internet y configuración del correo.\nInstalación y uso del WhatsApp y Zoom (mensajería y videollamada).\n\n \n\nSAN MIGUEL: 14 de octubre de 2022 \n\nLugar: Centro Social. Servicios Sociales\nHora: a partir de las 10:00h\n\n\n\nPrecio: Gratuito\n\n+ Info. e inscripciones: https://www.mancomunidadlavega.es/tramites/mimovilyyo/ \n  \n 
URL:https://www.mancomunidadlavega.es/event/tecnologiasmayores-2/
LOCATION:Centro Social. 1ªPlanta. San Miguel de Salinas\, C/ Vicente Blasco Ibáñez\, 1\, San Miguel de Salinas\, Alicante\, 03193\, España
CATEGORIES:Mayores,San Miguel de Salinas
GEO:37.9784386;-0.7889244
X-APPLE-STRUCTURED-LOCATION;VALUE=URI;X-ADDRESS=Centro Social. 1ªPlanta. San Miguel de Salinas C/ Vicente Blasco Ibáñez 1 San Miguel de Salinas Alicante 03193 España;X-APPLE-RADIUS=500;X-TITLE=C/ Vicente Blasco Ibáñez\, 1:geo:-0.7889244,37.9784386
END:VEVENT
BEGIN:VEVENT
DTSTART;TZID=UTC:20221019T180000
DTEND;TZID=UTC:20221019T190000
DTSTAMP:20260419T173222
CREATED:20221013T122947Z
LAST-MODIFIED:20221013T122947Z
UID:42241-1666202400-1666206000@www.mancomunidadlavega.es
SUMMARY:Bienestar Emocional. San Miguel
DESCRIPTION:👉Este mes vuelve Bienestar emocional. \n\nAquí encontrarás un grupo de apoyo emocional para mujeres dónde poder compartir sentimientos\, métodos de autocontrol y fortalecimiento del estado emocional.\n\n\n\n♟El grupo garantiza la privacidad y confidencialidad.\n\n\n👩Cuenta con el acompañamiento de una psicóloga.\n\n\n \n\n\nLas sesiones son quincenales.\n\n\nEmpezamos:\n\n\n📆18 de octubre\n\n\nAlgorfa – 16:00 Centro Cultural San Vicente Ferrer\n\n\n📆19 de octubre\n\n\nSan Miguel – 18:00 Servicios Sociales\n\n\nRedován – 20:00 Centro Social 3ª Edad\n\n\n \n\n\nInscripciones: Sofía 658 757 043\n\n\n \n\n\nMás información y programa completo en: https://bit.ly/3M5HCC4\n\n\n\n#8M #DíaInternacionaldeLasMujeres #YoIgualATú #VITALES #MancomunidadLaVega #igualdad #BienestarEmocional\n\n  \nMás información e inscripciones: Bienestar emocional
URL:https://www.mancomunidadlavega.es/event/bienestar-emocional-san-miguel-2/
LOCATION:San Miguel de Salinas\, San Miguel de Salinas\, Alicante\, 03370\, España
CATEGORIES:Mujer,San Miguel de Salinas
GEO:38.3671062;-0.4796285
END:VEVENT
BEGIN:VEVENT
DTSTART;TZID=UTC:20221023T100000
DTEND;TZID=UTC:20221023T130000
DTSTAMP:20260419T173222
CREATED:20221014T114600Z
LAST-MODIFIED:20221014T114600Z
UID:42305-1666519200-1666530000@www.mancomunidadlavega.es
SUMMARY:Marcha cáncer de mama. San Miguel
DESCRIPTION:Ya tenemos preparada la VI Marcha contra el cáncer de Mama en San Miguel. \nLa Marcha recorrerá las calles del centro el próximo domingo 23 de octubre desde las 10:00h. \nTe esperamos en la Plaza Jaime I\, dónde podrás recoger tu kit con la gorra. \nAnímate\, y colabora con tu participación en este gran proyecto solidario. \n¡Entre tod@s sumamos mucho más! No faltes.\nTe esperamos. \n 
URL:https://www.mancomunidadlavega.es/event/marcha-cancer-de-mama-san-miguel/
LOCATION:Alicante
CATEGORIES:Mujer,San Miguel de Salinas
END:VEVENT
BEGIN:VEVENT
DTSTART;TZID=UTC:20221024T090000
DTEND;TZID=UTC:20221024T130000
DTSTAMP:20260419T173222
CREATED:20221005T121041Z
LAST-MODIFIED:20221005T122152Z
UID:41021-1666602000-1666616400@www.mancomunidadlavega.es
SUMMARY:La sexualidad no tiene edad.
DESCRIPTION:PONENTE Mª ÁNGELES HERNÁNDEZ ARNALDOS \nAGENTE DE IGUALDAD DE MANCOMUNIDAD LA VEGA \nRedován: Lunes 31 de octubre. 9:00h. Centro Social Tercera Edad. \n Algorfa: Lunes 31 de octubre. 11:00h. Centro Cultural \nJacarilla: Lunes 24 de octubre. 18:00h. Casa de Cultura\n \nSan Miguel: Lunes 24 de octubre. 16:00h. Servicios Sociales. \n  \n  \n 
URL:https://www.mancomunidadlavega.es/event/la-sexualidad-no-tiene-edad/
LOCATION:Alicante
CATEGORIES:Algorfa,Jacarilla,Mayores,Redován,San Miguel de Salinas
END:VEVENT
BEGIN:VEVENT
DTSTART;TZID=UTC:20221029T160000
DTEND;TZID=UTC:20221029T173000
DTSTAMP:20260419T173222
CREATED:20221013T120327Z
LAST-MODIFIED:20221028T110807Z
UID:42231-1667059200-1667064600@www.mancomunidadlavega.es
SUMMARY:Taller on line Unaf Alimentación
DESCRIPTION: Taller on line para familias: \n\n\n«Prevención de alteraciones de la alimentación en niños\, niñas y adolescentes desde el ámbito familiar.»\n\n\nNuestros jóvenes están cada vez más expuestos a padecer alguna alteración de la alimentación y lo más normal es iniciarse en la adolescencia.\n\n\n¿Crees que tu hij@ puede ser sensible a un desequilibrio? ¿Te gustaría informarte mejor sobre este tema?\n\n\n Cuestiones a tratar:\n\n\n♦️Adolescencia y preadolescencia.\n\n\n♦️Conductas de riesgo. Educación alimentaria y nutricional. \n\n\n♦️Trastornos de la conducta alimentaria (TCA).\n\n\n♦️Competencias parentales en la prevención de alteraciones de la alimentación.\n\n\n \n\n\nInscripciones: https://acortar.link/8Ie6Ca\n\n\n \n\n\nPlazas limitadas!! \n\n\nTe esperamos el próximo 29 de octubre de 16 a 17:30 horas POR UNA ALIMENTACIÓN SALUDABLE.\n\n\n+Info. en: www.mancomunidadlavega.es
URL:https://www.mancomunidadlavega.es/event/taller-on-line-unaf-alimentacion/
LOCATION:Alicante
CATEGORIES:Algorfa,Infancia y Familia,Jacarilla,Redován,San Miguel de Salinas
END:VEVENT
END:VCALENDAR