BEGIN:VCALENDAR
VERSION:2.0
PRODID:-//Mancomunidad la vega - ECPv6.11.2//NONSGML v1.0//EN
CALSCALE:GREGORIAN
METHOD:PUBLISH
X-ORIGINAL-URL:https://www.mancomunidadlavega.es
X-WR-CALDESC:Eventos para Mancomunidad la vega
REFRESH-INTERVAL;VALUE=DURATION:PT1H
X-Robots-Tag:noindex
X-PUBLISHED-TTL:PT1H
BEGIN:VTIMEZONE
TZID:UTC
BEGIN:STANDARD
TZOFFSETFROM:+0000
TZOFFSETTO:+0000
TZNAME:UTC
DTSTART:20210101T000000
END:STANDARD
END:VTIMEZONE
BEGIN:VEVENT
DTSTART;TZID=UTC:20211004T090000
DTEND;TZID=UTC:20211004T103000
DTSTAMP:20260420T060115
CREATED:20211001T113343Z
LAST-MODIFIED:20211001T113343Z
UID:35411-1633338000-1633343400@www.mancomunidadlavega.es
SUMMARY:Escuela de mayores. Redován
DESCRIPTION:A través del Programa CALIDAD DE VIDA se ponen en marcha diversas actividades cuya finalidad es mantener activos tanto física como mentalmente a las personas mayores\, contribuyendo así a prevenir situaciones propias del proceso de envejecimiento como el aislamiento\, la perdida de autonomía personal y social\, el deterioro físico y cognitivo\,… Los talleres para el año 2019/2020 son: \nGimnasia para mayores (incorpora paseos saludables)\, Escuela de Mayores.\n \nEste programa se lleva a cabo con el apoyo del area de Bienestar Social de la Diputación Provincial. +Info. escuela-mayores
URL:https://www.mancomunidadlavega.es/event/escuela-de-mayores-jacarilla-3-3/2021-10-04/
LOCATION:Algorfa
CATEGORIES:Mayores,Redován
END:VEVENT
BEGIN:VEVENT
DTSTART;TZID=UTC:20211005T080000
DTEND;TZID=UTC:20211005T210000
DTSTAMP:20260420T060115
CREATED:20211001T114330Z
LAST-MODIFIED:20211001T114903Z
UID:35445-1633420800-1633467600@www.mancomunidadlavega.es
SUMMARY:Curso cuidadores. Redován
DESCRIPTION:Dirigidos a cuidadores/as no profesionales de personas en situación de dependencia\, que hayan sido reconocidas como tales en la resolución PIA por la que se concede la prestación económica para cuidadores en el entorno familiar. La duración del curso es de 25 horas y se realizará en los municipios de Redován y San Miguel de Salinas. \n+info en el trámite: https://www.mancomunidadlavega.es/tramites/curso-cuidadores-as-no-profesionales-de-la-dependencia/ \n  \n 
URL:https://www.mancomunidadlavega.es/event/curso-cuidadores-redovan/
LOCATION:Algorfa
CATEGORIES:Mayores,Redován
END:VEVENT
BEGIN:VEVENT
DTSTART;TZID=UTC:20211007T000000
DTEND;TZID=UTC:20211007T000000
DTSTAMP:20260420T060115
CREATED:20211001T121457Z
LAST-MODIFIED:20211115T110848Z
UID:35220-1633564800-1633564800@www.mancomunidadlavega.es
SUMMARY:Taller Mi móvil y yo. Redován
DESCRIPTION:Taller práctico en el que acercamos las nuevas tecnologías a las personas mayores. \nContenido: \n¿Cómo utilizar el Smartphone? \n\nBeneficios y utilidad.\nManejo Básico: Encender apagar\, batería tarjetas y carga.\nMultimedia: Fotos\, vídeos…\nAcceso a Internet y configuración del correo.\nInstalación y uso del WhatsApp y Zoom (mensajería y videollamada).\n\n+ Info. e inscripciones: https://www.mancomunidadlavega.es/tramites/mimovilyyo/ \n 
URL:https://www.mancomunidadlavega.es/event/taller-mi-movil-y-yo-redovan/
LOCATION:Centro Social de la Tercera Edad. Redován\, C/ Juan XXIII\, s/n\, Redován\, Alicante\, 03370\, España
CATEGORIES:Mayores,Redován
GEO:38.1142082;-0.9076136
X-APPLE-STRUCTURED-LOCATION;VALUE=URI;X-ADDRESS=Centro Social de la Tercera Edad. Redován C/ Juan XXIII s/n Redován Alicante 03370 España;X-APPLE-RADIUS=500;X-TITLE=C/ Juan XXIII\, s/n:geo:-0.9076136,38.1142082
END:VEVENT
END:VCALENDAR