BEGIN:VCALENDAR
VERSION:2.0
PRODID:-//Mancomunidad la vega - ECPv6.11.2//NONSGML v1.0//EN
CALSCALE:GREGORIAN
METHOD:PUBLISH
X-ORIGINAL-URL:https://www.mancomunidadlavega.es
X-WR-CALDESC:Eventos para Mancomunidad la vega
REFRESH-INTERVAL;VALUE=DURATION:PT1H
X-Robots-Tag:noindex
X-PUBLISHED-TTL:PT1H
BEGIN:VTIMEZONE
TZID:UTC
BEGIN:STANDARD
TZOFFSETFROM:+0000
TZOFFSETTO:+0000
TZNAME:UTC
DTSTART:20210101T000000
END:STANDARD
END:VTIMEZONE
BEGIN:VEVENT
DTSTART;TZID=UTC:20210913T170000
DTEND;TZID=UTC:20210913T180000
DTSTAMP:20260420T035737
CREATED:20210913T100005Z
LAST-MODIFIED:20210913T100302Z
UID:35092-1631552400-1631556000@www.mancomunidadlavega.es
SUMMARY:Foro en Redován: La soledad no deseada
DESCRIPTION:Este septiembre se realiza el FORO – LA SOLEDAD NO DESEADA\, de mano de la Fundación Pilares para la autonomía personal y UA – Universitat d’Alacant / Universidad de Alicante en nuestros municipios.\n\n\n\nVen a participar en este espacio de encuentro\, comparte tus ideas sobre la situación de tu municipio y participa activamente en tu comunidad.\n\n\n\nHablaremos sobre nuevos modelos de cuidados\, relaciones intergeneracionales y cuestiones cotidianas que nos afectan a tod@s.\n\n\nConsulta la fecha de tu municipio.\n\n\n\n\n 
URL:https://www.mancomunidadlavega.es/event/foro-en-redovan-la-soledad-no-deseada/
LOCATION:Alicante
CATEGORIES:Redován
END:VEVENT
BEGIN:VEVENT
DTSTART;TZID=UTC:20210916T180000
DTEND;TZID=UTC:20210916T200000
DTSTAMP:20260420T035737
CREATED:20210909T114518Z
LAST-MODIFIED:20210910T073420Z
UID:35055-1631815200-1631822400@www.mancomunidadlavega.es
SUMMARY:Al cole de Mayores. Redován
DESCRIPTION:Taller para madres y padres en el que se van a tratar los aspectos más importantes que afectan a nuestras hijas e hijos que empiezan la Educación Primaria. \nContenidos: \n\n¿Cuáles son los cambios a los que se enfrentan los niños y niñas que empiezan la Educación Primaria?\n¿Cómo vivimos madres y padres estos cambios?\n¿Cómo acompañarles en esta nueva etapa?\n¿Qué estrategias prácticas podemos seguir?\n¿Cómo es el día a día de nuestra familia al inicio del curso?: rutinas\, hábitos de estudio (deberes\, exámenes\, juego\, etc).\n¿Qué es la parentalidad positiva?.\n¿Cómo se educa en positivo?\n\n  \nLas fechas de realización son: \nAlgorfa: 16 de septiembre\, 16:00h en el salón de actos del Centro Social\, 1ª Planta. \nJacarilla: 15 de septiembre\, 18:00h en el salón de actos del Centro Social. \nRedován: 16 de septiembre\, 18:00h en el salón de actos del Centro Social Ricardo Ruiz Poveda. \nSan Miguel de Salinas: 15 de septiembre\, 16:00h Servicios Sociales. 1ª Planta.
URL:https://www.mancomunidadlavega.es/event/al-cole-de-mayores-redovan/
LOCATION:CENTRO SOCIAL RICARDO RUIZ POVEDA\, SAN JERÓNIMO\, 1\, 03370\, Alicante\, 03370\, España
CATEGORIES:Infancia y Familia,Redován
GEO:38.1138778;-0.9070622
X-APPLE-STRUCTURED-LOCATION;VALUE=URI;X-ADDRESS=CENTRO SOCIAL RICARDO RUIZ POVEDA SAN JERÓNIMO 1 03370 Alicante 03370 España;X-APPLE-RADIUS=500;X-TITLE=SAN JERÓNIMO\, 1:geo:-0.9070622,38.1138778
END:VEVENT
BEGIN:VEVENT
DTSTART;TZID=UTC:20210918T180000
DTEND;TZID=UTC:20210918T200000
DTSTAMP:20260420T035737
CREATED:20210915T072118Z
LAST-MODIFIED:20210915T072118Z
UID:35142-1631988000-1631995200@www.mancomunidadlavega.es
SUMMARY:Taller crea Joven. Redován
DESCRIPTION:Saca la/el artista que llevas dentro.\n\n\nEn el taller realizaremos murales gigantes con mensaje y arte rebuscado con materiales reutilizados.\n\n\nInscríbete enviando un WhatsApp al 658 796 154\n\n\nConsulta la fecha de tu pueblo ¡Plazas limitadas!\n\n\nToda la info. en: https://www.mancomunidadlavega.es/tramites/crea-joven/\n\n\nLa Vega Joven. Con el apoyo del GVA IVAJ\n\n 
URL:https://www.mancomunidadlavega.es/event/taller-crea-joven-redovan/
LOCATION:Alicante
CATEGORIES:Jóvenes,Redován
END:VEVENT
END:VCALENDAR