BEGIN:VCALENDAR
VERSION:2.0
PRODID:-//Mancomunidad la vega - ECPv6.11.2//NONSGML v1.0//EN
CALSCALE:GREGORIAN
METHOD:PUBLISH
X-WR-CALNAME:Mancomunidad la vega
X-ORIGINAL-URL:https://www.mancomunidadlavega.es
X-WR-CALDESC:Eventos para Mancomunidad la vega
REFRESH-INTERVAL;VALUE=DURATION:PT1H
X-Robots-Tag:noindex
X-PUBLISHED-TTL:PT1H
BEGIN:VTIMEZONE
TZID:UTC
BEGIN:STANDARD
TZOFFSETFROM:+0000
TZOFFSETTO:+0000
TZNAME:UTC
DTSTART:20190101T000000
END:STANDARD
END:VTIMEZONE
BEGIN:VEVENT
DTSTART;TZID=UTC:20191126T100000
DTEND;TZID=UTC:20191126T120000
DTSTAMP:20260422T215535
CREATED:20191107T131858Z
LAST-MODIFIED:20191107T133006Z
UID:27326-1574762400-1574769600@www.mancomunidadlavega.es
SUMMARY:Taller habilidades sociales. Redován
DESCRIPTION:¿Estás en proceso de búsquda de empleo? \nTe ofrecemos un apoyo extra para cuestiones tan importantes como la gestión del estrés y la ansiedad\, favorecer la autoestima\, y mejorar tus habilidades sociales.
URL:https://www.mancomunidadlavega.es/event/taller-habilidades-sociales-redovan-2/
LOCATION:Algorfa
CATEGORIES:Diversidad Funcional,Extranjeros,Jóvenes,Mujer,Otros Colectivos,Redován
END:VEVENT
BEGIN:VEVENT
DTSTART;TZID=UTC:20191127T093000
DTEND;TZID=UTC:20191127T123000
DTSTAMP:20260422T215535
CREATED:20191112T110340Z
LAST-MODIFIED:20191112T110348Z
UID:27437-1574847000-1574857800@www.mancomunidadlavega.es
SUMMARY:Inglés entorno laborales. Redován
DESCRIPTION:Taller de inglés básico aplicado a entornos laborales.\nSi tienes nociones básicas de inglés y estás interesado en hacer un repaso intensivo\, aprender vocabulario específico de entornos laborales y practicar tu expresión oral… ¡este es tu taller!
URL:https://www.mancomunidadlavega.es/event/ingles-entorno-laborales-redovan/
LOCATION:Algorfa
CATEGORIES:Diversidad Funcional,Extranjeros,Jóvenes,Mujer,Otros Colectivos,Redován
END:VEVENT
BEGIN:VEVENT
DTSTART;TZID=UTC:20191128T080000
DTEND;TZID=UTC:20191128T150000
DTSTAMP:20260422T215535
CREATED:20191112T140742Z
LAST-MODIFIED:20191112T140819Z
UID:27469-1574928000-1574953200@www.mancomunidadlavega.es
SUMMARY:Taller unplugged. Redován
DESCRIPTION:+info en: Talleres Unplugged \ny en su web http://unplugged.edex.es \n 
URL:https://www.mancomunidadlavega.es/event/taller-unplugged-redovan-2-2/
LOCATION:IES Jaime de Sant-Ángel\, Av. de la Libertad\, 0\, Redován\, Alicante\, 03370\, España
CATEGORIES:Jóvenes,Redován
GEO:38.1115266;-0.9066667
X-APPLE-STRUCTURED-LOCATION;VALUE=URI;X-ADDRESS=IES Jaime de Sant-Ángel Av. de la Libertad 0 Redován Alicante 03370 España;X-APPLE-RADIUS=500;X-TITLE=Av. de la Libertad\, 0:geo:-0.9066667,38.1115266
END:VEVENT
BEGIN:VEVENT
DTSTART;TZID=UTC:20191128T093000
DTEND;TZID=UTC:20191128T123000
DTSTAMP:20260422T215535
CREATED:20191112T110417Z
LAST-MODIFIED:20191112T110417Z
UID:27440-1574933400-1574944200@www.mancomunidadlavega.es
SUMMARY:Inglés entorno laborales. Redován
DESCRIPTION:Taller de inglés básico aplicado a entornos laborales.\nSi tienes nociones básicas de inglés y estás interesado en hacer un repaso intensivo\, aprender vocabulario específico de entornos laborales y practicar tu expresión oral… ¡este es tu taller!
URL:https://www.mancomunidadlavega.es/event/ingles-entorno-laborales-redovan-2/
LOCATION:Algorfa
CATEGORIES:Diversidad Funcional,Extranjeros,Jóvenes,Mujer,Otros Colectivos,Redován
END:VEVENT
BEGIN:VEVENT
DTSTART;TZID=UTC:20191128T200000
DTEND;TZID=UTC:20191128T210000
DTSTAMP:20260422T215535
CREATED:20191112T125255Z
LAST-MODIFIED:20191118T135034Z
UID:27461-1574971200-1574974800@www.mancomunidadlavega.es
SUMMARY:Charla sexualidad adolescentes. Redován
DESCRIPTION:Redes\, sexualidad y adolescentes.\n \nTaller para trabajar la influencia de la pornografía en las relaciones sexuales de adolescentes. \nSe trata de aprender cómo\, ante una escasa o carente educación afectiva y sexual\, la pornografía se convierte en el modelo a seguir por parte de jóvenes en sus relaciones secuales y cómo esta formenta prejuicios y relaciones violentas. \nIMPARTE: Centro Mujer Torrevieja 24 horas \nMaría Rubio Serna\, psicóloga.
URL:https://www.mancomunidadlavega.es/event/charla-sexualidad-adolescentes-jacarilla-2/
LOCATION:Algorfa
CATEGORIES:Infancia y Familia,Mujer,Redován
END:VEVENT
END:VCALENDAR