BEGIN:VCALENDAR
VERSION:2.0
PRODID:-//Mancomunidad la vega - ECPv6.11.2//NONSGML v1.0//EN
CALSCALE:GREGORIAN
METHOD:PUBLISH
X-ORIGINAL-URL:https://www.mancomunidadlavega.es
X-WR-CALDESC:Eventos para Mancomunidad la vega
REFRESH-INTERVAL;VALUE=DURATION:PT1H
X-Robots-Tag:noindex
X-PUBLISHED-TTL:PT1H
BEGIN:VTIMEZONE
TZID:UTC
BEGIN:STANDARD
TZOFFSETFROM:+0000
TZOFFSETTO:+0000
TZNAME:UTC
DTSTART:20190101T000000
END:STANDARD
END:VTIMEZONE
BEGIN:VEVENT
DTSTART;TZID=UTC:20191118T080000
DTEND;TZID=UTC:20191118T100000
DTSTAMP:20260422T220321
CREATED:20191118T110755Z
LAST-MODIFIED:20191118T133742Z
UID:27710-1574064000-1574071200@www.mancomunidadlavega.es
SUMMARY:Taller #nopuedesernormal. Redován
DESCRIPTION:Taller de prevención de violencia machista a través de la campaña 25 de noviembre de Mancomunidad la Vega 2019 #nopuedesernormal #datecuenta. Se trabajarán las distintas formas de violencia que aparecen en los cinco modelos de cartel: trata con fines de explotación sexual\, violencia de control entre jóvenes\, violencia en pareja adulta y acoso sexual callejero y se elaborará un posterior concurso entre el alumnado de carteles y mensajes para la campaña del 25 de noviembre del año 2020. \nTaller #nopuedesernormal. Redován \n2º-BACH
URL:https://www.mancomunidadlavega.es/event/taller-notienesmipermiso-redovan-2-2/
LOCATION:IES Jaime de Sant-Ángel\, Av. de la Libertad\, 0\, Redován\, Alicante\, 03370\, España
CATEGORIES:Jóvenes,Redován
GEO:38.1115266;-0.9066667
X-APPLE-STRUCTURED-LOCATION;VALUE=URI;X-ADDRESS=IES Jaime de Sant-Ángel Av. de la Libertad 0 Redován Alicante 03370 España;X-APPLE-RADIUS=500;X-TITLE=Av. de la Libertad\, 0:geo:-0.9066667,38.1115266
END:VEVENT
BEGIN:VEVENT
DTSTART;TZID=UTC:20191119T100000
DTEND;TZID=UTC:20191119T120000
DTSTAMP:20260422T220321
CREATED:20191107T131819Z
LAST-MODIFIED:20191107T133109Z
UID:27323-1574157600-1574164800@www.mancomunidadlavega.es
SUMMARY:Taller habilidades sociales. Redován
DESCRIPTION:¿Estás en proceso de búsquda de empleo? \nTe ofrecemos un apoyo extra para cuestiones tan importantes como la gestión del estrés y la ansiedad\, favorecer la autoestima\, y mejorar tus habilidades sociales.
URL:https://www.mancomunidadlavega.es/event/taller-habilidades-sociales-redovan-3/
LOCATION:Algorfa
CATEGORIES:Diversidad Funcional,Extranjeros,Jóvenes,Mujer,Otros Colectivos,Redován
END:VEVENT
BEGIN:VEVENT
DTSTART;TZID=UTC:20191120T080000
DTEND;TZID=UTC:20191120T100000
DTSTAMP:20260422T220321
CREATED:20191118T110957Z
LAST-MODIFIED:20191118T133402Z
UID:27712-1574236800-1574244000@www.mancomunidadlavega.es
SUMMARY:Taller #nopuedesernormal. Redován
DESCRIPTION:Taller de prevención de violencia machista a través de la campaña 25 de noviembre de Mancomunidad la Vega 2019 #nopuedesernormal #datecuenta. Se trabajarán las distintas formas de violencia que aparecen en los cinco modelos de cartel: trata con fines de explotación sexual\, violencia de control entre jóvenes\, violencia en pareja adulta y acoso sexual callejero y se elaborará un posterior concurso entre el alumnado de carteles y mensajes para la campaña del 25 de noviembre del año 2020. \nTaller #nopuedesernormal. Redován \n2º-BACH. a las 11:05h \n1º-BACH. a las 12:55h
URL:https://www.mancomunidadlavega.es/event/taller-notienesmipermiso-redovan-2-2-2/
LOCATION:IES Jaime de Sant-Ángel\, Av. de la Libertad\, 0\, Redován\, Alicante\, 03370\, España
CATEGORIES:Jóvenes,Redován
GEO:38.1115266;-0.9066667
X-APPLE-STRUCTURED-LOCATION;VALUE=URI;X-ADDRESS=IES Jaime de Sant-Ángel Av. de la Libertad 0 Redován Alicante 03370 España;X-APPLE-RADIUS=500;X-TITLE=Av. de la Libertad\, 0:geo:-0.9066667,38.1115266
END:VEVENT
END:VCALENDAR