BEGIN:VCALENDAR
VERSION:2.0
PRODID:-//Mancomunidad la vega - ECPv6.11.2//NONSGML v1.0//EN
CALSCALE:GREGORIAN
METHOD:PUBLISH
X-ORIGINAL-URL:https://www.mancomunidadlavega.es
X-WR-CALDESC:Eventos para Mancomunidad la vega
REFRESH-INTERVAL;VALUE=DURATION:PT1H
X-Robots-Tag:noindex
X-PUBLISHED-TTL:PT1H
BEGIN:VTIMEZONE
TZID:UTC
BEGIN:STANDARD
TZOFFSETFROM:+0000
TZOFFSETTO:+0000
TZNAME:UTC
DTSTART:20190101T000000
END:STANDARD
END:VTIMEZONE
BEGIN:VEVENT
DTSTART;TZID=UTC:20191001T093000
DTEND;TZID=UTC:20191001T103000
DTSTAMP:20260422T220324
CREATED:20191001T122910Z
LAST-MODIFIED:20191001T122910Z
UID:26937-1569922200-1569925800@www.mancomunidadlavega.es
SUMMARY:Actividad física. Redován
DESCRIPTION:Toda la Info sobre esta actividad en el TRAMITE ACTIVIDAD FISICA PARA MAYORES
URL:https://www.mancomunidadlavega.es/event/actividad-fisica-redovan/2019-10-01/
LOCATION:Algorfa
CATEGORIES:Mayores,Redován
END:VEVENT
BEGIN:VEVENT
DTSTART;TZID=UTC:20191001T193000
DTEND;TZID=UTC:20191001T223000
DTSTAMP:20260422T220324
CREATED:20191004T124246Z
LAST-MODIFIED:20191004T124434Z
UID:27135-1569958200-1569969000@www.mancomunidadlavega.es
SUMMARY:Taller de Pilates. Redován
DESCRIPTION:DONA SALUD es un proyecto de promoción de la salud en la mujer que pretende de forma práctica y aplicada\, el aprendizaje de estrategias de control y cuidado de su propia salud\, desde una perspectiva de género. El programa se estructura en dos áreas\, la mejora de la salud emocional y desarrollo personal y la mejora de la condición física. \n+Info.: Trámite Dona Salud
URL:https://www.mancomunidadlavega.es/event/taller-de-pilates-redovan/
LOCATION:Algorfa
CATEGORIES:Mujer,Redován
END:VEVENT
BEGIN:VEVENT
DTSTART;TZID=UTC:20191003T080000
DTEND;TZID=UTC:20191003T170000
DTSTAMP:20260422T220324
CREATED:20191003T124918Z
LAST-MODIFIED:20191003T124918Z
UID:27073-1570089600-1570122000@www.mancomunidadlavega.es
SUMMARY:Educación sobre drogas. Redován
DESCRIPTION:La Mancomunidad La Vega desarrolla el programa Unplugged con el alumnado de 1º ESO del IES Jaume de Sant Angel en Redován y del IES Los Alcores en San Miguel de Salinas. \nEl programa Cuenta con una aplicación móvil pensada para mejorar la información sobre las drogas más habituales\, a menudo desenfocada y poco efectiva para tomar decisiones: InfoDrogApp \nMás información del programa en: Unplugged \n#unplugged #prevencion #salud #UPCCA #MLV
URL:https://www.mancomunidadlavega.es/event/educacion-sobre-drogas-redovan/
LOCATION:Alicante
CATEGORIES:Jóvenes,Redován
END:VEVENT
END:VCALENDAR