BEGIN:VCALENDAR
VERSION:2.0
PRODID:-//Mancomunidad la vega - ECPv6.11.2//NONSGML v1.0//EN
CALSCALE:GREGORIAN
METHOD:PUBLISH
X-ORIGINAL-URL:https://www.mancomunidadlavega.es
X-WR-CALDESC:Eventos para Mancomunidad la vega
REFRESH-INTERVAL;VALUE=DURATION:PT1H
X-Robots-Tag:noindex
X-PUBLISHED-TTL:PT1H
BEGIN:VTIMEZONE
TZID:UTC
BEGIN:STANDARD
TZOFFSETFROM:+0000
TZOFFSETTO:+0000
TZNAME:UTC
DTSTART:20190101T000000
END:STANDARD
END:VTIMEZONE
BEGIN:VEVENT
DTSTART;TZID=UTC:20190917T093000
DTEND;TZID=UTC:20190917T103000
DTSTAMP:20260422T220430
CREATED:20170919T070255Z
LAST-MODIFIED:20191118T090842Z
UID:16128-1568712600-1568716200@www.mancomunidadlavega.es
SUMMARY:Gimnasia mayores. Redován
DESCRIPTION:
URL:https://www.mancomunidadlavega.es/event/gimnasia-mayores-redovan-2/2019-09-17/
LOCATION:Centro Social de la Tercera Edad. Redován\, C/ Juan XXIII\, s/n\, Redován\, Alicante\, 03370\, España
CATEGORIES:Mayores,Redován
GEO:38.1142082;-0.9076136
X-APPLE-STRUCTURED-LOCATION;VALUE=URI;X-ADDRESS=Centro Social de la Tercera Edad. Redován C/ Juan XXIII s/n Redován Alicante 03370 España;X-APPLE-RADIUS=500;X-TITLE=C/ Juan XXIII\, s/n:geo:-0.9076136,38.1142082
END:VEVENT
BEGIN:VEVENT
DTSTART;TZID=UTC:20190917T093000
DTEND;TZID=UTC:20190917T103000
DTSTAMP:20260422T220430
CREATED:20200218T091440Z
LAST-MODIFIED:20200406T203343Z
UID:27590-1568712600-1568716200@www.mancomunidadlavega.es
SUMMARY:Actividad física. Redován
DESCRIPTION:Actividad física para mayores. \nGimnasia: Centro Social Tercera Edad\, Martes y Jueves de 9:30h a 10:30h.
URL:https://www.mancomunidadlavega.es/event/gimnasia-mayores-redovan-2-2/2019-09-17/
LOCATION:Centro Social de la Tercera Edad. Redován\, C/ Juan XXIII\, s/n\, Redován\, Alicante\, 03370\, España
CATEGORIES:Mayores,Redován
GEO:38.1142082;-0.9076136
X-APPLE-STRUCTURED-LOCATION;VALUE=URI;X-ADDRESS=Centro Social de la Tercera Edad. Redován C/ Juan XXIII s/n Redován Alicante 03370 España;X-APPLE-RADIUS=500;X-TITLE=C/ Juan XXIII\, s/n:geo:-0.9076136,38.1142082
END:VEVENT
BEGIN:VEVENT
DTSTART;TZID=UTC:20190917T113000
DTEND;TZID=UTC:20190917T133000
DTSTAMP:20260422T220430
CREATED:20190910T124919Z
LAST-MODIFIED:20190910T124919Z
UID:26542-1568719800-1568727000@www.mancomunidadlavega.es
SUMMARY:Taller experiencia migratoria. Redován
DESCRIPTION:10\,12\,17\,19 y 26 de septiembre. Martes: 11:30 a 13:30h. Jueves: 11:30 a 13:30h. \n#REDOVÁN \n  \n  \n 
URL:https://www.mancomunidadlavega.es/event/taller-experiencia-migratoria-redovan-2-2/2019-09-17/
LOCATION:Algorfa
CATEGORIES:Extranjeros,Redován
END:VEVENT
BEGIN:VEVENT
DTSTART;TZID=UTC:20190919T113000
DTEND;TZID=UTC:20190919T133000
DTSTAMP:20260422T220430
CREATED:20190910T124955Z
LAST-MODIFIED:20190910T125020Z
UID:26544-1568892600-1568899800@www.mancomunidadlavega.es
SUMMARY:Taller experiencia migratoria. Redován
DESCRIPTION:10\,12\,17\,19 y 26 de septiembre. Martes: 11:30 a 13:30h. Jueves: 11:30 a 13:30h. \n#REDOVÁN \n  \n  \n 
URL:https://www.mancomunidadlavega.es/event/taller-experiencia-migratoria-redovan-2-2-2/2019-09-19/
LOCATION:Algorfa
CATEGORIES:Extranjeros,Redován
END:VEVENT
END:VCALENDAR