BEGIN:VCALENDAR
VERSION:2.0
PRODID:-//Mancomunidad la vega - ECPv6.11.2//NONSGML v1.0//EN
CALSCALE:GREGORIAN
METHOD:PUBLISH
X-ORIGINAL-URL:https://www.mancomunidadlavega.es
X-WR-CALDESC:Eventos para Mancomunidad la vega
REFRESH-INTERVAL;VALUE=DURATION:PT1H
X-Robots-Tag:noindex
X-PUBLISHED-TTL:PT1H
BEGIN:VTIMEZONE
TZID:UTC
BEGIN:STANDARD
TZOFFSETFROM:+0000
TZOFFSETTO:+0000
TZNAME:UTC
DTSTART:20190101T000000
END:STANDARD
END:VTIMEZONE
BEGIN:VEVENT
DTSTART;TZID=UTC:20190325T093000
DTEND;TZID=UTC:20190325T123000
DTSTAMP:20260424T123051
CREATED:20190325T074950Z
LAST-MODIFIED:20241016T110811Z
UID:24966-1553506200-1553517000@www.mancomunidadlavega.es
SUMMARY:Curso lengua y cultura española para extranjeros. Redován
DESCRIPTION:Este mes vuelven los cursos gratuitos de español para personas extranjeras \nSi te quieres inscribir o conoces a alguna persona interesada\,  acude a tus servicios sociales. \n\nElige el nivel: inicial o intermedio-avanzado\nConsulta las fechas y horarios de tu municipio\nInscríbete \n\n\n+ Info.: https://bit.ly/2Q9qtKP \nServicio desarrollado en colaboración con Ciudadanos Extranjeros Diputación de Alicante
URL:https://www.mancomunidadlavega.es/event/curso-lengua-y-cultura-espanola-para-extranjeros-redovan/2019-03-25/
LOCATION:Algorfa
CATEGORIES:Extranjeros,Redován
END:VEVENT
BEGIN:VEVENT
DTSTART;TZID=UTC:20190327T080000
DTEND;TZID=UTC:20190327T170000
DTSTAMP:20260424T123051
CREATED:20190314T121523Z
LAST-MODIFIED:20190314T121523Z
UID:24829-1553673600-1553706000@www.mancomunidadlavega.es
SUMMARY:Prevención del consumo del alcohol en adolescentes. Redován
DESCRIPTION:#ConTalento: talleres para escolares de prevención del consumo de alcohol\nDesde la UPCCA MLV surge la iniciativa desarrollar talleres de prevención escolar dirigidos al alumnado de secundaria\, Bachillerato y Ciclos Formativos\, de edades comprendidas entre los 14 y los 18 años. Con el objetivo de favorecer el desarrollo integral del alumnado a nivel afectivo\, intelectual y social que favorezca el retraso en el inicio de consumo de alcohol asociado al ocio y tiempo libre.\nLos talleres pretenden asociar la campaña #ConTalento desarrollada por MLV a la capacidad de diversión libre del consumo de alcohol u otras drogas. \nLos talleres se basan en la aplicación de metodologías activas de aprendizaje lúdicas y experienciales que favorezcan la adquisición de habilidades para la vida a través de un ambiente colaborativo para: Impulsar la proactividad y el empoderamiento del alumnado\, fomentar el autoconocimiento\, mejorar la autoestima y el asertividad\, promover el pensamiento crítico\, la reflexión y la toma de decisiones\, la creatividad\, la resolución de conflictos y la gestión de la tensiones y estrés\nEste año se impartirán tres sesiones con el alumnado de 2º de ESO del IES Redován. \nSesiones 21 y 27 de marzo\, 17 de abril y 9\,16 y 22 de mayo. \nAcción contemplada dentro de la campaña: #contalento
URL:https://www.mancomunidadlavega.es/event/prevencion-del-consumo-del-alcohol-en-adolescentes-redovan-2/
LOCATION:Alicante
CATEGORIES:Infancia y Familia,Jóvenes,Mujer,Redován
END:VEVENT
BEGIN:VEVENT
DTSTART;TZID=UTC:20190327T093000
DTEND;TZID=UTC:20190327T123000
DTSTAMP:20260424T123051
CREATED:20180814T122634Z
LAST-MODIFIED:20241016T111231Z
UID:21962-1553679000-1553689800@www.mancomunidadlavega.es
SUMMARY:Curso lengua y cultura española para extranjeros. Algorfa
DESCRIPTION:Este mes vuelven los cursos gratuitos de español para personas extranjeras \nSi te quieres inscribir o conoces a alguna persona interesada\, escribe a pangea@mancomunidadlavega.es o acude a tus servicios sociales. \nElige el nivel: inicial o intermedio-avanzado. \nConsulta las fechas y horarios de tu municipio.\nInscríbete  \n\n+ Info.: https://bit.ly/2Q9qtKP \nServicio desarrollado en colaboración con Ciudadanos Extranjeros Diputación de Alicante.
URL:https://www.mancomunidadlavega.es/event/curso-lengua-y-cultura-espanola-para-extranjeros-algorfa/2019-03-27/
LOCATION:Centro Social Algorfa\, Centro Social. Plaza de España\, sn\, Algorfa\, Alicante\, 03169\, España
CATEGORIES:Extranjeros,Redován
GEO:38.0659364;-0.7789426
X-APPLE-STRUCTURED-LOCATION;VALUE=URI;X-ADDRESS=Centro Social Algorfa Centro Social. Plaza de España sn Algorfa Alicante 03169 España;X-APPLE-RADIUS=500;X-TITLE=Centro Social. Plaza de España\, sn:geo:-0.7789426,38.0659364
END:VEVENT
BEGIN:VEVENT
DTSTART;TZID=UTC:20190327T200000
DTEND;TZID=UTC:20190327T210000
DTSTAMP:20260424T123051
CREATED:20190326T100549Z
LAST-MODIFIED:20190326T100736Z
UID:25045-1553716800-1553720400@www.mancomunidadlavega.es
SUMMARY:Taller de Risoterapia. Redován
DESCRIPTION:  \n+info.  en el trámite Risoterapia \n 
URL:https://www.mancomunidadlavega.es/event/risoterapia-redovan-2019/
LOCATION:Centro Social de la Tercera Edad. Redován\, C/ Juan XXIII\, s/n\, Redován\, Alicante\, 03370\, España
CATEGORIES:Mujer,Redován
GEO:38.1142082;-0.9076136
X-APPLE-STRUCTURED-LOCATION;VALUE=URI;X-ADDRESS=Centro Social de la Tercera Edad. Redován C/ Juan XXIII s/n Redován Alicante 03370 España;X-APPLE-RADIUS=500;X-TITLE=C/ Juan XXIII\, s/n:geo:-0.9076136,38.1142082
END:VEVENT
END:VCALENDAR