BEGIN:VCALENDAR
VERSION:2.0
PRODID:-//Mancomunidad la vega - ECPv6.11.2//NONSGML v1.0//EN
CALSCALE:GREGORIAN
METHOD:PUBLISH
X-WR-CALNAME:Mancomunidad la vega
X-ORIGINAL-URL:https://www.mancomunidadlavega.es
X-WR-CALDESC:Eventos para Mancomunidad la vega
REFRESH-INTERVAL;VALUE=DURATION:PT1H
X-Robots-Tag:noindex
X-PUBLISHED-TTL:PT1H
BEGIN:VTIMEZONE
TZID:UTC
BEGIN:STANDARD
TZOFFSETFROM:+0000
TZOFFSETTO:+0000
TZNAME:UTC
DTSTART:20180101T000000
END:STANDARD
END:VTIMEZONE
BEGIN:VEVENT
DTSTART;TZID=UTC:20181219T080000
DTEND;TZID=UTC:20181219T150000
DTSTAMP:20260426T035219
CREATED:20181204T113454Z
LAST-MODIFIED:20181204T113501Z
UID:24149-1545206400-1545231600@www.mancomunidadlavega.es
SUMMARY:No me toques el Whatsapp. Redován
DESCRIPTION:Talleres prevención violencia de género con alumnado de secundaria. No me toques el Whatsapp. \n+info. No me toques el Whatsapp
URL:https://www.mancomunidadlavega.es/event/no-me-toques-el-whatsapp-redovan/
LOCATION:Algorfa
CATEGORIES:Redován
END:VEVENT
END:VCALENDAR