BEGIN:VCALENDAR
VERSION:2.0
PRODID:-//Mancomunidad la vega - ECPv6.11.2//NONSGML v1.0//EN
CALSCALE:GREGORIAN
METHOD:PUBLISH
X-ORIGINAL-URL:https://www.mancomunidadlavega.es
X-WR-CALDESC:Eventos para Mancomunidad la vega
REFRESH-INTERVAL;VALUE=DURATION:PT1H
X-Robots-Tag:noindex
X-PUBLISHED-TTL:PT1H
BEGIN:VTIMEZONE
TZID:UTC
BEGIN:STANDARD
TZOFFSETFROM:+0000
TZOFFSETTO:+0000
TZNAME:UTC
DTSTART:20190101T000000
END:STANDARD
END:VTIMEZONE
BEGIN:VEVENT
DTSTART;TZID=UTC:20190317T190000
DTEND;TZID=UTC:20190317T200000
DTSTAMP:20260424T074419
CREATED:20190315T113058Z
LAST-MODIFIED:20190315T113058Z
UID:24875-1552849200-1552852800@www.mancomunidadlavega.es
SUMMARY:TEATRO. MUJERES DE LA GENERACIÓN DEL 26. REDOVÁN
DESCRIPTION:TEATRO «Mujeres de la Generación del 26\, Lyceum Club Femenino» por la Asociación Mujeres x Mujeres. \nLugar: Centro Social Ricardo Ruiz Poveda \nHorario: 19:00h
URL:https://www.mancomunidadlavega.es/event/teatro-mujeres-de-la-generacion-del-26-redovan/
LOCATION:Alicante
CATEGORIES:Mujer,Redován
END:VEVENT
END:VCALENDAR