BEGIN:VCALENDAR
VERSION:2.0
PRODID:-//Mancomunidad la vega - ECPv6.11.2//NONSGML v1.0//EN
CALSCALE:GREGORIAN
METHOD:PUBLISH
X-ORIGINAL-URL:https://www.mancomunidadlavega.es
X-WR-CALDESC:Eventos para Mancomunidad la vega
REFRESH-INTERVAL;VALUE=DURATION:PT1H
X-Robots-Tag:noindex
X-PUBLISHED-TTL:PT1H
BEGIN:VTIMEZONE
TZID:UTC
BEGIN:STANDARD
TZOFFSETFROM:+0000
TZOFFSETTO:+0000
TZNAME:UTC
DTSTART:20190101T000000
END:STANDARD
END:VTIMEZONE
BEGIN:VEVENT
DTSTART;TZID=UTC:20190308T100000
DTEND;TZID=UTC:20190308T123000
DTSTAMP:20260424T044415
CREATED:20190315T114541Z
LAST-MODIFIED:20190315T114554Z
UID:24883-1552039200-1552048200@www.mancomunidadlavega.es
SUMMARY:ESPECTÁCULO COEDUCATIVO QUIERO SER ASTRONAUTA. REDOVÁN
DESCRIPTION:Para Escolares de Primaria \nLugar: Centro Social Ricardo Ruiz Poveda. \n 
URL:https://www.mancomunidadlavega.es/event/espectaculo-coeducativo-quiero-ser-astronauta-redovan/
LOCATION:Alicante
CATEGORIES:Infancia y Familia,Mujer,Redován
END:VEVENT
BEGIN:VEVENT
DTSTART;TZID=UTC:20190308T110000
DTEND;TZID=UTC:20190308T130000
DTSTAMP:20260424T044415
CREATED:20190315T115312Z
LAST-MODIFIED:20190315T115312Z
UID:24893-1552042800-1552050000@www.mancomunidadlavega.es
SUMMARY:TEATRO DE CALLE MARACAIBO. REDOVÁN
DESCRIPTION:
URL:https://www.mancomunidadlavega.es/event/teatro-de-calle-maracaibo-redovan/
LOCATION:Alicante
CATEGORIES:Mujer,Redován
END:VEVENT
END:VCALENDAR