BEGIN:VCALENDAR
VERSION:2.0
PRODID:-//Mancomunidad la vega - ECPv6.11.2//NONSGML v1.0//EN
CALSCALE:GREGORIAN
METHOD:PUBLISH
X-ORIGINAL-URL:https://www.mancomunidadlavega.es
X-WR-CALDESC:Eventos para Mancomunidad la vega
REFRESH-INTERVAL;VALUE=DURATION:PT1H
X-Robots-Tag:noindex
X-PUBLISHED-TTL:PT1H
BEGIN:VTIMEZONE
TZID:UTC
BEGIN:STANDARD
TZOFFSETFROM:+0000
TZOFFSETTO:+0000
TZNAME:UTC
DTSTART:20190101T000000
END:STANDARD
END:VTIMEZONE
BEGIN:VEVENT
DTSTART;TZID=UTC:20190307T080000
DTEND;TZID=UTC:20190307T170000
DTSTAMP:20260424T044404
CREATED:20190315T114303Z
LAST-MODIFIED:20190528T073338Z
UID:24880-1551945600-1551978000@www.mancomunidadlavega.es
SUMMARY:TALLERES EDUCATIVOS EN VALORES. REDOVÁN
DESCRIPTION:Para escolares de primaria. CEIP SAGRADOS CORAZONES. \nHorario: En horario escolar.
URL:https://www.mancomunidadlavega.es/event/talleres-educativos-en-valores-redovan/
LOCATION:Alicante
CATEGORIES:Mujer,Redován
END:VEVENT
END:VCALENDAR