BEGIN:VCALENDAR
VERSION:2.0
PRODID:-//Mancomunidad la vega - ECPv6.11.2//NONSGML v1.0//EN
CALSCALE:GREGORIAN
METHOD:PUBLISH
X-WR-CALNAME:Mancomunidad la vega
X-ORIGINAL-URL:https://www.mancomunidadlavega.es
X-WR-CALDESC:Eventos para Mancomunidad la vega
REFRESH-INTERVAL;VALUE=DURATION:PT1H
X-Robots-Tag:noindex
X-PUBLISHED-TTL:PT1H
BEGIN:VTIMEZONE
TZID:UTC
BEGIN:STANDARD
TZOFFSETFROM:+0000
TZOFFSETTO:+0000
TZNAME:UTC
DTSTART:20190101T000000
END:STANDARD
END:VTIMEZONE
BEGIN:VEVENT
DTSTART;TZID=UTC:20190228T080000
DTEND;TZID=UTC:20190228T170000
DTSTAMP:20260424T135643
CREATED:20190315T114712Z
LAST-MODIFIED:20190315T114712Z
UID:24885-1551340800-1551373200@www.mancomunidadlavega.es
SUMMARY:CENA DE MUJERES. REDOVÁN
DESCRIPTION:Lugar: Restaurante D’Manuel. \nPrecio:25€ \nHorario: 21:00h
URL:https://www.mancomunidadlavega.es/event/cena-de-mujeres-redovan/
LOCATION:Alicante
CATEGORIES:Mujer,Redován
END:VEVENT
END:VCALENDAR