BEGIN:VCALENDAR
VERSION:2.0
PRODID:-//Mancomunidad la vega - ECPv6.11.2//NONSGML v1.0//EN
CALSCALE:GREGORIAN
METHOD:PUBLISH
X-WR-CALNAME:Mancomunidad la vega
X-ORIGINAL-URL:https://www.mancomunidadlavega.es
X-WR-CALDESC:Eventos para Mancomunidad la vega
REFRESH-INTERVAL;VALUE=DURATION:PT1H
X-Robots-Tag:noindex
X-PUBLISHED-TTL:PT1H
BEGIN:VTIMEZONE
TZID:UTC
BEGIN:STANDARD
TZOFFSETFROM:+0000
TZOFFSETTO:+0000
TZNAME:UTC
DTSTART:20210101T000000
END:STANDARD
END:VTIMEZONE
BEGIN:VEVENT
DTSTART;TZID=UTC:20211102T160000
DTEND;TZID=UTC:20211102T200000
DTSTAMP:20260420T004901
CREATED:20211025T064815Z
LAST-MODIFIED:20211027T124235Z
UID:35596-1635868800-1635883200@www.mancomunidadlavega.es
SUMMARY:Curso Primeros Auxilios. Redován
DESCRIPTION:
URL:https://www.mancomunidadlavega.es/event/curso-primeros-auxilios-redovan/
LOCATION:CENTRO SOCIAL RICARDO RUIZ POVEDA\, SAN JERÓNIMO\, 1\, 03370\, Alicante\, 03370\, España
CATEGORIES:Jóvenes,Redován
GEO:38.1138778;-0.9070622
X-APPLE-STRUCTURED-LOCATION;VALUE=URI;X-ADDRESS=CENTRO SOCIAL RICARDO RUIZ POVEDA SAN JERÓNIMO 1 03370 Alicante 03370 España;X-APPLE-RADIUS=500;X-TITLE=SAN JERÓNIMO\, 1:geo:-0.9070622,38.1138778
END:VEVENT
BEGIN:VEVENT
DTSTART;TZID=UTC:20211108T090000
DTEND;TZID=UTC:20211108T103000
DTSTAMP:20260420T004901
CREATED:20211022T112053Z
LAST-MODIFIED:20211022T112053Z
UID:35574-1636362000-1636367400@www.mancomunidadlavega.es
SUMMARY:Taller mi herencia. Redován
DESCRIPTION:
URL:https://www.mancomunidadlavega.es/event/taller-mi-herencia-redovan/
LOCATION:Centro Social de la Tercera Edad. Redován\, C/ Juan XXIII\, s/n\, Redován\, Alicante\, 03370\, España
CATEGORIES:Mayores,Redován
GEO:38.1142082;-0.9076136
X-APPLE-STRUCTURED-LOCATION;VALUE=URI;X-ADDRESS=Centro Social de la Tercera Edad. Redován C/ Juan XXIII s/n Redován Alicante 03370 España;X-APPLE-RADIUS=500;X-TITLE=C/ Juan XXIII\, s/n:geo:-0.9076136,38.1142082
END:VEVENT
BEGIN:VEVENT
DTSTART;TZID=UTC:20211115T080000
DTEND;TZID=UTC:20211115T170000
DTSTAMP:20260420T004901
CREATED:20211115T105626Z
LAST-MODIFIED:20211115T110103Z
UID:35825-1636963200-1636995600@www.mancomunidadlavega.es
SUMMARY:15N. DÍA MUNDIAL SIN ALCOHOL
DESCRIPTION:Nuestras hijas e hijos nos ven beber alcohol en fiestas\, celebraciones y comidas.\n\n\n Observan cómo lo compramos y lo vendemos.\n\n\n Consumen redes sociales\, publicidad\, canciones y series que anima a su consumo y …\, documentales y telediarios que lo demonizan.\n\n\n Escuchan hablar de alcohol de forma positiva y divertida: en ocasiones\, hablamos de borracheras de forma intrascendente\, despreocupada e incluso apetecible\, y otras de forma alarmista y catastrofista…\n\n\n El alcohol forma parte de la vida social\, cultural y económica. Nuestras hijas e hijos\, observan cómo nos relacionamos con él\, y según la edad\, sacan sus propias conclusiones. Obtienen información de sus propias experiencias\, del entorno y de LA FAMILIA.\n\n\nLa realidad es que el consumo de alcohol supone riesgos. Muchos jóvenes empiezan a beber a edades tempranas.\n\n\nLa mejor manera de prevenir estos riesgos es hablar de forma abierta y sincera sobre el alcohol y las drogas. Sin dogmas y moralinas. Mostrando que somos fuente de información fiable y apoyo seguro ante situaciones de riesgo.\n\n\n#Hablemos en familia del alcohol. #Aprendamos a conversar sobre drogas. #Conozcamos a nuestros hijos/as: ¿qué información buscan?\, ¿qué les parece importante en cada etapa?\, #Desafiemos mitos y creencias equivocadas\, #ayudémosles a crecer de forma segura.\n\n\n#DíaMundialsinAlcohol #Hablar del alcohol en familia es prevención\n\n\n#MancomunidadlaVega #Salud #UPCCA #Algorfa @aytoredovan @ayto.jacarilla @ayuntamientosanmigueldesalinas\n\n 
URL:https://www.mancomunidadlavega.es/event/15n-dia-mundial-sin-alcohol/
LOCATION:Alicante
CATEGORIES:Algorfa,Jacarilla,Redován,San Miguel de Salinas
END:VEVENT
BEGIN:VEVENT
DTSTART;TZID=UTC:20211115T160000
DTEND;TZID=UTC:20211115T200000
DTSTAMP:20260420T004901
CREATED:20211025T083450Z
LAST-MODIFIED:20211025T093904Z
UID:35635-1636992000-1637006400@www.mancomunidadlavega.es
SUMMARY:Curso de limpieza. Redován
DESCRIPTION:
URL:https://www.mancomunidadlavega.es/event/curso-de-limpieza-algorfa-2-2-2/2021-11-15/
LOCATION:Algorfa
CATEGORIES:Jóvenes,Redován
END:VEVENT
BEGIN:VEVENT
DTSTART;TZID=UTC:20211123T180000
DTEND;TZID=UTC:20211123T200000
DTSTAMP:20260420T004901
CREATED:20211112T111534Z
LAST-MODIFIED:20230224T120435Z
UID:35802-1637690400-1637697600@www.mancomunidadlavega.es
SUMMARY:#HablemosdeAlcoholenFamilia. Redován
DESCRIPTION:“HABLAR DE ALCOHOL en familia”\, conversar con éxito sobre el alcohol y sus riesgos. \nEste taller pretende\, de forma práctica\, ayudar a padres\, madres y educadores/as a iniciar conversaciones útiles sobre el alcohol con sus hijos e hijas. Porque sabemos que la mejor manera de prevenir problemas por el uso de alcohol es hablando abierta y sinceramente sobre este tema hijos e hijas. \nContenido: \n\nHablar de alcohol y que te entiendan: uso de ejemplos e historias para explicar ¿qué es?\, cuáles son sus efectos y ¿por qué se consume?.\nCuándo hacerlo: crear momentos y aprovechar oportunidades: películas\, series…¿a partir de qué edad hacerlo?\nEnseñar a esperar: cómo podemos retrasar la edad de inicio en su consumo.\nHabilidades para escuchar\, detectar y gestionar riesgos.\nClaves para actuar ante los primeros consumos de riesgo.\n\nEl taller será impartido por la psicóloga de la Unidad de Prevención Comunitaria en Conductas Adictivas (UPCCA) de Mancomunidad La Vega. \n\nMARTES 23 DE NOVIEMBRE:\n\n16:00 Algorfa. Centro Cívico y Social 1ª Planta.\n18:00h Redován. Salón de actos del Centro Tercera Edad\, Planta Baja.\n\n\nMIÉRCOLES 24 DE NOVIEMBRE:\n\n16:00 San Miguel de Salinas. Servicios Sociales. 1ª Planta\n\n\n JUEVES 25 DE NOVIEMBRE\n\n16:00 Jacarilla. Salón de Actos del Centro Social.\n\n\n\nINSCRIPCIONES. Llamar o enviar mensaje. \nWhatsapp. 645 920 626
URL:https://www.mancomunidadlavega.es/event/hablemosdealcoholenfamilia-redovan/
LOCATION:Salón de actos del Centro Social Jacarilla
CATEGORIES:Infancia y Familia,Redován
END:VEVENT
END:VCALENDAR