BEGIN:VCALENDAR
VERSION:2.0
PRODID:-//Mancomunidad la vega - ECPv6.11.2//NONSGML v1.0//EN
CALSCALE:GREGORIAN
METHOD:PUBLISH
X-ORIGINAL-URL:https://www.mancomunidadlavega.es
X-WR-CALDESC:Eventos para Mancomunidad la vega
REFRESH-INTERVAL;VALUE=DURATION:PT1H
X-Robots-Tag:noindex
X-PUBLISHED-TTL:PT1H
BEGIN:VTIMEZONE
TZID:UTC
BEGIN:STANDARD
TZOFFSETFROM:+0000
TZOFFSETTO:+0000
TZNAME:UTC
DTSTART:20200101T000000
END:STANDARD
END:VTIMEZONE
BEGIN:VEVENT
DTSTART;TZID=UTC:20200203T000000
DTEND;TZID=UTC:20200203T000000
DTSTAMP:20260421T225305
CREATED:20200123T112752Z
LAST-MODIFIED:20200124T080511Z
UID:28150-1580688000-1580688000@www.mancomunidadlavega.es
SUMMARY:Curso manejo de móviles para mayores
DESCRIPTION:En este curso nuestros mayores aprenderán a usar y perfeccionar las nuevas tecnologías. \nSe realizará en Algorfa\, Jacarilla\, Redován y San Miguel de Salinas. \nRedován: lunes de 9:00h a 10.30h\, en el centro social de la 3ª edad\, primera planta.\nAlgorfa: lunes de 11:00h a 12.30h\, en el centro social\, primera planta.\nSan Miguel: lunes de 16.30h a 18:00h\, en el centro social.\nJacarilla: lunes de 18.30h a 20:00h\, en el centro social.
URL:https://www.mancomunidadlavega.es/event/curso-manejo-de-moviles-para-mayores/
LOCATION:Alicante
CATEGORIES:Algorfa,Jacarilla,Mayores,Redován,San Miguel de Salinas
END:VEVENT
BEGIN:VEVENT
DTSTART;TZID=UTC:20200205T080000
DTEND;TZID=UTC:20200205T150000
DTSTAMP:20260421T225305
CREATED:20200120T134822Z
LAST-MODIFIED:20200120T134830Z
UID:28118-1580889600-1580914800@www.mancomunidadlavega.es
SUMMARY:Taller educación afectivo sexual. Redován
DESCRIPTION:Sexualidades es una formación compuesta por talleres de educación sexual dirigidos al alumnado de los Institutos de Educación Secundaria de la Mancomunidad La Vega\, en la que se pretende crear un espacio educativo para trabajar conceptos clave de la sexualidad y el afecto que construyen relaciones sanas. \n+Info.: Sexualidades. Talleres educación afectivo sexual
URL:https://www.mancomunidadlavega.es/event/taller-educacion-afectivo-sexual-redovan-3/
LOCATION:IES Jaime de Sant-Ángel\, Av. de la Libertad\, 0\, Redován\, Alicante\, 03370\, España
CATEGORIES:Jóvenes,Redován
GEO:38.1115266;-0.9066667
X-APPLE-STRUCTURED-LOCATION;VALUE=URI;X-ADDRESS=IES Jaime de Sant-Ángel Av. de la Libertad 0 Redován Alicante 03370 España;X-APPLE-RADIUS=500;X-TITLE=Av. de la Libertad\, 0:geo:-0.9066667,38.1115266
END:VEVENT
BEGIN:VEVENT
DTSTART;TZID=UTC:20200207T080000
DTEND;TZID=UTC:20200207T150000
DTSTAMP:20260421T225305
CREATED:20200120T134856Z
LAST-MODIFIED:20200120T134856Z
UID:28120-1581062400-1581087600@www.mancomunidadlavega.es
SUMMARY:Taller educación afectivo sexual. Redován
DESCRIPTION:Sexualidades es una formación compuesta por talleres de educación sexual dirigidos al alumnado de los Institutos de Educación Secundaria de la Mancomunidad La Vega\, en la que se pretende crear un espacio educativo para trabajar conceptos clave de la sexualidad y el afecto que construyen relaciones sanas. \n+Info.: Sexualidades. Talleres educación afectivo sexual
URL:https://www.mancomunidadlavega.es/event/taller-educacion-afectivo-sexual-redovan-4/
LOCATION:IES Jaime de Sant-Ángel\, Av. de la Libertad\, 0\, Redován\, Alicante\, 03370\, España
CATEGORIES:Jóvenes,Redován
GEO:38.1115266;-0.9066667
X-APPLE-STRUCTURED-LOCATION;VALUE=URI;X-ADDRESS=IES Jaime de Sant-Ángel Av. de la Libertad 0 Redován Alicante 03370 España;X-APPLE-RADIUS=500;X-TITLE=Av. de la Libertad\, 0:geo:-0.9066667,38.1115266
END:VEVENT
BEGIN:VEVENT
DTSTART;TZID=UTC:20200210T000000
DTEND;TZID=UTC:20200210T000000
DTSTAMP:20260421T225305
CREATED:20200123T113709Z
LAST-MODIFIED:20200124T075930Z
UID:28155-1581292800-1581292800@www.mancomunidadlavega.es
SUMMARY:Curso manejo de móviles para mayores
DESCRIPTION:En este curso nuestros mayores aprenderán a usar y perfeccionar las nuevas tecnologías. \nSe realizará en Algorfa\, Jacarilla\, Redován y San Miguel de Salinas. \nRedován: lunes de 9:00h a 10.30h\, en el centro social de la 3ª edad\, primera planta.\nAlgorfa: lunes de 11:00h a 12.30h\, en el centro social\, primera planta.\nSan Miguel: lunes de 16.30h a 18:00h\, en el centro social.\nJacarilla: lunes de 18.30h a 20:00h\, en el centro social.
URL:https://www.mancomunidadlavega.es/event/curso-manejo-moviles-mayores/
LOCATION:Alicante
CATEGORIES:Algorfa,Jacarilla,Mayores,Redován,San Miguel de Salinas
END:VEVENT
BEGIN:VEVENT
DTSTART;TZID=UTC:20200214T080000
DTEND;TZID=UTC:20200214T150000
DTSTAMP:20260421T225305
CREATED:20200120T134924Z
LAST-MODIFIED:20200120T135442Z
UID:28122-1581667200-1581692400@www.mancomunidadlavega.es
SUMMARY:Taller educación afectivo sexual. Redován
DESCRIPTION:Sexualidades es una formación compuesta por talleres de educación sexual dirigidos al alumnado de los Institutos de Educación Secundaria de la Mancomunidad La Vega\, en la que se pretende crear un espacio educativo para trabajar conceptos clave de la sexualidad y el afecto que construyen relaciones sanas. \n+Info.: Sexualidades. Talleres educación afectivo sexual
URL:https://www.mancomunidadlavega.es/event/taller-educacion-afectivo-sexual-redovan-5/
LOCATION:IES Jaime de Sant-Ángel\, Av. de la Libertad\, 0\, Redován\, Alicante\, 03370\, España
CATEGORIES:Jóvenes,Redován
GEO:38.1115266;-0.9066667
X-APPLE-STRUCTURED-LOCATION;VALUE=URI;X-ADDRESS=IES Jaime de Sant-Ángel Av. de la Libertad 0 Redován Alicante 03370 España;X-APPLE-RADIUS=500;X-TITLE=Av. de la Libertad\, 0:geo:-0.9066667,38.1115266
END:VEVENT
BEGIN:VEVENT
DTSTART;TZID=UTC:20200217T000000
DTEND;TZID=UTC:20200217T000000
DTSTAMP:20260421T225305
CREATED:20200123T114558Z
LAST-MODIFIED:20200124T081541Z
UID:28157-1581897600-1581897600@www.mancomunidadlavega.es
SUMMARY:Taller sexualidad en la tercera edad.
DESCRIPTION:La Escuela de Mayores de la MLV organiza el  «Taller de Sexualidad en la Tercera Edad». \nRealización: \nRedován: lunes 17 de febrero\, de 9:00h a 10.30h\, en el Centro Social de la 3ª edad\, primera planta.\nAlgorfa: lunes 17 de febrero\, de 11:00h a 12.30h\, en el Centro Social\, primera planta.\nSan Miguel: lunes 24 de febrero\, de 16.30h a 18:00h\, en el Centro Social.\nJacarilla: lunes 24 de febrero\, de 18.30h a 20:00h\, en el Centro Social.
URL:https://www.mancomunidadlavega.es/event/taller-sexualidad-en-la-tercera-edad/
LOCATION:Alicante
CATEGORIES:Algorfa,Diversidad Funcional,Jacarilla,Mayores,Redován,San Miguel de Salinas
END:VEVENT
BEGIN:VEVENT
DTSTART;TZID=UTC:20200224T000000
DTEND;TZID=UTC:20200224T000000
DTSTAMP:20260421T225305
CREATED:20200124T081151Z
LAST-MODIFIED:20200124T081434Z
UID:28171-1582502400-1582502400@www.mancomunidadlavega.es
SUMMARY:Taller sexualidad en la tercera edad.
DESCRIPTION:La Escuela de Mayores de la MLV organiza el  «Taller de Sexualidad en la Tercera Edad». \nRealización: \nRedován: lunes 17 de febrero\, de 9:00h a 10.30h\, en el Centro Social de la 3ª edad\, primera planta.\nAlgorfa: lunes 17 de febrero\, de 11:00h a 12.30h\, en el Centro Social\, primera planta.\nSan Miguel: lunes 24 de febrero\, de 16.30h a 18:00h\, en el Centro Social.\nJacarilla: lunes 24 de febrero\, de 18.30h a 20:00h\, en el Centro Social.
URL:https://www.mancomunidadlavega.es/event/taller-sexualidad-en-la-tercera-edad-2/
LOCATION:Alicante
CATEGORIES:Algorfa,Diversidad Funcional,Jacarilla,Mayores,Redován,San Miguel de Salinas
END:VEVENT
END:VCALENDAR