BEGIN:VCALENDAR
VERSION:2.0
PRODID:-//Mancomunidad la vega - ECPv6.11.2//NONSGML v1.0//EN
CALSCALE:GREGORIAN
METHOD:PUBLISH
X-WR-CALNAME:Mancomunidad la vega
X-ORIGINAL-URL:https://www.mancomunidadlavega.es
X-WR-CALDESC:Eventos para Mancomunidad la vega
REFRESH-INTERVAL;VALUE=DURATION:PT1H
X-Robots-Tag:noindex
X-PUBLISHED-TTL:PT1H
BEGIN:VTIMEZONE
TZID:UTC
BEGIN:STANDARD
TZOFFSETFROM:+0000
TZOFFSETTO:+0000
TZNAME:UTC
DTSTART:20200101T000000
END:STANDARD
END:VTIMEZONE
BEGIN:VEVENT
DTSTART;TZID=UTC:20200112T090000
DTEND;TZID=UTC:20200112T103000
DTSTAMP:20260422T002851
CREATED:20200301T110527Z
LAST-MODIFIED:20200406T203100Z
UID:26880-1578819600-1578825000@www.mancomunidadlavega.es
SUMMARY:Escuela de Mayores. Redován
DESCRIPTION:A través del Programa CALIDAD DE VIDA se ponen en marcha diversas actividades cuya finalidad es mantener activos tanto física como mentalmente a las personas mayores\, contribuyendo así a prevenir situaciones propias del proceso de envejecimiento como el aislamiento\, la perdida de autonomía personal y social\, el deterioro físico y cognitivo\,… Los talleres para el año 2019/2020 son: \nGimnasia para mayores (incorpora paseos saludables)\, Escuela de Mayores.\n \nEste programa se lleva a cabo con el apoyo del area de Bienestar Social de la Diputación Provincial. +Info. escuela-mayores
URL:https://www.mancomunidadlavega.es/event/escuela-de-mayores-redovan-3/2020-01-12/
LOCATION:Centro Social de la Tercera Edad. Redován\, C/ Juan XXIII\, s/n\, Redován\, Alicante\, 03370\, España
CATEGORIES:Mayores,Redován
GEO:38.1142082;-0.9076136
X-APPLE-STRUCTURED-LOCATION;VALUE=URI;X-ADDRESS=Centro Social de la Tercera Edad. Redován C/ Juan XXIII s/n Redován Alicante 03370 España;X-APPLE-RADIUS=500;X-TITLE=C/ Juan XXIII\, s/n:geo:-0.9076136,38.1142082
END:VEVENT
BEGIN:VEVENT
DTSTART;TZID=UTC:20200115T100000
DTEND;TZID=UTC:20200115T113000
DTSTAMP:20260422T002851
CREATED:20200301T115026Z
LAST-MODIFIED:20200406T203314Z
UID:26897-1579082400-1579087800@www.mancomunidadlavega.es
SUMMARY:Escuela de mayores. San Carlos
DESCRIPTION:A través del Programa CALIDAD DE VIDA se ponen en marcha diversas actividades cuya finalidad es mantener activos tanto física como mentalmente a las personas mayores\, contribuyendo así a prevenir situaciones propias del proceso de envejecimiento como el aislamiento\, la perdida de autonomía personal y social\, el deterioro físico y cognitivo\,… Los talleres para el año 2019/2020 son: \nGimnasia para mayores (incorpora paseos saludables)\, Escuela de Mayores.\n \nEste programa se lleva a cabo con el apoyo del area de Bienestar Social de la Diputación Provincial. +Info. escuela-mayores
URL:https://www.mancomunidadlavega.es/event/escuela-de-mayores-san-carlos/2020-01-15/
LOCATION:Alicante
CATEGORIES:Mayores,Redován
END:VEVENT
BEGIN:VEVENT
DTSTART;TZID=UTC:20200122T080000
DTEND;TZID=UTC:20200122T150000
DTSTAMP:20260422T002851
CREATED:20200120T132414Z
LAST-MODIFIED:20200120T132414Z
UID:28108-1579680000-1579705200@www.mancomunidadlavega.es
SUMMARY:Taller educación afectivo sexual. Redován
DESCRIPTION:Sexualidades es una formación compuesta por talleres de educación sexual dirigidos al alumnado de los Institutos de Educación Secundaria de la Mancomunidad La Vega\, en la que se pretende crear un espacio educativo para trabajar conceptos clave de la sexualidad y el afecto que construyen relaciones sanas. \n+Info.: Sexualidades. Talleres educación afectivo sexual
URL:https://www.mancomunidadlavega.es/event/talleres-educacion-afectivo-sexual-2/
LOCATION:IES Jaime de Sant-Ángel\, Av. de la Libertad\, 0\, Redován\, Alicante\, 03370\, España
CATEGORIES:Jóvenes,Redován,San Miguel de Salinas
GEO:38.1115266;-0.9066667
X-APPLE-STRUCTURED-LOCATION;VALUE=URI;X-ADDRESS=IES Jaime de Sant-Ángel Av. de la Libertad 0 Redován Alicante 03370 España;X-APPLE-RADIUS=500;X-TITLE=Av. de la Libertad\, 0:geo:-0.9066667,38.1115266
END:VEVENT
BEGIN:VEVENT
DTSTART;TZID=UTC:20200123T080000
DTEND;TZID=UTC:20200123T150000
DTSTAMP:20260422T002851
CREATED:20200120T132453Z
LAST-MODIFIED:20200120T132512Z
UID:28110-1579766400-1579791600@www.mancomunidadlavega.es
SUMMARY:Taller educación afectivo sexual. Redován
DESCRIPTION:Sexualidades es una formación compuesta por talleres de educación sexual dirigidos al alumnado de los Institutos de Educación Secundaria de la Mancomunidad La Vega\, en la que se pretende crear un espacio educativo para trabajar conceptos clave de la sexualidad y el afecto que construyen relaciones sanas. \n+Info.: Sexualidades. Talleres educación afectivo sexual
URL:https://www.mancomunidadlavega.es/event/talleres-educacion-afectivo-sexual-redovan/
LOCATION:IES Jaime de Sant-Ángel\, Av. de la Libertad\, 0\, Redován\, Alicante\, 03370\, España
CATEGORIES:Jóvenes,Redován
GEO:38.1115266;-0.9066667
X-APPLE-STRUCTURED-LOCATION;VALUE=URI;X-ADDRESS=IES Jaime de Sant-Ángel Av. de la Libertad 0 Redován Alicante 03370 España;X-APPLE-RADIUS=500;X-TITLE=Av. de la Libertad\, 0:geo:-0.9066667,38.1115266
END:VEVENT
BEGIN:VEVENT
DTSTART;TZID=UTC:20200127T080000
DTEND;TZID=UTC:20200127T150000
DTSTAMP:20260422T002851
CREATED:20200120T134545Z
LAST-MODIFIED:20200120T134545Z
UID:28112-1580112000-1580137200@www.mancomunidadlavega.es
SUMMARY:Taller educación afectivo sexual. Redován
DESCRIPTION:Sexualidades es una formación compuesta por talleres de educación sexual dirigidos al alumnado de los Institutos de Educación Secundaria de la Mancomunidad La Vega\, en la que se pretende crear un espacio educativo para trabajar conceptos clave de la sexualidad y el afecto que construyen relaciones sanas. \n+Info.: Sexualidades. Talleres educación afectivo sexual
URL:https://www.mancomunidadlavega.es/event/talleres-educacion-afectivo-sexual-redovan-2/
LOCATION:IES Jaime de Sant-Ángel\, Av. de la Libertad\, 0\, Redován\, Alicante\, 03370\, España
CATEGORIES:Jóvenes,Redován
GEO:38.1115266;-0.9066667
X-APPLE-STRUCTURED-LOCATION;VALUE=URI;X-ADDRESS=IES Jaime de Sant-Ángel Av. de la Libertad 0 Redován Alicante 03370 España;X-APPLE-RADIUS=500;X-TITLE=Av. de la Libertad\, 0:geo:-0.9066667,38.1115266
END:VEVENT
BEGIN:VEVENT
DTSTART;TZID=UTC:20200129T080000
DTEND;TZID=UTC:20200129T150000
DTSTAMP:20260422T002851
CREATED:20200120T134619Z
LAST-MODIFIED:20200120T134703Z
UID:28114-1580284800-1580310000@www.mancomunidadlavega.es
SUMMARY:Taller educación afectivo sexual. Redován
DESCRIPTION:Sexualidades es una formación compuesta por talleres de educación sexual dirigidos al alumnado de los Institutos de Educación Secundaria de la Mancomunidad La Vega\, en la que se pretende crear un espacio educativo para trabajar conceptos clave de la sexualidad y el afecto que construyen relaciones sanas. \n+Info.: Sexualidades. Talleres educación afectivo sexual
URL:https://www.mancomunidadlavega.es/event/taller-educacion-afectivo-sexual-redovan/
LOCATION:IES Jaime de Sant-Ángel\, Av. de la Libertad\, 0\, Redován\, Alicante\, 03370\, España
CATEGORIES:Jóvenes,Redován
GEO:38.1115266;-0.9066667
X-APPLE-STRUCTURED-LOCATION;VALUE=URI;X-ADDRESS=IES Jaime de Sant-Ángel Av. de la Libertad 0 Redován Alicante 03370 España;X-APPLE-RADIUS=500;X-TITLE=Av. de la Libertad\, 0:geo:-0.9066667,38.1115266
END:VEVENT
BEGIN:VEVENT
DTSTART;TZID=UTC:20200130T080000
DTEND;TZID=UTC:20200130T150000
DTSTAMP:20260422T002851
CREATED:20200120T134731Z
LAST-MODIFIED:20200120T134731Z
UID:28116-1580371200-1580396400@www.mancomunidadlavega.es
SUMMARY:Taller educación afectivo sexual. Redován
DESCRIPTION:Sexualidades es una formación compuesta por talleres de educación sexual dirigidos al alumnado de los Institutos de Educación Secundaria de la Mancomunidad La Vega\, en la que se pretende crear un espacio educativo para trabajar conceptos clave de la sexualidad y el afecto que construyen relaciones sanas. \n+Info.: Sexualidades. Talleres educación afectivo sexual
URL:https://www.mancomunidadlavega.es/event/taller-educacion-afectivo-sexual-redovan-2/
LOCATION:IES Jaime de Sant-Ángel\, Av. de la Libertad\, 0\, Redován\, Alicante\, 03370\, España
CATEGORIES:Jóvenes,Redován
GEO:38.1115266;-0.9066667
X-APPLE-STRUCTURED-LOCATION;VALUE=URI;X-ADDRESS=IES Jaime de Sant-Ángel Av. de la Libertad 0 Redován Alicante 03370 España;X-APPLE-RADIUS=500;X-TITLE=Av. de la Libertad\, 0:geo:-0.9066667,38.1115266
END:VEVENT
END:VCALENDAR