BEGIN:VCALENDAR
VERSION:2.0
PRODID:-//Mancomunidad la vega - ECPv6.11.2//NONSGML v1.0//EN
CALSCALE:GREGORIAN
METHOD:PUBLISH
X-ORIGINAL-URL:https://www.mancomunidadlavega.es
X-WR-CALDESC:Eventos para Mancomunidad la vega
REFRESH-INTERVAL;VALUE=DURATION:PT1H
X-Robots-Tag:noindex
X-PUBLISHED-TTL:PT1H
BEGIN:VTIMEZONE
TZID:UTC
BEGIN:STANDARD
TZOFFSETFROM:+0000
TZOFFSETTO:+0000
TZNAME:UTC
DTSTART:20220101T000000
END:STANDARD
END:VTIMEZONE
BEGIN:VEVENT
DTSTART;VALUE=DATE:20221221
DTEND;VALUE=DATE:20221222
DTSTAMP:20260420T023652
CREATED:20221223T082740Z
LAST-MODIFIED:20221223T083815Z
UID:44283-1671580800-1671667199@www.mancomunidadlavega.es
SUMMARY:Premis ParticipAcció 2022
DESCRIPTION:Premis ParticipAcció 2022\n\nRecepción con la consellera Rosa Pérez Garijo de GVA Participació con las entidades galardonadas con los Premis ParticipAcció 2022\n\n\n Interpreta Natura por el proyecto ‘Escoles rurals actives’\n\n\nPsicólogas y Psicólogos sin Fronteras por la propuesta ‘A peu de barri’\n\n\nAsociación QUERA por la iniciativa ‘Participa a l’escola’\n\n\nMancomunidad la Vega por ‘Consejos de infancia y adolescencia’\n\n\nJovesolides España por » Escuela de Ciudadania»\n\n\nParque Lidón con el proyecto de envejecimiento en casa autogestionado.
URL:https://www.mancomunidadlavega.es/event/premis-participaccio-2022/
LOCATION:Sede Mancomunidad\, Plaza del Ayuntamiento 4\, Redován\, Alicante\, 03370\, España
CATEGORIES:Algorfa,Infancia y Familia,Jacarilla,Jóvenes,Mujer,Redován,San Miguel de Salinas
GEO:38.1137441;-0.9052296
X-APPLE-STRUCTURED-LOCATION;VALUE=URI;X-ADDRESS=Sede Mancomunidad Plaza del Ayuntamiento 4 Redován Alicante 03370 España;X-APPLE-RADIUS=500;X-TITLE=Plaza del Ayuntamiento 4:geo:-0.9052296,38.1137441
END:VEVENT
BEGIN:VEVENT
DTSTART;TZID=UTC:20221222T100000
DTEND;TZID=UTC:20221222T100000
DTSTAMP:20260420T023652
CREATED:20221223T080032Z
LAST-MODIFIED:20221223T082034Z
UID:44279-1671703200-1671703200@www.mancomunidadlavega.es
SUMMARY:Carta a Papá Noel y a los Reyes Magos
DESCRIPTION:Carta a Papá Noel  y a los Reyes Magos \n\nLas niñas y niños de nuestros coles ya tienen su carta para estas fiestas. Una carta diferente para Papa Noel y para los Reyes Magos\, con algunas instrucciones para pedir de forma responsable y\, sobre todo libre de estereotipos y roles de género.\n\n\nNo existen juguetos ni juguetas\, existen juguetes para jugar. No pongamos género a los regalos en estas fechas. Esta Navidad regala IGUALDAD.\n\n\nPuedes descargar la carta autorellenable e imprimible en nuestra web https://urlzs.com/cwbdE
URL:https://www.mancomunidadlavega.es/event/carta-a-papa-noel-y-los-reyes-magos/
LOCATION:Sede Mancomunidad\, Plaza del Ayuntamiento 4\, Redován\, Alicante\, 03370\, España
CATEGORIES:Algorfa,Infancia y Familia,Jacarilla,Mujer,Redován,San Miguel de Salinas
GEO:38.1137441;-0.9052296
X-APPLE-STRUCTURED-LOCATION;VALUE=URI;X-ADDRESS=Sede Mancomunidad Plaza del Ayuntamiento 4 Redován Alicante 03370 España;X-APPLE-RADIUS=500;X-TITLE=Plaza del Ayuntamiento 4:geo:-0.9052296,38.1137441
END:VEVENT
BEGIN:VEVENT
DTSTART;VALUE=DATE:20221223
DTEND;VALUE=DATE:20221224
DTSTAMP:20260420T023652
CREATED:20221223T084440Z
LAST-MODIFIED:20221223T084801Z
UID:44286-1671753600-1671839999@www.mancomunidadlavega.es
SUMMARY:Concilia con Petra y Donuel
DESCRIPTION:  \n\nConcilia con Petra y Donuel\n\n\n\nEsta mañana\, a partir de las 10 y hasta las 13 horas\, las plazas de nuestros pueblos se convierten en espacios de #conciliación con talleres navideños y cuentacuentos sobre cocina y hábitos saludables. !!Somos lo que comemos!!\nConcilia con Petra y Donuel.\n\n\nCon el apoyo de GVA Igualtat i Polítiques Inclusives
URL:https://www.mancomunidadlavega.es/event/concilia-con-petra-y-donuel/
LOCATION:Sede Mancomunidad\, Plaza del Ayuntamiento 4\, Redován\, Alicante\, 03370\, España
CATEGORIES:Algorfa,Infancia y Familia,Jacarilla,Jóvenes,Mujer,Redován,San Miguel de Salinas
GEO:38.1137441;-0.9052296
X-APPLE-STRUCTURED-LOCATION;VALUE=URI;X-ADDRESS=Sede Mancomunidad Plaza del Ayuntamiento 4 Redován Alicante 03370 España;X-APPLE-RADIUS=500;X-TITLE=Plaza del Ayuntamiento 4:geo:-0.9052296,38.1137441
END:VEVENT
BEGIN:VEVENT
DTSTART;VALUE=DATE:20221223
DTEND;VALUE=DATE:20221224
DTSTAMP:20260420T023652
CREATED:20221223T085446Z
LAST-MODIFIED:20221223T090927Z
UID:44290-1671753600-1671839999@www.mancomunidadlavega.es
SUMMARY:El Viaje de Ingwë. Pollo frito en Japón
DESCRIPTION:  \n\n\n\n\n\nEl Viaje de Ingwë. 4. Pollo frito en Japón\n\n¡Hola habitantes de Mancomunidad la Vega ! Como ya sabréis\, soy Ingwë vuestro elfo viajante de la Oficina Pangea MLV. Esta semana nos encontramos en Japón\, donde ya sabemos que existen tradiciones milenarias muy interesantes. Pero esta vez conoceremos una costumbre de gastronomía navideña reciente\, que a la vez nos hace viajar a Estados Unidos donde está su origen\, ¿te puedes imaginar de qué comida hablamos? Pista:
URL:https://www.mancomunidadlavega.es/event/el-viaje-de-ingwe-pollo-frito-en-japon/
LOCATION:Sede Mancomunidad\, Plaza del Ayuntamiento 4\, Redován\, Alicante\, 03370\, España
CATEGORIES:Algorfa,Infancia y Familia,Jacarilla,Jóvenes,Mujer,Redován,San Miguel de Salinas
GEO:38.1137441;-0.9052296
X-APPLE-STRUCTURED-LOCATION;VALUE=URI;X-ADDRESS=Sede Mancomunidad Plaza del Ayuntamiento 4 Redován Alicante 03370 España;X-APPLE-RADIUS=500;X-TITLE=Plaza del Ayuntamiento 4:geo:-0.9052296,38.1137441
END:VEVENT
END:VCALENDAR