BEGIN:VCALENDAR
VERSION:2.0
PRODID:-//Mancomunidad la vega - ECPv6.11.2//NONSGML v1.0//EN
CALSCALE:GREGORIAN
METHOD:PUBLISH
X-WR-CALNAME:Mancomunidad la vega
X-ORIGINAL-URL:https://www.mancomunidadlavega.es
X-WR-CALDESC:Eventos para Mancomunidad la vega
REFRESH-INTERVAL;VALUE=DURATION:PT1H
X-Robots-Tag:noindex
X-PUBLISHED-TTL:PT1H
BEGIN:VTIMEZONE
TZID:UTC
BEGIN:STANDARD
TZOFFSETFROM:+0000
TZOFFSETTO:+0000
TZNAME:UTC
DTSTART:20200101T000000
END:STANDARD
END:VTIMEZONE
BEGIN:VEVENT
DTSTART;TZID=UTC:20201124T160000
DTEND;TZID=UTC:20201124T210000
DTSTAMP:20260423T050516
CREATED:20201117T120722Z
LAST-MODIFIED:20201120T131552Z
UID:31478-1606233600-1606251600@www.mancomunidadlavega.es
SUMMARY:San Miguel. #25N. Charla Prevención Violencia Género.
DESCRIPTION:¿Por qué se da la violencia de género ¿Cuántos tipos de violencia sufren las mujeres ¿Cómo se siente una víctima de violencia ¿Qué hago si es mi hermana\, mi amiga\, mi hija ¿Cómo puedo ayudarla \n\n\n\n\n\n\n Seguro que no tienes todas las respuestas a estas preguntas. Para saber mejor cómo actuar ante la violencia de género\, no faltes al taller LA VIOLENCIA DE GÉNERO NO PUEDE SER NORMAL\, DATE CUENTA a cargo de las técnicas del Centro 24 horas de Torrevieja y la agencia de igualdad de la Mancomunidad la Vega. \n\n\n\n  24 de noviembre a las 16:00 horas en el Centro Social.\n\n\n Aforo limitado por protocolo COVID.\n\n\n Inscripción previa en el tel. o WhatsApp: 658 757 043\n#esviolenciadegenero #esviolenciacontralasmujeres #esviolenciamachista #EsMachismo\n\n\n\n#25N #mancomunidadlavega #agenciadeigualdad #serviciossociales \n\n\n\n\n\n\n 
URL:https://www.mancomunidadlavega.es/event/san-miguel-25n-charla-prevencion-violencia-genero/
LOCATION:Centro Social. 1ªPlanta. San Miguel de Salinas\, C/ Vicente Blasco Ibáñez\, 1\, San Miguel de Salinas\, Alicante\, 03193\, España
CATEGORIES:Mujer,San Miguel de Salinas
GEO:37.9784386;-0.7889244
X-APPLE-STRUCTURED-LOCATION;VALUE=URI;X-ADDRESS=Centro Social. 1ªPlanta. San Miguel de Salinas C/ Vicente Blasco Ibáñez 1 San Miguel de Salinas Alicante 03193 España;X-APPLE-RADIUS=500;X-TITLE=C/ Vicente Blasco Ibáñez\, 1:geo:-0.7889244,37.9784386
END:VEVENT
BEGIN:VEVENT
DTSTART;TZID=UTC:20201125T170000
DTEND;TZID=UTC:20201125T180000
DTSTAMP:20260423T050516
CREATED:20201117T140153Z
LAST-MODIFIED:20201117T140311Z
UID:31500-1606323600-1606327200@www.mancomunidadlavega.es
SUMMARY:Charla digital-Online. Prácticas de autocuidado.
DESCRIPTION:👉 Con motivo del Día Internacional para la eliminación de la Violencia contra la Mujer\, Afammer Alicante\ny la Agencia de Igualdad de la #MancomunidadlaVega\, os invitamos a la Charla on line “Practicas de Autocuidado para mujeres en tiempos de la COVID 19”\n📅⏰ Próximo 25 de noviembre a las 17:00h.\n👉 Inscripciones en: https://docs.google.com/…/1f7vF20wxetc40qGQH…/edit\n✅ Financiada por el Ministerio de Sanidad Consumo y Bienestar Social\,\n🚻 Os esperamos 🚻\n#mancomunidadlavega Ayuntamiento de San Miguel de Salinas (Alicante)\nAyuntamiento de Algorfa\nAyuntamiento de Redován\nJacarilla Ayuntamiento\n#igualdad #25N
URL:https://www.mancomunidadlavega.es/event/charla-digital-online-practicas-de-autocuidado/
LOCATION:Alicante
CATEGORIES:Algorfa,Jacarilla,Mujer,Redován,San Miguel de Salinas
END:VEVENT
BEGIN:VEVENT
DTSTART;TZID=UTC:20201126T180000
DTEND;TZID=UTC:20201126T180000
DTSTAMP:20260423T050516
CREATED:20201117T115907Z
LAST-MODIFIED:20201117T130447Z
UID:31474-1606413600-1606413600@www.mancomunidadlavega.es
SUMMARY:Jacarilla. #25N. Charla Prevención Violencia Género.
DESCRIPTION:¿Por qué se da la violencia de género ¿Cuántos tipos de violencia sufren las mujeres ¿Cómo se siente una víctima de violencia ¿Qué hago si es mi hermana\, mi amiga\, mi hija ¿Cómo puedo ayudarla \n\n\n\n\n\n\n Seguro que no tienes todas las respuestas a estas preguntas. Para saber mejor cómo actuar ante la violencia de género\, no faltes al taller LA VIOLENCIA DE GÉNERO NO PUEDE SER NORMAL\, DATE CUENTA a cargo de las técnicas del Centro 24 horas de Torrevieja y la agencia de igualdad de la Mancomunidad la Vega. \n\n\n\n  26 de noviembre a las 18:00 horas en el Salón de Actos del Centro Social.\n\n\n Aforo limitado por protocolo COVID.\n\n\n Inscripción previa en el tel. o WhatsApp: 658 757 043\n#esviolenciadegenero #esviolenciacontralasmujeres #esviolenciamachista #EsMachismo\n\n\n\n#25N #mancomunidadlavega #agenciadeigualdad #serviciossociales \n\n\n\n\n\n\n 
URL:https://www.mancomunidadlavega.es/event/jacarilla-25n-charla-prevencion-violencia-genero/
LOCATION:Centro Social Tercera Edad Jacarilla\, Plaza de España\, 1\, Jacarilla\, Alicante\, 03310\, España
CATEGORIES:Jacarilla,Mujer
GEO:38.0777316;-0.8377238
X-APPLE-STRUCTURED-LOCATION;VALUE=URI;X-ADDRESS=Centro Social Tercera Edad Jacarilla Plaza de España 1 Jacarilla Alicante 03310 España;X-APPLE-RADIUS=500;X-TITLE=Plaza de España\, 1:geo:-0.8377238,38.0777316
END:VEVENT
BEGIN:VEVENT
DTSTART;TZID=UTC:20201126T200000
DTEND;TZID=UTC:20201126T210000
DTSTAMP:20260423T050516
CREATED:20201117T120304Z
LAST-MODIFIED:20201117T120436Z
UID:31476-1606420800-1606424400@www.mancomunidadlavega.es
SUMMARY:Redován. #25N. Charla Prevención Violencia Género.
DESCRIPTION:¿Por qué se da la violencia de género ¿Cuántos tipos de violencia sufren las mujeres ¿Cómo se siente una víctima de violencia ¿Qué hago si es mi hermana\, mi amiga\, mi hija ¿Cómo puedo ayudarla \n\n\n\n\n\n\n Seguro que no tienes todas las respuestas a estas preguntas. Para saber mejor cómo actuar ante la violencia de género\, no faltes al taller LA VIOLENCIA DE GÉNERO NO PUEDE SER NORMAL\, DATE CUENTA a cargo de las técnicas del Centro 24 horas de Torrevieja y la agencia de igualdad de la Mancomunidad la Vega. \n\n\n\n  26 de noviembre a las 20 horas en el Centro Social Ricardo Ruiz Poveda.\n\n\n Aforo limitado por protocolo COVID.\n\n\n Inscripción previa en el tel. o WhatsApp: 658 757 043\n#esviolenciadegenero #esviolenciacontralasmujeres #esviolenciamachista #EsMachismo\n\n\n\n#25N #mancomunidadlavega #agenciadeigualdad #serviciossociales \n\n\n\n\n\n\n 
URL:https://www.mancomunidadlavega.es/event/redovan-25n-charla-prevencion-violencia-genero/
LOCATION:Centro Social Tercera Edad Jacarilla\, Plaza de España\, 1\, Jacarilla\, Alicante\, 03310\, España
CATEGORIES:Mujer,Redován
GEO:38.0777316;-0.8377238
X-APPLE-STRUCTURED-LOCATION;VALUE=URI;X-ADDRESS=Centro Social Tercera Edad Jacarilla Plaza de España 1 Jacarilla Alicante 03310 España;X-APPLE-RADIUS=500;X-TITLE=Plaza de España\, 1:geo:-0.8377238,38.0777316
END:VEVENT
END:VCALENDAR