BEGIN:VCALENDAR
VERSION:2.0
PRODID:-//Mancomunidad la vega - ECPv6.11.2//NONSGML v1.0//EN
CALSCALE:GREGORIAN
METHOD:PUBLISH
X-WR-CALNAME:Mancomunidad la vega
X-ORIGINAL-URL:https://www.mancomunidadlavega.es
X-WR-CALDESC:Eventos para Mancomunidad la vega
REFRESH-INTERVAL;VALUE=DURATION:PT1H
X-Robots-Tag:noindex
X-PUBLISHED-TTL:PT1H
BEGIN:VTIMEZONE
TZID:UTC
BEGIN:STANDARD
TZOFFSETFROM:+0000
TZOFFSETTO:+0000
TZNAME:UTC
DTSTART:20220101T000000
END:STANDARD
END:VTIMEZONE
BEGIN:VEVENT
DTSTART;TZID=UTC:20221227T100000
DTEND;TZID=UTC:20221227T110000
DTSTAMP:20260419T160557
CREATED:20221124T140255Z
LAST-MODIFIED:20221205T074656Z
UID:43885-1672135200-1672138800@www.mancomunidadlavega.es
SUMMARY:Taller Intergeneracional. Algorfa
DESCRIPTION:  \nTaller Intergeneracional (Abuelo/as nieto/as u otro parentesco) \nAprovechando las vacaciones escolares y para crear espacios de convivencia entre los/as mayores\, niños\, niñas de nuestros municipios\, \nnace nuestro «Taller Intergeneracional» \nEn este espacio compartiremos experiencias y tradiciones\, nos enriqueceremos con las costumbres de los más mayores  y disfrutaremos en comunidad de una jornada de ocio saludable. \nLas actividades del taller para fortalecer las relaciones  y permitir el aprendizaje mutuo serán  tarjetas y dulces navideños. ¡No hay mejor plan! ¡Apúntate! \nInscripciones: Keka 658 796 467/ Estefanía 658 796 510
URL:https://www.mancomunidadlavega.es/event/taller-intergeneracional-algorfa/
LOCATION:Centro Social Algorfa\, Centro Social. Plaza de España\, sn\, Algorfa\, Alicante\, 03169\, España
CATEGORIES:Algorfa,Infancia y Familia,Mujer
GEO:38.0659364;-0.7789426
X-APPLE-STRUCTURED-LOCATION;VALUE=URI;X-ADDRESS=Centro Social Algorfa Centro Social. Plaza de España sn Algorfa Alicante 03169 España;X-APPLE-RADIUS=500;X-TITLE=Centro Social. Plaza de España\, sn:geo:-0.7789426,38.0659364
END:VEVENT
END:VCALENDAR