BEGIN:VCALENDAR
VERSION:2.0
PRODID:-//Mancomunidad la vega - ECPv6.11.2//NONSGML v1.0//EN
CALSCALE:GREGORIAN
METHOD:PUBLISH
X-WR-CALNAME:Mancomunidad la vega
X-ORIGINAL-URL:https://www.mancomunidadlavega.es
X-WR-CALDESC:Eventos para Mancomunidad la vega
REFRESH-INTERVAL;VALUE=DURATION:PT1H
X-Robots-Tag:noindex
X-PUBLISHED-TTL:PT1H
BEGIN:VTIMEZONE
TZID:UTC
BEGIN:STANDARD
TZOFFSETFROM:+0000
TZOFFSETTO:+0000
TZNAME:UTC
DTSTART:20220101T000000
END:STANDARD
END:VTIMEZONE
BEGIN:VEVENT
DTSTART;TZID=UTC:20221222T100000
DTEND;TZID=UTC:20221222T100000
DTSTAMP:20260419T212120
CREATED:20221223T080032Z
LAST-MODIFIED:20221223T082034Z
UID:44279-1671703200-1671703200@www.mancomunidadlavega.es
SUMMARY:Carta a Papá Noel y a los Reyes Magos
DESCRIPTION:Carta a Papá Noel  y a los Reyes Magos \n\nLas niñas y niños de nuestros coles ya tienen su carta para estas fiestas. Una carta diferente para Papa Noel y para los Reyes Magos\, con algunas instrucciones para pedir de forma responsable y\, sobre todo libre de estereotipos y roles de género.\n\n\nNo existen juguetos ni juguetas\, existen juguetes para jugar. No pongamos género a los regalos en estas fechas. Esta Navidad regala IGUALDAD.\n\n\nPuedes descargar la carta autorellenable e imprimible en nuestra web https://urlzs.com/cwbdE
URL:https://www.mancomunidadlavega.es/event/carta-a-papa-noel-y-los-reyes-magos/
LOCATION:Sede Mancomunidad\, Plaza del Ayuntamiento 4\, Redován\, Alicante\, 03370\, España
CATEGORIES:Algorfa,Infancia y Familia,Jacarilla,Mujer,Redován,San Miguel de Salinas
GEO:38.1137441;-0.9052296
X-APPLE-STRUCTURED-LOCATION;VALUE=URI;X-ADDRESS=Sede Mancomunidad Plaza del Ayuntamiento 4 Redován Alicante 03370 España;X-APPLE-RADIUS=500;X-TITLE=Plaza del Ayuntamiento 4:geo:-0.9052296,38.1137441
END:VEVENT
END:VCALENDAR