BEGIN:VCALENDAR
VERSION:2.0
PRODID:-//Mancomunidad la vega - ECPv6.11.2//NONSGML v1.0//EN
CALSCALE:GREGORIAN
METHOD:PUBLISH
X-ORIGINAL-URL:https://www.mancomunidadlavega.es
X-WR-CALDESC:Eventos para Mancomunidad la vega
REFRESH-INTERVAL;VALUE=DURATION:PT1H
X-Robots-Tag:noindex
X-PUBLISHED-TTL:PT1H
BEGIN:VTIMEZONE
TZID:UTC
BEGIN:STANDARD
TZOFFSETFROM:+0000
TZOFFSETTO:+0000
TZNAME:UTC
DTSTART:20220101T000000
END:STANDARD
END:VTIMEZONE
BEGIN:VEVENT
DTSTART;TZID=UTC:20221109T100000
DTEND;TZID=UTC:20221109T130000
DTSTAMP:20260420T021610
CREATED:20221028T082816Z
LAST-MODIFIED:20221109T075513Z
UID:42875-1667988000-1667998800@www.mancomunidadlavega.es
SUMMARY:Freya. Brilla en tu búsqueda laboral. Algorfa
DESCRIPTION:FREYA\, BRILLA EN TU BUSQUEDA LABORAL es un taller dirigido a mejorar la empleabilidad de mujeres que se va a realizar en Algorfa\n\n\n¿Necesitas mejorar tus habilidades para conseguir un empleo?\n\n\nTe Ayudaremos a:\n1- Preparar tu currículum vitae\, así como realizar entrevistas de trabajo.\n2-Las TIC como herramienta para la búsqueda de empleo.\n3-Aspectos psicosociales para la mejora de la empleabilidad.\nTambién trabajaremos contenidos de igualdad y prevención de la violencia.\n\n\n\nFechas: 8-9-10-11-15-16 de Noviembre de 2022.\n\nLugar: Centro cultural San Vicente Ferrer 10:00-13:00 horas.\n\n\nSi eres mujer y estás desempleada ¡APUNTATE!!\n Pangea: 658795708.  Inclusión: 651317242\n\n 
URL:https://www.mancomunidadlavega.es/event/freya-brilla-en-tu-busqueda-laboral-algorfa-2/
LOCATION:Centro Cultural San Vicente Ferrer. Algorfa\, Av. Constitución\, 35\, Algorfa\, Alicante\, 03169\, España
CATEGORIES:Algorfa,Mujer
GEO:38.0868832;-0.7958869
X-APPLE-STRUCTURED-LOCATION;VALUE=URI;X-ADDRESS=Centro Cultural San Vicente Ferrer. Algorfa Av. Constitución 35 Algorfa Alicante 03169 España;X-APPLE-RADIUS=500;X-TITLE=Av. Constitución\, 35:geo:-0.7958869,38.0868832
END:VEVENT
BEGIN:VEVENT
DTSTART;TZID=UTC:20221109T180000
DTEND;TZID=UTC:20221109T190000
DTSTAMP:20260420T021610
CREATED:20221028T085915Z
LAST-MODIFIED:20221107T042635Z
UID:42892-1668016800-1668020400@www.mancomunidadlavega.es
SUMMARY:Bienestar Emocional. San Miguel
DESCRIPTION:Bienestar emocional. \n\nAquí encontrarás un grupo de apoyo emocional para mujeres dónde poder compartir sentimientos\, métodos de autocontrol y fortalecimiento del estado emocional.\n\n\n\nEl grupo garantiza la privacidad y confidencialidad. \n\n\nCuenta con el acompañamiento de una psicóloga.\n\n\n \n\n\nLas sesiones son quincenales.\n\n\n9 noviembre\n\n\nSan Miguel – 18:00 Servicios Sociales\n\n\nRedován – 20:00 Centro Social Tercera Edad\n\n\n \n\n\nInscripciones: Sofía 658 757 043\n\n\n Más información e inscripciones: Bienestar emocional\n\n 
URL:https://www.mancomunidadlavega.es/event/bienestar-emocional-san-miguel-2-2/
LOCATION:Servicios Sociales. San Miguel De Salinas
CATEGORIES:Mujer,San Miguel de Salinas
END:VEVENT
BEGIN:VEVENT
DTSTART;TZID=UTC:20221109T200000
DTEND;TZID=UTC:20221109T210000
DTSTAMP:20260420T021610
CREATED:20221028T085316Z
LAST-MODIFIED:20221107T042454Z
UID:42888-1668024000-1668027600@www.mancomunidadlavega.es
SUMMARY:Bienestar Emocional. Redován
DESCRIPTION:Bienestar emocional. \n\nAquí encontrarás un grupo de apoyo emocional para mujeres dónde poder compartir sentimientos\, métodos de autocontrol y fortalecimiento del estado emocional.\n\n\n\nEl grupo garantiza la privacidad y confidencialidad. \n\n\nCuenta con el acompañamiento de una psicóloga.\n\n\n \n\n\nLas sesiones son quincenales.\n\n\n9 noviembre\n\n\nSan Miguel – 18:00 Servicios Sociales\n\n\nRedován – 20:00 Centro Social Tercera Edad\n\n\n \n\n\nInscripciones: Sofía 658 757 043\n\n\n Más información e inscripciones: Bienestar emocional
URL:https://www.mancomunidadlavega.es/event/bienestar-emocional-redovan-2-2-2/
LOCATION:Centro Social de la Tercera Edad. Redován\, C/ Juan XXIII\, s/n\, Redován\, Alicante\, 03370\, España
CATEGORIES:Mujer,Redován
GEO:38.1142082;-0.9076136
X-APPLE-STRUCTURED-LOCATION;VALUE=URI;X-ADDRESS=Centro Social de la Tercera Edad. Redován C/ Juan XXIII s/n Redován Alicante 03370 España;X-APPLE-RADIUS=500;X-TITLE=C/ Juan XXIII\, s/n:geo:-0.9076136,38.1142082
END:VEVENT
END:VCALENDAR