BEGIN:VCALENDAR
VERSION:2.0
PRODID:-//Mancomunidad la vega - ECPv6.11.2//NONSGML v1.0//EN
CALSCALE:GREGORIAN
METHOD:PUBLISH
X-WR-CALNAME:Mancomunidad la vega
X-ORIGINAL-URL:https://www.mancomunidadlavega.es
X-WR-CALDESC:Eventos para Mancomunidad la vega
REFRESH-INTERVAL;VALUE=DURATION:PT1H
X-Robots-Tag:noindex
X-PUBLISHED-TTL:PT1H
BEGIN:VTIMEZONE
TZID:UTC
BEGIN:STANDARD
TZOFFSETFROM:+0000
TZOFFSETTO:+0000
TZNAME:UTC
DTSTART:20220101T000000
END:STANDARD
END:VTIMEZONE
BEGIN:VEVENT
DTSTART;TZID=UTC:20220308T123000
DTEND;TZID=UTC:20220308T130000
DTSTAMP:20260421T120246
CREATED:20220222T225955Z
LAST-MODIFIED:20220304T090134Z
UID:36849-1646742600-1646744400@www.mancomunidadlavega.es
SUMMARY:Programa Radio Cadena Ser Hoy por Hoy 8M. Algorfa
DESCRIPTION:Ayuntamiento de Algorfa
URL:https://www.mancomunidadlavega.es/event/programa-radio-cadena-ser-hoy-por-hoy-8m/
LOCATION:Alicante
CATEGORIES:Algorfa,Mujer
END:VEVENT
BEGIN:VEVENT
DTSTART;TZID=UTC:20220308T130000
DTEND;TZID=UTC:20220308T140000
DTSTAMP:20260421T120246
CREATED:20220228T222938Z
LAST-MODIFIED:20220228T222949Z
UID:37551-1646744400-1646748000@www.mancomunidadlavega.es
SUMMARY:Charla Organización según Marie Kondo Algorfa
DESCRIPTION:Hora: 13.00 horas \nLugar: Centro Social \n 
URL:https://www.mancomunidadlavega.es/event/charla-organizacio-segun-marie-kondo-algorfa/
LOCATION:Alicante
CATEGORIES:Algorfa,Mujer
END:VEVENT
BEGIN:VEVENT
DTSTART;TZID=UTC:20220308T180000
DTEND;TZID=UTC:20220308T183000
DTSTAMP:20260421T120246
CREATED:20220303T133147Z
LAST-MODIFIED:20220304T090001Z
UID:38130-1646762400-1646764200@www.mancomunidadlavega.es
SUMMARY:Concentración "Día de la Mujer". San Miguel
DESCRIPTION:  \n  \n  \n  \n  \n  \n  \n  \n  \n  \n  \n  \n  \n  \n  \n  \n  \n  \n  \nLectura de Manifiesto en la puerta del Ayuntamiento. \n18:00h. \nColaboran: \nAsociación de Vecinos de San Miguel \nAsociación Vivas nos Queremos. \n 
URL:https://www.mancomunidadlavega.es/event/concentracion-dia-de-la-mujer/
LOCATION:Ayuntamiento de San Miguel de Salinas
CATEGORIES:Mujer,San Miguel de Salinas
END:VEVENT
END:VCALENDAR