BEGIN:VCALENDAR
VERSION:2.0
PRODID:-//Mancomunidad la vega - ECPv6.11.2//NONSGML v1.0//EN
CALSCALE:GREGORIAN
METHOD:PUBLISH
X-WR-CALNAME:Mancomunidad la vega
X-ORIGINAL-URL:https://www.mancomunidadlavega.es
X-WR-CALDESC:Eventos para Mancomunidad la vega
REFRESH-INTERVAL;VALUE=DURATION:PT1H
X-Robots-Tag:noindex
X-PUBLISHED-TTL:PT1H
BEGIN:VTIMEZONE
TZID:UTC
BEGIN:STANDARD
TZOFFSETFROM:+0000
TZOFFSETTO:+0000
TZNAME:UTC
DTSTART:20230101T000000
END:STANDARD
END:VTIMEZONE
BEGIN:VEVENT
DTSTART;TZID=UTC:20230109T080000
DTEND;TZID=UTC:20230109T220000
DTSTAMP:20260419T160337
CREATED:20230122T182954Z
LAST-MODIFIED:20230803T121334Z
UID:46062-1673251200-1673301600@www.mancomunidadlavega.es
SUMMARY:Taller de Pilates. San Miguel
DESCRIPTION:DONA SALUD es un proyecto de promoción de la salud en la mujer con el que\, de una forma práctica y aplicada\, se fomenta el cuidado de la salud en mujeres. El programa se estructura en dos áreas:\n• Salud emocional y desarrollo personal. \n• Mejora de la condición física.\nEl área de mejora de la condición física incluye acciones dirigidas a desarrollar un estilo de vida más saludable\, mediante talleres como Pilates y Body Fit. \nPara más información e inscripciones \n\n\nHorario mañanas: lunes y miércoles de 8:00h a 9:00h. CEIP Gloria Fuertes. Inicio 2 de noviembre\nHorario noches: martes y jueves de 21:00h a 22:00h. CEIP Gloria Fuertes. Inicio 2 de noviembre\nLugar: CEIP Gloria Fuertes.
URL:https://www.mancomunidadlavega.es/event/taller-de-pilates-san-miguel/2023-01-09/
LOCATION:CEIP GLORIA FUERTES. San Miguel de Salinas\, Calle Miguel García Galant\, 5\, San Miguel de Salinas\, Alicante\, 03193\, España
CATEGORIES:Mayores,Mujer,Proyecto AICP.COM,San Miguel de Salinas
GEO:37.9799854;-0.791675
X-APPLE-STRUCTURED-LOCATION;VALUE=URI;X-ADDRESS=CEIP GLORIA FUERTES. San Miguel de Salinas Calle Miguel García Galant 5 San Miguel de Salinas Alicante 03193 España;X-APPLE-RADIUS=500;X-TITLE=Calle Miguel García Galant\, 5:geo:-0.791675,37.9799854
END:VEVENT
BEGIN:VEVENT
DTSTART;TZID=UTC:20230109T190000
DTEND;TZID=UTC:20230109T200000
DTSTAMP:20260419T160337
CREATED:20230122T180539Z
LAST-MODIFIED:20230601T131317Z
UID:45660-1673290800-1673294400@www.mancomunidadlavega.es
SUMMARY:Taller de Pilates. Jacarilla
DESCRIPTION:  \nDONA SALUD es un proyecto de promoción de la salud en la mujer con el que\, de una forma práctica y aplicada\, se fomenta el cuidado de la salud en mujeres. El programa se estructura en dos áreas:\n• Salud emocional y desarrollo personal. (enlace a bienestar emocional)\n• Mejora de la condición física.\nEl área de mejora de la condición física incluye acciones dirigidas a desarrollar un estilo de vida más saludable\, mediante talleres como: Pilates y Body Fit. \nPara más información e inscripciones \n\nHorario: Lunes y miércoles: 19:00h a 20:00h.\nLugar: Instalaciones deportivas
URL:https://www.mancomunidadlavega.es/event/taller-de-pilates-jacarilla-2/2023-01-09/
LOCATION:Pabellón Polideportivo. Jacarilla\, Alicante\, España
CATEGORIES:Jacarilla,Mayores,Mujer,Proyecto AICP.COM
END:VEVENT
BEGIN:VEVENT
DTSTART;TZID=UTC:20230109T200000
DTEND;TZID=UTC:20230109T220000
DTSTAMP:20260419T160337
CREATED:20230122T181951Z
LAST-MODIFIED:20230601T131041Z
UID:45911-1673294400-1673301600@www.mancomunidadlavega.es
SUMMARY:Taller de Pilates. Redován. San Carlos
DESCRIPTION:  \nDONA SALUD es un proyecto de promoción de la salud en la mujer con el que\, de una forma práctica y aplicada\, se fomenta el cuidado de la salud en mujeres. El programa se estructura en dos áreas:\n• Salud emocional y desarrollo personal. (enlace a bienestar emocional)\n• Mejora de la condición física.\nEl área de mejora de la condición física incluye acciones dirigidas a desarrollar un estilo de vida más saludable\, mediante talleres como: Pilates y Body Fit. \nPara más información e inscripciones \n\nPilates Redován\n\n\n\nHorario: Lunes y miércoles de 20:00h a 21:00h.\nLugar: Polideportivo B4\n\nPilates Redován San Carlos\n \n\nHorario: Lunes y miércoles de 21:15h a 22:15h.\nLugar: Polideportivo San Carlos/Centro Cultural
URL:https://www.mancomunidadlavega.es/event/taller-de-pilates-redovan-san-carlos/2023-01-09/
LOCATION:Redován\, Alicante\, España
CATEGORIES:Mayores,Mujer,Proyecto AICP.COM,Redován
END:VEVENT
BEGIN:VEVENT
DTSTART;TZID=UTC:20230109T203000
DTEND;TZID=UTC:20230109T213000
DTSTAMP:20260419T160337
CREATED:20230123T072733Z
LAST-MODIFIED:20231010T091604Z
UID:46264-1673296200-1673299800@www.mancomunidadlavega.es
SUMMARY:Taller de Pilates. Algorfa
DESCRIPTION:TALLER DE PILATES. ALGORFA \nDONA SALUD es un proyecto de promoción de la salud en la mujer con el que\, de una forma práctica y aplicada\, se fomenta el cuidado de la salud en mujeres. El programa se estructura en dos áreas:\n• Salud emocional y desarrollo personal. \n• Mejora de la condición física.\nEl área de mejora de la condición física incluye acciones dirigidas a desarrollar un estilo de vida más saludable\, mediante talleres como Pilates y Body Fit. \n\nMás información de la actividad aquí.\n\n\n\nHorario: Martes y jueves: 20:30h a 21:30h.\nLugar: Gimnasio colegio.\nInicio: 16 de octubre 2023
URL:https://www.mancomunidadlavega.es/event/taller-de-pilates-algorfa-salud/2023-01-09/
LOCATION:Algorfa
CATEGORIES:Algorfa,Mujer,Proyecto AICP.COM
END:VEVENT
BEGIN:VEVENT
DTSTART;TZID=UTC:20230109T210000
DTEND;TZID=UTC:20230109T220000
DTSTAMP:20260419T160337
CREATED:20230123T073656Z
LAST-MODIFIED:20230601T132246Z
UID:46372-1673298000-1673301600@www.mancomunidadlavega.es
SUMMARY:Taller de Body Fit. San Miguel
DESCRIPTION:DONA SALUD es un proyecto de promoción de la salud en la mujer con el que\, de una forma práctica y aplicada\, se fomenta el cuidado de la salud en mujeres. El programa se estructura en dos áreas:\n• Salud emocional y desarrollo personal. (enlace a bienestar emocional)\n• Mejora de la condición física.\nEl área de mejora de la condición física incluye acciones dirigidas a desarrollar un estilo de vida más saludable\, mediante talleres como: Pilates y Body Fit. \n\nEncontrarás toda la información e inscripciones de la actividad.\n\n\n\nHorario: Lunes y miércoles de 21:00h a 22:00h.\nLugar: CEIP Gloria Fuertes.
URL:https://www.mancomunidadlavega.es/event/taller-de-body-fit-san-miguel-2/2023-01-09/
LOCATION:CEIP GLORIA FUERTES. San Miguel de Salinas\, Calle Miguel García Galant\, 5\, San Miguel de Salinas\, Alicante\, 03193\, España
CATEGORIES:Mujer,Proyecto AICP.COM,San Miguel de Salinas
GEO:37.9799854;-0.791675
X-APPLE-STRUCTURED-LOCATION;VALUE=URI;X-ADDRESS=CEIP GLORIA FUERTES. San Miguel de Salinas Calle Miguel García Galant 5 San Miguel de Salinas Alicante 03193 España;X-APPLE-RADIUS=500;X-TITLE=Calle Miguel García Galant\, 5:geo:-0.791675,37.9799854
END:VEVENT
BEGIN:VEVENT
DTSTART;VALUE=DATE:20230125
DTEND;VALUE=DATE:20230126
DTSTAMP:20260419T160337
CREATED:20230126T041252Z
LAST-MODIFIED:20230126T043028Z
UID:46874-1674604800-1674691199@www.mancomunidadlavega.es
SUMMARY:Curso Monitor/a de Actividades de Tiempo Libre Educativo Infantil y Juvenil
DESCRIPTION:  \nEl curso de Monitor/a de Actividades de Tiempo Libre Educativo Infantil y Juvenil está dirigido a todas aquellas personas que quieran adquirir las competencias necesarias para trabajar en actividades de animación con niños/as y jóvenes: campamentos\, ludotecas\, escuelas de verano… \n\nABIERTO EL PLAZO PARA LA PREINSCRIPCIÓN (del 25 de enero al 10 de febrero).\nComienzo curso el 25 de febrero. Se requiere un grupo mínimo para poder realizar la actividad.\n\n\nEl coste sería de 100€ para empadronados/as en Algorfa\, Jacarilla\, Redován o San Miguel de Salinas y de 180€ para los no empadronados/as.\n\n\nSi estas interesado/a. y tienes más de 17 años\, este es el momento. Escanea el código QR e inscríbete.\n\n\nTienes hasta el 1️0 de febrero para hacer tu preinscripción. ¡El pago se realizará una vez confirmada la plaza!\n\n\n \n\n\nSi tienes alguna duda\, envíanos un WhatsApp al 658 796 154 \n\n\n \n\n\nMás info e inscripciones: https://bit.ly/2WdqrHN\n\nCurso oficial del IVAJ (Instituto Valenciano de la Juventud de la Generalitat Valenciana)\, organizado por la Escuela de Animación Abast Animació con el apoyo de la Mancomunidad la Vega y su servicio de Juventud La Vega Joven. \n\nLugar: Centro Municipal LOS PASOS de Redován\, Calle Los Pasos\,1.\nComienzo de curso: 25 de febrero. (Días lectivos: 25 febrero\, 4-11-25 marzo\, 1-15-22 abril\, 6-13-20 mayo\, 3-10-17 junio). De 9 a 14h y de 15 a 18h. 310h.\n\n  \n 
URL:https://www.mancomunidadlavega.es/event/curso-monitor-a-de-actividades-de-tiempo-libre-educativo-infantil-y-juvenil-14/
LOCATION:Redován\, Alicante\, España
CATEGORIES:Algorfa,Jacarilla,Jóvenes,Mujer,Redován,San Miguel de Salinas
END:VEVENT
BEGIN:VEVENT
DTSTART;VALUE=DATE:20230126
DTEND;VALUE=DATE:20230127
DTSTAMP:20260419T160337
CREATED:20230126T041202Z
LAST-MODIFIED:20230126T113954Z
UID:46872-1674691200-1674777599@www.mancomunidadlavega.es
SUMMARY:Curso Monitor/a de Actividades de Tiempo Libre Educativo Infantil y Juvenil
DESCRIPTION:  \nEl curso de Monitor/a de Actividades de Tiempo Libre Educativo Infantil y Juvenil está dirigido a todas aquellas personas que quieran adquirir las competencias necesarias para trabajar en actividades de animación con niños/as y jóvenes: campamentos\, ludotecas\, escuelas de verano… \n\n\n\nABIERTO EL PLAZO PARA LA PREINSCRIPCIÓN (del 25 de enero al 10 de febrero).\nComienzo curso el 25 de febrero. Se requiere un grupo mínimo para poder realizar la actividad.\n\n\nEl coste sería de 100€ para empadronados/as en Algorfa\, Jacarilla\, Redován o San Miguel de Salinas y de 180€ para los no empadronados/as.\n\n\n\n\nSi estás interesado/a y tienes más de 17 años\, este es el momento. Escanea el código QR e inscríbete.\n\n\nTienes hasta el 1️0 de febrero para hacer tu preinscripción. ¡El pago se realizará una vez confirmada la plaza!\n\n\n \n\n\nSi tienes alguna duda\, envíanos un WhatsApp al 658 796 154 \n\n\n \n\n\nMás info e inscripciones: https://bit.ly/2WdqrHN\n\nCurso oficial del IVAJ (Instituto Valenciano de la Juventud de la Generalitat Valenciana)\, organizado por la Escuela de Animación Abast Animació con el apoyo de la Mancomunidad la Vega y su servicio de Juventud La Vega Joven. \n\nLugar: Centro Municipal LOS PASOS de Redován\, Calle Los Pasos\,1.\nComienzo de curso: 25 de febrero. (Días lectivos: 25 febrero\, 4-11-25 marzo\, 1-15-22 abril\, 6-13-20 mayo\, 3-10-17 junio). De 9 a 14h y de 15 a 18h. 310h.\n\n  \n 
URL:https://www.mancomunidadlavega.es/event/curso-monitor-a-de-actividades-de-tiempo-libre-educativo-infantil-y-juvenil-13/
LOCATION:Redován\, Alicante\, España
CATEGORIES:Algorfa,Jacarilla,Jóvenes,Mujer,Redován,San Miguel de Salinas
END:VEVENT
BEGIN:VEVENT
DTSTART;VALUE=DATE:20230127
DTEND;VALUE=DATE:20230128
DTSTAMP:20260419T160337
CREATED:20230126T042511Z
LAST-MODIFIED:20230126T114014Z
UID:46880-1674777600-1674863999@www.mancomunidadlavega.es
SUMMARY:Curso Monitor/a de Actividades de Tiempo Libre Educativo Infantil y Juvenil
DESCRIPTION:  \nEl curso de Monitor/a de Actividades de Tiempo Libre Educativo Infantil y Juvenil está dirigido a todas aquellas personas que quieran adquirir las competencias necesarias para trabajar en actividades de animación con niños/as y jóvenes: campamentos\, ludotecas\, escuelas de verano… \n\n\n\nABIERTO EL PLAZO PARA LA PREINSCRIPCIÓN (del 25 de enero al 10 de febrero).\nComienzo curso el 25 de febrero. Se requiere un grupo mínimo para poder realizar la actividad.\n\n\nEl coste sería de 100€ para empadronados/as en Algorfa\, Jacarilla\, Redován o San Miguel de Salinas y de 180€ para los no empadronados/as.\n\n\n\n\nSi estás interesado/a y tienes más de 17 años\, este es el momento. Escanea el código QR e inscríbete.\n\n\nTienes hasta el 1️0 de febrero para hacer tu preinscripción. ¡El pago se realizará una vez confirmada la plaza!\n\n\n \n\n\nSi tienes alguna duda\, envíanos un WhatsApp al 658 796 154 \n\n\n \n\n\nMás info e inscripciones: https://bit.ly/2WdqrHN\n\nCurso oficial del IVAJ (Instituto Valenciano de la Juventud de la Generalitat Valenciana)\, organizado por la Escuela de Animación Abast Animació con el apoyo de la Mancomunidad la Vega y su servicio de Juventud La Vega Joven. \n\nLugar: Centro Municipal LOS PASOS de Redován\, Calle Los Pasos\,1.\nComienzo de curso: 25 de febrero. (Días lectivos: 25 febrero\, 4-11-25 marzo\, 1-15-22 abril\, 6-13-20 mayo\, 3-10-17 junio). De 9 a 14h y de 15 a 18h. 310h.\n\n  \n 
URL:https://www.mancomunidadlavega.es/event/curso-monitor-a-de-actividades-de-tiempo-libre-educativo-infantil-y-juvenil-15/
LOCATION:Redován\, Alicante\, España
CATEGORIES:Algorfa,Jacarilla,Jóvenes,Mujer,Redován,San Miguel de Salinas
END:VEVENT
BEGIN:VEVENT
DTSTART;VALUE=DATE:20230128
DTEND;VALUE=DATE:20230129
DTSTAMP:20260419T160337
CREATED:20230126T042617Z
LAST-MODIFIED:20230126T114034Z
UID:46882-1674864000-1674950399@www.mancomunidadlavega.es
SUMMARY:Curso Monitor/a de Actividades de Tiempo Libre Educativo Infantil y Juvenil
DESCRIPTION:  \nEl curso de Monitor/a de Actividades de Tiempo Libre Educativo Infantil y Juvenil está dirigido a todas aquellas personas que quieran adquirir las competencias necesarias para trabajar en actividades de animación con niños/as y jóvenes: campamentos\, ludotecas\, escuelas de verano… \n\n\n\nABIERTO EL PLAZO PARA LA PREINSCRIPCIÓN (del 25 de enero al 10 de febrero).\nComienzo curso el 25 de febrero. Se requiere un grupo mínimo para poder realizar la actividad.\n\n\nEl coste sería de 100€ para empadronados/as en Algorfa\, Jacarilla\, Redován o San Miguel de Salinas y de 180€ para los no empadronados/as.\n\n\n\n\nSi estás interesado/a y tienes más de 17 años\, este es el momento. Escanea el código QR e inscríbete.\n\n\nTienes hasta el 1️0 de febrero para hacer tu preinscripción. ¡El pago se realizará una vez confirmada la plaza!\n\n\n \n\n\nSi tienes alguna duda\, envíanos un WhatsApp al 658 796 154 \n\n\n \n\n\nMás info e inscripciones: https://bit.ly/2WdqrHN\n\nCurso oficial del IVAJ (Instituto Valenciano de la Juventud de la Generalitat Valenciana)\, organizado por la Escuela de Animación Abast Animació con el apoyo de la Mancomunidad la Vega y su servicio de Juventud La Vega Joven. \n\nLugar: Centro Municipal LOS PASOS de Redován\, Calle Los Pasos\,1.\nComienzo de curso: 25 de febrero. (Días lectivos: 25 febrero\, 4-11-25 marzo\, 1-15-22 abril\, 6-13-20 mayo\, 3-10-17 junio). De 9 a 14h y de 15 a 18h. 310h.\n\n  \n 
URL:https://www.mancomunidadlavega.es/event/curso-monitor-a-de-actividades-de-tiempo-libre-educativo-infantil-y-juvenil-16/
LOCATION:Redován\, Alicante\, España
CATEGORIES:Algorfa,Jacarilla,Jóvenes,Mujer,Redován,San Miguel de Salinas
END:VEVENT
BEGIN:VEVENT
DTSTART;VALUE=DATE:20230129
DTEND;VALUE=DATE:20230130
DTSTAMP:20260419T160337
CREATED:20230126T042646Z
LAST-MODIFIED:20230126T114122Z
UID:46884-1674950400-1675036799@www.mancomunidadlavega.es
SUMMARY:Curso Monitor/a de Actividades de Tiempo Libre Educativo Infantil y Juvenil
DESCRIPTION:  \nEl curso de Monitor/a de Actividades de Tiempo Libre Educativo Infantil y Juvenil está dirigido a todas aquellas personas que quieran adquirir las competencias necesarias para trabajar en actividades de animación con niños/as y jóvenes: campamentos\, ludotecas\, escuelas de verano… \n\n\n\nABIERTO EL PLAZO PARA LA PREINSCRIPCIÓN (del 25 de enero al 10 de febrero).\nComienzo curso el 25 de febrero. Se requiere un grupo mínimo para poder realizar la actividad.\n\n\nEl coste sería de 100€ para empadronados/as en Algorfa\, Jacarilla\, Redován o San Miguel de Salinas y de 180€ para los no empadronados/as.\n\n\n\n\nSi estás interesado/a y tienes más de 17 años\, este es el momento. Escanea el código QR e inscríbete.\n\n\nTienes hasta el 1️0 de febrero para hacer tu preinscripción. ¡El pago se realizará una vez confirmada la plaza!\n\n\n \n\n\nSi tienes alguna duda\, envíanos un WhatsApp al 658 796 154 \n\n\n \n\n\nMás info e inscripciones: https://bit.ly/2WdqrHN\n\nCurso oficial del IVAJ (Instituto Valenciano de la Juventud de la Generalitat Valenciana)\, organizado por la Escuela de Animación Abast Animació con el apoyo de la Mancomunidad la Vega y su servicio de Juventud La Vega Joven. \n\nLugar: Centro Municipal LOS PASOS de Redován\, Calle Los Pasos\,1.\nComienzo de curso: 25 de febrero. (Días lectivos: 25 febrero\, 4-11-25 marzo\, 1-15-22 abril\, 6-13-20 mayo\, 3-10-17 junio). De 9 a 14h y de 15 a 18h. 310h.\n\n  \n 
URL:https://www.mancomunidadlavega.es/event/curso-monitor-a-de-actividades-de-tiempo-libre-educativo-infantil-y-juvenil-17/
LOCATION:Redován\, Alicante\, España
CATEGORIES:Algorfa,Jacarilla,Jóvenes,Mujer,Redován,San Miguel de Salinas
END:VEVENT
BEGIN:VEVENT
DTSTART;VALUE=DATE:20230131
DTEND;VALUE=DATE:20230201
DTSTAMP:20260419T160337
CREATED:20230126T043501Z
LAST-MODIFIED:20230126T114201Z
UID:46892-1675123200-1675209599@www.mancomunidadlavega.es
SUMMARY:Curso Monitor/a de Actividades de Tiempo Libre Educativo Infantil y Juvenil
DESCRIPTION:  \nEl curso de Monitor/a de Actividades de Tiempo Libre Educativo Infantil y Juvenil está dirigido a todas aquellas personas que quieran adquirir las competencias necesarias para trabajar en actividades de animación con niños/as y jóvenes: campamentos\, ludotecas\, escuelas de verano… \n\n\n\nABIERTO EL PLAZO PARA LA PREINSCRIPCIÓN (del 25 de enero al 10 de febrero).\nComienzo curso el 25 de febrero. Se requiere un grupo mínimo para poder realizar la actividad.\n\n\nEl coste sería de 100€ para empadronados/as en Algorfa\, Jacarilla\, Redován o San Miguel de Salinas y de 180€ para los no empadronados/as.\n\n\n\n\nSi estás interesado/a y tienes más de 17 años\, este es el momento. Escanea el código QR e inscríbete.\n\n\nTienes hasta el 1️0 de febrero para hacer tu preinscripción. ¡El pago se realizará una vez confirmada la plaza!\n\n\n \n\n\nSi tienes alguna duda\, envíanos un WhatsApp al 658 796 154 \n\n\n \n\n\nMás info e inscripciones: https://bit.ly/2WdqrHN\n\nCurso oficial del IVAJ (Instituto Valenciano de la Juventud de la Generalitat Valenciana)\, organizado por la Escuela de Animación Abast Animació con el apoyo de la Mancomunidad la Vega y su servicio de Juventud La Vega Joven. \n\nLugar: Centro Municipal LOS PASOS de Redován\, Calle Los Pasos\,1.\nComienzo de curso: 25 de febrero. (Días lectivos: 25 febrero\, 4-11-25 marzo\, 1-15-22 abril\, 6-13-20 mayo\, 3-10-17 junio). De 9 a 14h y de 15 a 18h. 310h.\n\n  \n 
URL:https://www.mancomunidadlavega.es/event/curso-monitor-a-de-actividades-de-tiempo-libre-educativo-infantil-y-juvenil-18/
LOCATION:Redován\, Alicante\, España
CATEGORIES:Algorfa,Jacarilla,Jóvenes,Mujer,Redován,San Miguel de Salinas
END:VEVENT
END:VCALENDAR