BEGIN:VCALENDAR
VERSION:2.0
PRODID:-//Mancomunidad la vega - ECPv6.11.2//NONSGML v1.0//EN
CALSCALE:GREGORIAN
METHOD:PUBLISH
X-WR-CALNAME:Mancomunidad la vega
X-ORIGINAL-URL:https://www.mancomunidadlavega.es
X-WR-CALDESC:Eventos para Mancomunidad la vega
REFRESH-INTERVAL;VALUE=DURATION:PT1H
X-Robots-Tag:noindex
X-PUBLISHED-TTL:PT1H
BEGIN:VTIMEZONE
TZID:UTC
BEGIN:STANDARD
TZOFFSETFROM:+0000
TZOFFSETTO:+0000
TZNAME:UTC
DTSTART:20220101T000000
END:STANDARD
END:VTIMEZONE
BEGIN:VEVENT
DTSTART;TZID=UTC:20220405T093000
DTEND;TZID=UTC:20220405T113000
DTSTAMP:20260421T021206
CREATED:20220404T062102Z
LAST-MODIFIED:20220404T062102Z
UID:39584-1649151000-1649158200@www.mancomunidadlavega.es
SUMMARY:Taller renta valenciana. Redován
DESCRIPTION:El martes 5 de abril a las 9:30h. e3n el Centro Social 3ª Edad\, se realizará el taller informativo sobre la Renta Valenciana de Inclusión #RVI en Redován.\n\n\n En él\, se informará a l@s asistentes de las diferentes tipologías de RVI\, las modalidades más adecuadas a las preferencias\, posibilidades e intereses.\n\n\n Además\, se dará respuesta a todas las dudas de los casos particulares que asistieron\, creándose un espacio de consulta sobre derechos y deberes de RVI.\n\n\n\n\n\n Somos tus Servicios Sociales
URL:https://www.mancomunidadlavega.es/event/taller-renta-valenciana-redovan/
LOCATION:Alicante
CATEGORIES:Algorfa,Infancia y Familia,Jóvenes,Mujer,Otros Colectivos,Redován
END:VEVENT
BEGIN:VEVENT
DTSTART;TZID=UTC:20220406T110000
DTEND;TZID=UTC:20220406T123000
DTSTAMP:20260421T021206
CREATED:20220413T080946Z
LAST-MODIFIED:20220413T080946Z
UID:39656-1649242800-1649248200@www.mancomunidadlavega.es
SUMMARY:Punto de salud preventiva. San Miguel
DESCRIPTION:
URL:https://www.mancomunidadlavega.es/event/punto-de-salud-preventiva-san-miguel/
LOCATION:Alicante
CATEGORIES:Diversidad Funcional,Infancia y Familia,Mayores,Mujer,Otros Colectivos,San Miguel de Salinas
END:VEVENT
BEGIN:VEVENT
DTSTART;TZID=UTC:20220408T120000
DTEND;TZID=UTC:20220408T140000
DTSTAMP:20260421T021206
CREATED:20220413T080810Z
LAST-MODIFIED:20220413T080810Z
UID:39653-1649419200-1649426400@www.mancomunidadlavega.es
SUMMARY:Punto de salud preventiva. Redován
DESCRIPTION:
URL:https://www.mancomunidadlavega.es/event/punto-de-salud-preventiva-redovan/
LOCATION:Alicante
CATEGORIES:Diversidad Funcional,Infancia y Familia,Mayores,Mujer,Otros Colectivos,Redován
END:VEVENT
BEGIN:VEVENT
DTSTART;TZID=UTC:20220411T113000
DTEND;TZID=UTC:20220411T113000
DTSTAMP:20260421T021206
CREATED:20220413T082057Z
LAST-MODIFIED:20220413T082057Z
UID:39660-1649676600-1649676600@www.mancomunidadlavega.es
SUMMARY:Taller rompiendo brechas. San Miguel
DESCRIPTION:
URL:https://www.mancomunidadlavega.es/event/taller-rompiendo-brechas-san-miguel/
LOCATION:Alicante
CATEGORIES:Mujer,San Miguel de Salinas
END:VEVENT
BEGIN:VEVENT
DTSTART;TZID=UTC:20220421T193000
DTEND;TZID=UTC:20220421T213000
DTSTAMP:20260421T021206
CREATED:20220413T075453Z
LAST-MODIFIED:20220413T075925Z
UID:39636-1650569400-1650576600@www.mancomunidadlavega.es
SUMMARY:Taller prevención acoso sexual. Online
DESCRIPTION:  \nTaller de prevención y actuación ante el acoso sexual callejero MLV.\nJueves\, 21 de abril · 7:30 – 9:30pm \nInformación para unirse a Google Meet\nEnlace a la videollamada: \nhttps://meet.google.com/rte-xhuz-buc\nO marca el: (US) +1 401-321-2975 PIN: 614 594 299#
URL:https://www.mancomunidadlavega.es/event/taller-prevencion-acoso-sexual-online/
LOCATION:Alicante
CATEGORIES:Algorfa,Jóvenes,Mujer,Redován,San Miguel de Salinas
END:VEVENT
END:VCALENDAR