BEGIN:VCALENDAR
VERSION:2.0
PRODID:-//Mancomunidad la vega - ECPv6.11.2//NONSGML v1.0//EN
CALSCALE:GREGORIAN
METHOD:PUBLISH
X-ORIGINAL-URL:https://www.mancomunidadlavega.es
X-WR-CALDESC:Eventos para Mancomunidad la vega
REFRESH-INTERVAL;VALUE=DURATION:PT1H
X-Robots-Tag:noindex
X-PUBLISHED-TTL:PT1H
BEGIN:VTIMEZONE
TZID:UTC
BEGIN:STANDARD
TZOFFSETFROM:+0000
TZOFFSETTO:+0000
TZNAME:UTC
DTSTART:20220101T000000
END:STANDARD
END:VTIMEZONE
BEGIN:VEVENT
DTSTART;TZID=UTC:20220304T163000
DTEND;TZID=UTC:20220304T173000
DTSTAMP:20260421T033610
CREATED:20220228T220002Z
LAST-MODIFIED:20220228T220002Z
UID:37521-1646411400-1646415000@www.mancomunidadlavega.es
SUMMARY:Sesión Cardio Dance Algorfa
DESCRIPTION:Lugar: Polideportivo Municipal \nHora: 16:30 horas \nAsociación Mujeres de Algorfa
URL:https://www.mancomunidadlavega.es/event/sesion-cardio-dance-algorfa/
LOCATION:Servicios Sociales Redovan
CATEGORIES:Algorfa,Mujer
END:VEVENT
BEGIN:VEVENT
DTSTART;TZID=UTC:20220304T180000
DTEND;TZID=UTC:20220304T200000
DTSTAMP:20260421T033610
CREATED:20220222T221101Z
LAST-MODIFIED:20220303T133520Z
UID:36829-1646416800-1646424000@www.mancomunidadlavega.es
SUMMARY:Tardes de Cine en Jacarilla
DESCRIPTION:La costilla de Adán \nModera: Pilar Díaz
URL:https://www.mancomunidadlavega.es/event/tardes-de-cine-en-jacarilla/
LOCATION:Alicante
CATEGORIES:Jacarilla,Mujer
END:VEVENT
BEGIN:VEVENT
DTSTART;TZID=UTC:20220304T200000
DTEND;TZID=UTC:20220304T230000
DTSTAMP:20260421T033610
CREATED:20220222T220514Z
LAST-MODIFIED:20220222T220707Z
UID:36824-1646424000-1646434800@www.mancomunidadlavega.es
SUMMARY:Cena Mujeres San Miguel de Salinas
DESCRIPTION:
URL:https://www.mancomunidadlavega.es/event/cena-mujeres-san-miguel-de-salinas/
LOCATION:Alicante
CATEGORIES:Mujer,San Miguel de Salinas
END:VEVENT
BEGIN:VEVENT
DTSTART;TZID=UTC:20220306T113000
DTEND;TZID=UTC:20220306T130000
DTSTAMP:20260421T033610
CREATED:20220303T132358Z
LAST-MODIFIED:20220304T092002Z
UID:38125-1646566200-1646571600@www.mancomunidadlavega.es
SUMMARY:Acto Reconocimiento "Mujer Redován".
DESCRIPTION:  \n  \n  \n  \n  \n  \n  \n  \n  \n  \n  \n  \n  \n  \n  \n  \n  \n  \nSalón de Plenos del Ayuntamiento. \n 
URL:https://www.mancomunidadlavega.es/event/acto-reconocimiento-mujer-redovan/
LOCATION:Algorfa
CATEGORIES:Mujer,Redován
END:VEVENT
BEGIN:VEVENT
DTSTART;TZID=UTC:20220306T120000
DTEND;TZID=UTC:20220306T130000
DTSTAMP:20260421T033610
CREATED:20220222T224821Z
LAST-MODIFIED:20220225T141907Z
UID:36842-1646568000-1646571600@www.mancomunidadlavega.es
SUMMARY:Exposición fotográfica "Mujeres de Algorfa"
DESCRIPTION:Sala Exposiciones Ayuntamiento de Algorfa
URL:https://www.mancomunidadlavega.es/event/exposicion-fotografica-mujeres-de-algorfa/
LOCATION:Servicios Sociales Redovan
CATEGORIES:Algorfa,Mujer
END:VEVENT
BEGIN:VEVENT
DTSTART;TZID=UTC:20220306T123000
DTEND;TZID=UTC:20220306T133000
DTSTAMP:20260421T033610
CREATED:20220222T225022Z
LAST-MODIFIED:20220228T071811Z
UID:36844-1646569800-1646573400@www.mancomunidadlavega.es
SUMMARY:Exposición fotográfica "Mujeres de San Miguel de Salinas"
DESCRIPTION:Exposición fotográfica «Mujeres de San Miguel de Salinas» \nHall del Ayuntamiento \nVer todas las actividades del 8 de marzo: Actividades 8 de marzo
URL:https://www.mancomunidadlavega.es/event/exposicion-fotografica-mujeres-de-san-miguel-de-salinas/
LOCATION:Ayuntamiento de San Miguel de Salinas
CATEGORIES:Mujer,San Miguel de Salinas
END:VEVENT
BEGIN:VEVENT
DTSTART;TZID=UTC:20220306T130000
DTEND;TZID=UTC:20220306T140000
DTSTAMP:20260421T033610
CREATED:20220222T222844Z
LAST-MODIFIED:20220228T072046Z
UID:36835-1646571600-1646575200@www.mancomunidadlavega.es
SUMMARY:Exposición Fotográfica "Mujeres de Jacarilla"
DESCRIPTION:Exposición Fotográfica «Mujeres de Jacarilla» \nHall del Ayuntamiento \nVer todas las actividades del 8 de marzo: Actividades 8 de marzo
URL:https://www.mancomunidadlavega.es/event/exposicion-fotografica-mujeres-de-jacarilla/
LOCATION:Alicante
CATEGORIES:Jacarilla,Mujer
END:VEVENT
BEGIN:VEVENT
DTSTART;TZID=UTC:20220306T180000
DTEND;TZID=UTC:20220306T200000
DTSTAMP:20260421T033610
CREATED:20220222T223730Z
LAST-MODIFIED:20220222T223730Z
UID:36837-1646589600-1646596800@www.mancomunidadlavega.es
SUMMARY:Teatro Mujer como ninguna
DESCRIPTION:Salón de actos Centro Social Jacarilla
URL:https://www.mancomunidadlavega.es/event/teatro-mujer-como-ninguna/
LOCATION:Alicante
CATEGORIES:Jacarilla,Mujer
END:VEVENT
BEGIN:VEVENT
DTSTART;TZID=UTC:20220307T193000
DTEND;TZID=UTC:20220307T213000
DTSTAMP:20260421T033610
CREATED:20220222T225551Z
LAST-MODIFIED:20220228T222625Z
UID:36847-1646681400-1646688600@www.mancomunidadlavega.es
SUMMARY:Club de Lectura Feminista on line
DESCRIPTION:MES DE MARZO \n+INFO: Club de lectura feminista \nLibro: Tsunami: Miradas feministas \nVer todas las actividades del 8 de marzo: Actividades 8 de marzo
URL:https://www.mancomunidadlavega.es/event/club-de-lectura-feminista-on-line-2/
LOCATION:Alicante
CATEGORIES:Algorfa,Jacarilla,Mujer,Redován,San Miguel de Salinas
END:VEVENT
BEGIN:VEVENT
DTSTART;TZID=UTC:20220307T210000
DTEND;TZID=UTC:20220307T220000
DTSTAMP:20260421T033610
CREATED:20220304T103014Z
LAST-MODIFIED:20220304T103551Z
UID:38830-1646686800-1646690400@www.mancomunidadlavega.es
SUMMARY:Body Fit. San Miguel
DESCRIPTION:¡Tiempo de cuidarse!  Iniciamos la actividad de Body Fit. Si aún no te has inscrito\, ¡estás a tiempo!. \n\nPara más info. dirígete al Ayuntamiento o a Servicios Sociales.\nEncontrarás toda la información e inscripciones de la actividad en la web: https://bit.ly/2G35TYO\n\n\n#Donasalud #jacarilla #serviciossociales #mancomunidadlavega #xarxasalud #lavegasalud\n\n\nCon el apoyo de La Dipu Social. Diputación de Alicante.\n\n 
URL:https://www.mancomunidadlavega.es/event/bodyfit/2022-03-07/
LOCATION:San Miguel de Salinas\, San Miguel de Salinas\, Alicante\, 03370\, España
CATEGORIES:Mujer,San Miguel de Salinas
GEO:38.3671062;-0.4796285
END:VEVENT
BEGIN:VEVENT
DTSTART;TZID=UTC:20220308T123000
DTEND;TZID=UTC:20220308T130000
DTSTAMP:20260421T033610
CREATED:20220222T225955Z
LAST-MODIFIED:20220304T090134Z
UID:36849-1646742600-1646744400@www.mancomunidadlavega.es
SUMMARY:Programa Radio Cadena Ser Hoy por Hoy 8M. Algorfa
DESCRIPTION:Ayuntamiento de Algorfa
URL:https://www.mancomunidadlavega.es/event/programa-radio-cadena-ser-hoy-por-hoy-8m/
LOCATION:Alicante
CATEGORIES:Algorfa,Mujer
END:VEVENT
BEGIN:VEVENT
DTSTART;TZID=UTC:20220308T130000
DTEND;TZID=UTC:20220308T140000
DTSTAMP:20260421T033610
CREATED:20220228T222938Z
LAST-MODIFIED:20220228T222949Z
UID:37551-1646744400-1646748000@www.mancomunidadlavega.es
SUMMARY:Charla Organización según Marie Kondo Algorfa
DESCRIPTION:Hora: 13.00 horas \nLugar: Centro Social \n 
URL:https://www.mancomunidadlavega.es/event/charla-organizacio-segun-marie-kondo-algorfa/
LOCATION:Alicante
CATEGORIES:Algorfa,Mujer
END:VEVENT
BEGIN:VEVENT
DTSTART;TZID=UTC:20220308T180000
DTEND;TZID=UTC:20220308T183000
DTSTAMP:20260421T033610
CREATED:20220303T133147Z
LAST-MODIFIED:20220304T090001Z
UID:38130-1646762400-1646764200@www.mancomunidadlavega.es
SUMMARY:Concentración "Día de la Mujer". San Miguel
DESCRIPTION:  \n  \n  \n  \n  \n  \n  \n  \n  \n  \n  \n  \n  \n  \n  \n  \n  \n  \n  \nLectura de Manifiesto en la puerta del Ayuntamiento. \n18:00h. \nColaboran: \nAsociación de Vecinos de San Miguel \nAsociación Vivas nos Queremos. \n 
URL:https://www.mancomunidadlavega.es/event/concentracion-dia-de-la-mujer/
LOCATION:Ayuntamiento de San Miguel de Salinas
CATEGORIES:Mujer,San Miguel de Salinas
END:VEVENT
BEGIN:VEVENT
DTSTART;TZID=UTC:20220309T103000
DTEND;TZID=UTC:20220309T113000
DTSTAMP:20260421T033610
CREATED:20220222T230303Z
LAST-MODIFIED:20220301T141439Z
UID:36851-1646821800-1646825400@www.mancomunidadlavega.es
SUMMARY:Los cuidados en el mercado. San Miguel
DESCRIPTION:Stand en Mercadillo municipal San Miguel de Salinas
URL:https://www.mancomunidadlavega.es/event/los-cuidados-en-el-mercado/
LOCATION:San Miguel de Salinas\, San Miguel de Salinas\, Alicante\, 03370\, España
CATEGORIES:Mujer,San Miguel de Salinas
GEO:38.3671062;-0.4796285
END:VEVENT
BEGIN:VEVENT
DTSTART;TZID=UTC:20220309T160000
DTEND;TZID=UTC:20220309T173000
DTSTAMP:20260421T033610
CREATED:20220222T230642Z
LAST-MODIFIED:20220225T141133Z
UID:36854-1646841600-1646847000@www.mancomunidadlavega.es
SUMMARY:Bienestar Emocional Algorfa
DESCRIPTION:Grupo de apoyo de bienestar emocional \nCentro Social de Algorfa \nMás información: Bienestar emocional
URL:https://www.mancomunidadlavega.es/event/bienestar-emocional-algorfa/
LOCATION:Servicios Sociales Redovan
CATEGORIES:Algorfa,Mujer
END:VEVENT
BEGIN:VEVENT
DTSTART;TZID=UTC:20220309T180000
DTEND;TZID=UTC:20220309T200000
DTSTAMP:20260421T033610
CREATED:20220222T230811Z
LAST-MODIFIED:20220304T134035Z
UID:36856-1646848800-1646856000@www.mancomunidadlavega.es
SUMMARY:Charla Slow Life (Vivir despacio) San Miguel de Salinas
DESCRIPTION:Servicios Sociales San Miguel de Salinas \n\nAprende a bajar el ritmo y a manejar la ansiedad y estrés\, para alcanzar el bienestar en el taller SlowLife.\n\n\nPorque puedes con todo\, pero no todo a la vez\, este taller está diseñado para ti\, para reflexionar y aprender juntas a tomarnos la vida «de otra manera».\n\n\nVamos a parar para identificar el estrés e incorporar un estilo de vida más presente\, más consciente y más atento contigo misma y con la vorágine de l#energía\n\n\nApunta las fechas:\n\n\nSan Miguel – Miércoles 9 – 18:00\nJacarilla – Martes 22 – 20:00\nAlgorfa – Jueves 24 – 18:00\nRedován – Jueves 24 – 20:00\n\n\nMás información y programa completo en: https://bit.ly/3M5HCC4\n\n\n#8M #DíaInternacionaldeLasMujeres #YoIgualATú #VITALES #MancomunidadLaVega #igualdad #vidalenta #bienestar #salud #estrés #mujer #equilibrio #naturaleza #estilodevida #disfrutar #digestión #sueño #descanso #energía\n\n 
URL:https://www.mancomunidadlavega.es/event/charla-slow-life-vivir-despacio-san-miguel-de-salinas/
LOCATION:San Miguel de Salinas\, San Miguel de Salinas\, Alicante\, 03370\, España
CATEGORIES:Mujer,San Miguel de Salinas
GEO:38.3671062;-0.4796285
END:VEVENT
BEGIN:VEVENT
DTSTART;TZID=UTC:20220309T200000
DTEND;TZID=UTC:20220309T210000
DTSTAMP:20260421T033610
CREATED:20220225T131540Z
LAST-MODIFIED:20220225T132419Z
UID:36992-1646856000-1646859600@www.mancomunidadlavega.es
SUMMARY:Charla Slow Life. Jacarilla
DESCRIPTION:Centro Social de Jacarilla
URL:https://www.mancomunidadlavega.es/event/charla-slow-life-jacarilla/
LOCATION:Salón de actos del Centro Social Jacarilla
CATEGORIES:Jacarilla,Mujer
END:VEVENT
BEGIN:VEVENT
DTSTART;TZID=UTC:20220310T173000
DTEND;TZID=UTC:20220310T190000
DTSTAMP:20260421T033610
CREATED:20220222T232212Z
LAST-MODIFIED:20220222T232212Z
UID:36864-1646933400-1646938800@www.mancomunidadlavega.es
SUMMARY:Campeonato fútbol femenino San Miguel
DESCRIPTION:IV Semana Valenta \nTecnificación Infantil \nCF Montesico Blanco
URL:https://www.mancomunidadlavega.es/event/campeonato-futbol-femenino-san-miguel/
LOCATION:Alicante
CATEGORIES:Mujer,San Miguel de Salinas
END:VEVENT
BEGIN:VEVENT
DTSTART;TZID=UTC:20220310T180000
DTEND;TZID=UTC:20220310T193000
DTSTAMP:20260421T033610
CREATED:20220222T231103Z
LAST-MODIFIED:20220222T231103Z
UID:36858-1646935200-1646940600@www.mancomunidadlavega.es
SUMMARY:taller sexualidad femenina Algorfa
DESCRIPTION:
URL:https://www.mancomunidadlavega.es/event/taller-sexualidad-femenina-algorfa/
LOCATION:Centro Social Algorfa\, Centro Social. Plaza de España\, sn\, Algorfa\, Alicante\, 03169\, España
CATEGORIES:Algorfa,Mujer
GEO:38.0659364;-0.7789426
X-APPLE-STRUCTURED-LOCATION;VALUE=URI;X-ADDRESS=Centro Social Algorfa Centro Social. Plaza de España sn Algorfa Alicante 03169 España;X-APPLE-RADIUS=500;X-TITLE=Centro Social. Plaza de España\, sn:geo:-0.7789426,38.0659364
END:VEVENT
BEGIN:VEVENT
DTSTART;TZID=UTC:20220310T200000
DTEND;TZID=UTC:20220310T213000
DTSTAMP:20260421T033610
CREATED:20220222T231346Z
LAST-MODIFIED:20220222T231346Z
UID:36861-1646942400-1646947800@www.mancomunidadlavega.es
SUMMARY:Taller sexualidad femenina Redován
DESCRIPTION:
URL:https://www.mancomunidadlavega.es/event/taller-sexualidad-femenina-redovan/
LOCATION:Centro Social de la Tercera Edad. Redován\, C/ Juan XXIII\, s/n\, Redován\, Alicante\, 03370\, España
CATEGORIES:Mujer
GEO:38.1142082;-0.9076136
X-APPLE-STRUCTURED-LOCATION;VALUE=URI;X-ADDRESS=Centro Social de la Tercera Edad. Redován C/ Juan XXIII s/n Redován Alicante 03370 España;X-APPLE-RADIUS=500;X-TITLE=C/ Juan XXIII\, s/n:geo:-0.9076136,38.1142082
END:VEVENT
BEGIN:VEVENT
DTSTART;TZID=UTC:20220311T100000
DTEND;TZID=UTC:20220311T110000
DTSTAMP:20260421T033610
CREATED:20220222T232358Z
LAST-MODIFIED:20220301T141233Z
UID:36867-1646992800-1646996400@www.mancomunidadlavega.es
SUMMARY:Los cuidados en el mercado de Redován
DESCRIPTION:Stand en el mecadillo semanal de Redován
URL:https://www.mancomunidadlavega.es/event/los-cuidados-en-el-mercado-de-redovan/
LOCATION:Alicante
CATEGORIES:Mujer,Redován
END:VEVENT
BEGIN:VEVENT
DTSTART;TZID=UTC:20220311T203000
DTEND;TZID=UTC:20220311T233000
DTSTAMP:20260421T033610
CREATED:20220222T232733Z
LAST-MODIFIED:20220304T085307Z
UID:36869-1647030600-1647041400@www.mancomunidadlavega.es
SUMMARY:Cena Mujeres Redován
DESCRIPTION:
URL:https://www.mancomunidadlavega.es/event/cena-mujeres-redovan-2/
LOCATION:Algorfa
CATEGORIES:Mujer,Redován
END:VEVENT
BEGIN:VEVENT
DTSTART;TZID=UTC:20220311T210000
DTEND;TZID=UTC:20220311T233000
DTSTAMP:20260421T033610
CREATED:20220228T141213Z
LAST-MODIFIED:20220228T141700Z
UID:37185-1647032400-1647041400@www.mancomunidadlavega.es
SUMMARY:Cena Mujeres. Algorfa
DESCRIPTION:
URL:https://www.mancomunidadlavega.es/event/cena-mujeres-algorfa/
LOCATION:Servicios Sociales Redovan
CATEGORIES:Algorfa,Mujer
END:VEVENT
BEGIN:VEVENT
DTSTART;TZID=UTC:20220313T123000
DTEND;TZID=UTC:20220313T133000
DTSTAMP:20260421T033610
CREATED:20220222T232843Z
LAST-MODIFIED:20220303T124901Z
UID:36872-1647174600-1647178200@www.mancomunidadlavega.es
SUMMARY:Exposición Fotográfica "Mujeres de Redován"
DESCRIPTION:Sala de exposiciones \nVer todas las actividades del 8 de marzo: Actividades 8 de marzo
URL:https://www.mancomunidadlavega.es/event/exposicion-fotografica-mujeres-de-redovan/
LOCATION:Algorfa
CATEGORIES:Mujer,Redován
END:VEVENT
BEGIN:VEVENT
DTSTART;TZID=UTC:20220315T170000
DTEND;TZID=UTC:20220315T180000
DTSTAMP:20260421T033610
CREATED:20220228T073723Z
LAST-MODIFIED:20220228T074022Z
UID:37059-1647363600-1647367200@www.mancomunidadlavega.es
SUMMARY:Taller de Risoterapia. Jacarilla
DESCRIPTION:+info.  en el trámite Risoterapia \nVer todas las actividades del 8 de marzo: Actividades 8 de marzo \n  \n 
URL:https://www.mancomunidadlavega.es/event/taller-de-risoterapia-jacarilla-2/
LOCATION:Salón de actos del Centro Social Jacarilla
CATEGORIES:Jacarilla,Mujer
END:VEVENT
BEGIN:VEVENT
DTSTART;TZID=UTC:20220316T100000
DTEND;TZID=UTC:20220316T130000
DTSTAMP:20260421T033610
CREATED:20220301T141909Z
LAST-MODIFIED:20220301T141909Z
UID:37652-1647424800-1647435600@www.mancomunidadlavega.es
SUMMARY:Los cuidados en el mercado. Algorfa
DESCRIPTION:
URL:https://www.mancomunidadlavega.es/event/los-cuidados-en-el-mercado-algorfa/
LOCATION:Servicios Sociales Redovan
CATEGORIES:Algorfa,Mujer
END:VEVENT
BEGIN:VEVENT
DTSTART;TZID=UTC:20220316T160000
DTEND;TZID=UTC:20220316T170000
DTSTAMP:20260421T033610
CREATED:20220228T073500Z
LAST-MODIFIED:20220228T074357Z
UID:37057-1647446400-1647450000@www.mancomunidadlavega.es
SUMMARY:Taller de Risoterapia. Algorfa
DESCRIPTION:+info.  en el trámite Risoterapia \nVer todas las actividades del 8 de marzo: Actividades 8 de marzo \n 
URL:https://www.mancomunidadlavega.es/event/taller-de-risoterapia-algorfa-2/
LOCATION:Servicios Sociales Redovan
CATEGORIES:Algorfa,Mujer
END:VEVENT
BEGIN:VEVENT
DTSTART;TZID=UTC:20220316T180000
DTEND;TZID=UTC:20220316T190000
DTSTAMP:20260421T033610
CREATED:20220228T074529Z
LAST-MODIFIED:20220228T074529Z
UID:37062-1647453600-1647457200@www.mancomunidadlavega.es
SUMMARY:Taller Risoterapia. San Miguel de Salinas
DESCRIPTION:+info.  en el trámite Risoterapia \nVer todas las actividades del 8 de marzo: Actividades 8 de marzo
URL:https://www.mancomunidadlavega.es/event/taller-risoterapia-san-miguel-de-salinas-2/
LOCATION:Servicios Sociales. San Miguel De Salinas
CATEGORIES:Mujer,San Miguel de Salinas
END:VEVENT
BEGIN:VEVENT
DTSTART;TZID=UTC:20220316T200000
DTEND;TZID=UTC:20220316T210000
DTSTAMP:20260421T033610
CREATED:20220228T074728Z
LAST-MODIFIED:20220228T133859Z
UID:37064-1647460800-1647464400@www.mancomunidadlavega.es
SUMMARY:Taller de Risoterapia. Redován
DESCRIPTION:+info.  en el trámite Risoterapia \nVer todas las actividades del 8 de marzo: Actividades 8 de marzo \n 
URL:https://www.mancomunidadlavega.es/event/risoterapia-redovan-2019-2/
LOCATION:Centro Social de la Tercera Edad. Redován\, C/ Juan XXIII\, s/n\, Redován\, Alicante\, 03370\, España
CATEGORIES:Mujer,Redován
GEO:38.1142082;-0.9076136
X-APPLE-STRUCTURED-LOCATION;VALUE=URI;X-ADDRESS=Centro Social de la Tercera Edad. Redován C/ Juan XXIII s/n Redován Alicante 03370 España;X-APPLE-RADIUS=500;X-TITLE=C/ Juan XXIII\, s/n:geo:-0.9076136,38.1142082
END:VEVENT
BEGIN:VEVENT
DTSTART;TZID=UTC:20220318T100000
DTEND;TZID=UTC:20220318T130000
DTSTAMP:20260421T033610
CREATED:20220301T141713Z
LAST-MODIFIED:20220301T141819Z
UID:37647-1647597600-1647608400@www.mancomunidadlavega.es
SUMMARY:Los cuidados en el mercado. Jacarilla
DESCRIPTION:
URL:https://www.mancomunidadlavega.es/event/los-cuidados-en-el-mercado-jacarilla/
LOCATION:Salón de actos del Centro Social Jacarilla
CATEGORIES:Jacarilla,Mujer
END:VEVENT
END:VCALENDAR