BEGIN:VCALENDAR
VERSION:2.0
PRODID:-//Mancomunidad la vega - ECPv6.11.2//NONSGML v1.0//EN
CALSCALE:GREGORIAN
METHOD:PUBLISH
X-ORIGINAL-URL:https://www.mancomunidadlavega.es
X-WR-CALDESC:Eventos para Mancomunidad la vega
REFRESH-INTERVAL;VALUE=DURATION:PT1H
X-Robots-Tag:noindex
X-PUBLISHED-TTL:PT1H
BEGIN:VTIMEZONE
TZID:UTC
BEGIN:STANDARD
TZOFFSETFROM:+0000
TZOFFSETTO:+0000
TZNAME:UTC
DTSTART:20220101T000000
END:STANDARD
END:VTIMEZONE
BEGIN:VEVENT
DTSTART;TZID=UTC:20220109T203000
DTEND;TZID=UTC:20220109T213000
DTSTAMP:20260421T132952
CREATED:20220303T141345Z
LAST-MODIFIED:20220304T071219Z
UID:38305-1641760200-1641763800@www.mancomunidadlavega.es
SUMMARY:Taller de pilates. Algorfa
DESCRIPTION:¡Tiempo de cuidarse!  Iniciamos la actividad de PILATES. Si aún no te has inscrito\, ¡estás a tiempo!. \n\nPara más info. dirígete al Ayuntamiento o a Servicios Sociales.\n\nEncontrarás toda la información e inscripciones de la actividad en la web: https://bit.ly/2G35TYO\n\n\n#Donasalud #jacarilla #serviciossociales #mancomunidadlavega #xarxasalud #lavegasalud\n\n\nCon el apoyo de La Dipu Social. Diputación de Alicante\n\n 
URL:https://www.mancomunidadlavega.es/event/taller-de-pilates-redovan-2-3-3-2/2022-01-09/
LOCATION:Servicios Sociales Redovan
CATEGORIES:Algorfa,Mujer
END:VEVENT
END:VCALENDAR