BEGIN:VCALENDAR
VERSION:2.0
PRODID:-//Mancomunidad la vega - ECPv6.11.2//NONSGML v1.0//EN
CALSCALE:GREGORIAN
METHOD:PUBLISH
X-WR-CALNAME:Mancomunidad la vega
X-ORIGINAL-URL:https://www.mancomunidadlavega.es
X-WR-CALDESC:Eventos para Mancomunidad la vega
REFRESH-INTERVAL;VALUE=DURATION:PT1H
X-Robots-Tag:noindex
X-PUBLISHED-TTL:PT1H
BEGIN:VTIMEZONE
TZID:UTC
BEGIN:STANDARD
TZOFFSETFROM:+0000
TZOFFSETTO:+0000
TZNAME:UTC
DTSTART:20210101T000000
END:STANDARD
END:VTIMEZONE
BEGIN:VEVENT
DTSTART;TZID=UTC:20210504T190000
DTEND;TZID=UTC:20210504T200000
DTSTAMP:20260422T002926
CREATED:20210505T132018Z
LAST-MODIFIED:20210505T132111Z
UID:33962-1620154800-1620158400@www.mancomunidadlavega.es
SUMMARY:Taller de pilates. Jacarilla
DESCRIPTION:Más información e inscripciones: Talleres Dona Salud
URL:https://www.mancomunidadlavega.es/event/taller-de-pilates-redovan-2-2/2021-05-04/
LOCATION:Alicante
CATEGORIES:Jacarilla,Mujer
END:VEVENT
BEGIN:VEVENT
DTSTART;TZID=UTC:20210505T080000
DTEND;TZID=UTC:20210505T170000
DTSTAMP:20260422T002926
CREATED:20210505T131430Z
LAST-MODIFIED:20210505T131807Z
UID:33922-1620201600-1620234000@www.mancomunidadlavega.es
SUMMARY:Taller de pilates. Redován
DESCRIPTION:Más información e inscripciones: Talleres Dona Salud
URL:https://www.mancomunidadlavega.es/event/taller-de-pilates-redovan-2/2021-05-05/
LOCATION:Alicante
CATEGORIES:Mujer,Redován
END:VEVENT
BEGIN:VEVENT
DTSTART;TZID=UTC:20210524T093000
DTEND;TZID=UTC:20210524T103000
DTSTAMP:20260422T002926
CREATED:20210505T114457Z
LAST-MODIFIED:20210505T114457Z
UID:33143-1621848600-1621852200@www.mancomunidadlavega.es
SUMMARY:Taller: Economía doméstica. Redován.
DESCRIPTION:
URL:https://www.mancomunidadlavega.es/event/taller-economia-domestica-redovan/
LOCATION:Alicante
CATEGORIES:Infancia y Familia,Mujer,Redován
END:VEVENT
BEGIN:VEVENT
DTSTART;TZID=UTC:20210524T113000
DTEND;TZID=UTC:20210524T123000
DTSTAMP:20260422T002926
CREATED:20210505T114547Z
LAST-MODIFIED:20210505T114547Z
UID:33146-1621855800-1621859400@www.mancomunidadlavega.es
SUMMARY:Taller: Economía doméstica. Algorfa
DESCRIPTION:
URL:https://www.mancomunidadlavega.es/event/taller-economia-domestica-algorfa/
LOCATION:Alicante
CATEGORIES:Algorfa,Infancia y Familia,Mujer
END:VEVENT
END:VCALENDAR