BEGIN:VCALENDAR
VERSION:2.0
PRODID:-//Mancomunidad la vega - ECPv6.11.2//NONSGML v1.0//EN
CALSCALE:GREGORIAN
METHOD:PUBLISH
X-WR-CALNAME:Mancomunidad la vega
X-ORIGINAL-URL:https://www.mancomunidadlavega.es
X-WR-CALDESC:Eventos para Mancomunidad la vega
REFRESH-INTERVAL;VALUE=DURATION:PT1H
X-Robots-Tag:noindex
X-PUBLISHED-TTL:PT1H
BEGIN:VTIMEZONE
TZID:UTC
BEGIN:STANDARD
TZOFFSETFROM:+0000
TZOFFSETTO:+0000
TZNAME:UTC
DTSTART:20210101T000000
END:STANDARD
END:VTIMEZONE
BEGIN:VEVENT
DTSTART;TZID=UTC:20210407T080000
DTEND;TZID=UTC:20210407T233000
DTSTAMP:20260422T020658
CREATED:20210407T115522Z
LAST-MODIFIED:20210407T115522Z
UID:32805-1617782400-1617838200@www.mancomunidadlavega.es
SUMMARY:Día de la Salud\, oferta de actividades mes de abril.
DESCRIPTION: Descargar Agenda: Agenda mes de la Salud 2021 \n 
URL:https://www.mancomunidadlavega.es/event/dia-de-la-salud-oferta-de-actividades-mes-de-abril/
LOCATION:Alicante
CATEGORIES:Algorfa,Diversidad Funcional,Extranjeros,Infancia y Familia,Jacarilla,Jóvenes,Mayores,Mujer,Otros Colectivos,Redován,San Miguel de Salinas
END:VEVENT
BEGIN:VEVENT
DTSTART;TZID=UTC:20210408T090000
DTEND;TZID=UTC:20210408T110000
DTSTAMP:20260422T020658
CREATED:20210416T102959Z
LAST-MODIFIED:20210416T110116Z
UID:32903-1617872400-1617879600@www.mancomunidadlavega.es
SUMMARY:Mesa Local de Salud. San Miguel de Salinas. Online
DESCRIPTION:
URL:https://www.mancomunidadlavega.es/event/mesa-local-de-salud-san-miguel-de-salinas-online/
LOCATION:Alicante
CATEGORIES:Diversidad Funcional,Extranjeros,Infancia y Familia,Jóvenes,Mayores,Mujer,San Miguel de Salinas
END:VEVENT
BEGIN:VEVENT
DTSTART;TZID=UTC:20210408T110000
DTEND;TZID=UTC:20210408T130000
DTSTAMP:20260422T020658
CREATED:20210416T110152Z
LAST-MODIFIED:20210416T110611Z
UID:32905-1617879600-1617886800@www.mancomunidadlavega.es
SUMMARY:Mesa Local de Salud. Jacarilla. Online
DESCRIPTION:
URL:https://www.mancomunidadlavega.es/event/mesa-local-de-salud-jacarilla-online/
LOCATION:Alicante
CATEGORIES:Diversidad Funcional,Extranjeros,Infancia y Familia,Jacarilla,Jóvenes,Mayores,Mujer
END:VEVENT
BEGIN:VEVENT
DTSTART;TZID=UTC:20210409T090000
DTEND;TZID=UTC:20210409T110000
DTSTAMP:20260422T020658
CREATED:20210416T110546Z
LAST-MODIFIED:20210416T112604Z
UID:32907-1617958800-1617966000@www.mancomunidadlavega.es
SUMMARY:Mesa Local de Salud. Redován. Online
DESCRIPTION:
URL:https://www.mancomunidadlavega.es/event/mesa-local-de-salud-redovan-online/
LOCATION:Alicante
CATEGORIES:Diversidad Funcional,Extranjeros,Infancia y Familia,Jóvenes,Mayores,Mujer,Redován
END:VEVENT
BEGIN:VEVENT
DTSTART;TZID=UTC:20210415T090000
DTEND;TZID=UTC:20210415T110000
DTSTAMP:20260422T020658
CREATED:20210416T113651Z
LAST-MODIFIED:20210416T113703Z
UID:32909-1618477200-1618484400@www.mancomunidadlavega.es
SUMMARY:Convenio de colaboración con la Asociación Columbares.
DESCRIPTION:Mancomunidad la Vega firma un convenio de colaboración con la Asociación Columbares para la atención a la población extranjera. \nCon la implantación de un novedoso sistema de traducción a 18 idiomas para personal sanitario y servicios sociales. \nLa Presidenta de Mancomunidad la Vega y Alcaldesa de Jacarilla Dña. Pilar Díaz Rodríguez\, firma un convenio de colaboración con D. José Nicolás Olmos\, Presidente de la Asociación Columbares. Un convenio que supone el inicio de una colaboración que se centra en la implantación y difusión de los proyectos desarrollados por la Asociación Columbares que en coordinación con la Oficina PANGEA de la mancomunidad se van a llevar a cabo en los cuatro municipios que componen la Mancomunidad\, Algorfa\, Jacarilla\, Redován y San Miguel de Salinas. Estos proyectos cuentan con financiación de la Conselleria de Igualdad y Políticas Inclusivas de la Generalitat Valenciana. \nVer nota de prensa
URL:https://www.mancomunidadlavega.es/event/convenio-de-colaboracion-con-la-asociacion-columbares/
LOCATION:Alicante
CATEGORIES:Algorfa,Diversidad Funcional,Extranjeros,Infancia y Familia,Jacarilla,Jóvenes,Mayores,Mujer,Otros Colectivos,Redován,San Miguel de Salinas
END:VEVENT
BEGIN:VEVENT
DTSTART;TZID=UTC:20210419T093000
DTEND;TZID=UTC:20210419T113000
DTSTAMP:20260422T020658
CREATED:20210408T105528Z
LAST-MODIFIED:20210416T083327Z
UID:32818-1618824600-1618831800@www.mancomunidadlavega.es
SUMMARY:Taller Renta Valenciana de Inclusión. Redován
DESCRIPTION:Taller informativo Renta Valenciana de Inclusión. \n\n¿Qué es?\n¿A qué tipo puedo acceder?\n¿Qué documentación necesito?\n\n19 y 26 de abril a las 9:30h. en el Salón de Actos del Centro Social «Ricardo Ruiz Poveda» de Redován. \n19 de abril a las 12:00h. en el Centro Social de Algorfa. \n22 de abril a las 9:30h. en Servicios Sociales de San Miguel. \n22 de abril a las 12:00h. en el Centro Social de Jacarilla. \n 
URL:https://www.mancomunidadlavega.es/event/taller-renta-valenciana-de-inclusion-redovan/
LOCATION:Alicante
CATEGORIES:Diversidad Funcional,Infancia y Familia,Jóvenes,Mayores,Mujer,Otros Colectivos,Redován
END:VEVENT
BEGIN:VEVENT
DTSTART;TZID=UTC:20210419T093000
DTEND;TZID=UTC:20210419T113000
DTSTAMP:20260422T020658
CREATED:20210416T114517Z
LAST-MODIFIED:20210416T114517Z
UID:32923-1618824600-1618831800@www.mancomunidadlavega.es
SUMMARY:Taller Educando en Valores. Algorfa
DESCRIPTION:Taller Educando en Valores.\n \n 
URL:https://www.mancomunidadlavega.es/event/taller-educando-en-valores-algorfa-2/
LOCATION:Alicante
CATEGORIES:Algorfa,Infancia y Familia,Mujer,Otros Colectivos
END:VEVENT
BEGIN:VEVENT
DTSTART;TZID=UTC:20210419T120000
DTEND;TZID=UTC:20210419T140000
DTSTAMP:20260422T020658
CREATED:20210408T110243Z
LAST-MODIFIED:20210408T113429Z
UID:32825-1618833600-1618840800@www.mancomunidadlavega.es
SUMMARY:Taller Renta Valenciana de Inclusión. Algorfa
DESCRIPTION:Taller informativo Renta Valenciana de Inclusión. \n\n¿Qué es?\n¿A qué tipo puedo acceder?\n¿Qué documentación necesito?\n\n19  de abril a las 12:00h. en el Centro Social de Algorfa.
URL:https://www.mancomunidadlavega.es/event/taller-renta-valenciana-de-inclusion-algorfa/
LOCATION:Alicante
CATEGORIES:Algorfa,Diversidad Funcional,Infancia y Familia,Jóvenes,Mayores,Mujer,Otros Colectivos
END:VEVENT
BEGIN:VEVENT
DTSTART;TZID=UTC:20210420T093000
DTEND;TZID=UTC:20210420T113000
DTSTAMP:20260422T020658
CREATED:20210416T114413Z
LAST-MODIFIED:20210416T114413Z
UID:32921-1618911000-1618918200@www.mancomunidadlavega.es
SUMMARY:Taller Educando en Valores. Jacarilla
DESCRIPTION:Taller Educando en Valores.\n \n 
URL:https://www.mancomunidadlavega.es/event/taller-educando-en-valores-jacarilla-2/
LOCATION:Alicante
CATEGORIES:Infancia y Familia,Jacarilla,Mujer,Otros Colectivos
END:VEVENT
BEGIN:VEVENT
DTSTART;TZID=UTC:20210421T093000
DTEND;TZID=UTC:20210421T113000
DTSTAMP:20260422T020658
CREATED:20210416T114321Z
LAST-MODIFIED:20210416T114321Z
UID:32919-1618997400-1619004600@www.mancomunidadlavega.es
SUMMARY:Taller Educando en Valores. San Miguel de Salinas
DESCRIPTION:Taller Educando en Valores.\n \n 
URL:https://www.mancomunidadlavega.es/event/taller-educando-en-valores-san-miguel-de-salinas-2-2/
LOCATION:Alicante
CATEGORIES:Infancia y Familia,Mujer,Otros Colectivos,San Miguel de Salinas
END:VEVENT
BEGIN:VEVENT
DTSTART;TZID=UTC:20210422T093000
DTEND;TZID=UTC:20210422T113000
DTSTAMP:20260422T020658
CREATED:20210408T112740Z
LAST-MODIFIED:20210408T112740Z
UID:32829-1619083800-1619091000@www.mancomunidadlavega.es
SUMMARY:Taller Renta Valenciana de Inclusión. San Miguel de Salinas
DESCRIPTION:Taller informativo Renta Valenciana de Inclusión. \n\n¿Qué es?\n¿A qué tipo puedo acceder?\n¿Qué documentación necesito?\n\n22  de abril a las 9:30h. en Servicios Sociales de San Miguel.
URL:https://www.mancomunidadlavega.es/event/taller-renta-valenciana-de-inclusion-san-miguel-de-salinas/
LOCATION:Alicante
CATEGORIES:Diversidad Funcional,Extranjeros,Infancia y Familia,Jóvenes,Mayores,Mujer,Otros Colectivos,San Miguel de Salinas
END:VEVENT
BEGIN:VEVENT
DTSTART;TZID=UTC:20210422T093000
DTEND;TZID=UTC:20210422T113000
DTSTAMP:20260422T020658
CREATED:20210416T114259Z
LAST-MODIFIED:20210416T114259Z
UID:32917-1619083800-1619091000@www.mancomunidadlavega.es
SUMMARY:Taller Educando en Valores. San Miguel de Salinas
DESCRIPTION:Taller Educando en Valores.\n \n 
URL:https://www.mancomunidadlavega.es/event/taller-educando-en-valores-san-miguel-de-salinas-2/
LOCATION:Alicante
CATEGORIES:Infancia y Familia,Mujer,Otros Colectivos,San Miguel de Salinas
END:VEVENT
BEGIN:VEVENT
DTSTART;TZID=UTC:20210422T120000
DTEND;TZID=UTC:20210422T140000
DTSTAMP:20260422T020658
CREATED:20210408T112353Z
LAST-MODIFIED:20210408T113259Z
UID:32827-1619092800-1619100000@www.mancomunidadlavega.es
SUMMARY:Taller Renta Valenciana de Inclusión. Jacarilla
DESCRIPTION:Taller informativo Renta Valenciana de Inclusión. \n\n¿Qué es?\n¿A qué tipo puedo acceder?\n¿Qué documentación necesito?\n\n22  de abril a las 12:00h. en el Centro Social de Jacarilla.
URL:https://www.mancomunidadlavega.es/event/taller-renta-valenciana-de-inclusion-jacarilla/
LOCATION:Alicante
CATEGORIES:Diversidad Funcional,Infancia y Familia,Jacarilla,Jóvenes,Mayores,Mujer,Otros Colectivos
END:VEVENT
BEGIN:VEVENT
DTSTART;TZID=UTC:20210426T093000
DTEND;TZID=UTC:20210426T113000
DTSTAMP:20260422T020658
CREATED:20210408T105912Z
LAST-MODIFIED:20210408T105912Z
UID:32823-1619429400-1619436600@www.mancomunidadlavega.es
SUMMARY:Taller Renta Valenciana de Inclusión. Redován
DESCRIPTION:Taller informativo Renta Valenciana de Inclusión. \n\n¿Qué es?\n¿A qué tipo puedo acceder?\n¿Qué documentación necesito?\n\n19 y 26 de abril a las 9:30h. en el Salón de Actos del Centro Social «Ricardo Ruiz Poveda» de Redován.
URL:https://www.mancomunidadlavega.es/event/taller-renta-valenciana-de-inclusion-redovan-2/
LOCATION:Alicante
CATEGORIES:Diversidad Funcional,Infancia y Familia,Jóvenes,Mayores,Mujer,Otros Colectivos,Redován
END:VEVENT
BEGIN:VEVENT
DTSTART;TZID=UTC:20210427T093000
DTEND;TZID=UTC:20210427T113000
DTSTAMP:20260422T020658
CREATED:20210416T114141Z
LAST-MODIFIED:20210416T114141Z
UID:32913-1619515800-1619523000@www.mancomunidadlavega.es
SUMMARY:Taller Educando en Valores. Jacarilla
DESCRIPTION:Taller Educando en Valores.\n \n 
URL:https://www.mancomunidadlavega.es/event/taller-educando-en-valores-jacarilla/
LOCATION:Alicante
CATEGORIES:Infancia y Familia,Jacarilla,Mujer,Otros Colectivos
END:VEVENT
BEGIN:VEVENT
DTSTART;TZID=UTC:20210428T093000
DTEND;TZID=UTC:20210428T113000
DTSTAMP:20260422T020658
CREATED:20210416T114235Z
LAST-MODIFIED:20210416T114235Z
UID:32915-1619602200-1619609400@www.mancomunidadlavega.es
SUMMARY:Taller Educando en Valores. San Miguel de Salinas
DESCRIPTION:Taller Educando en Valores.\n \n 
URL:https://www.mancomunidadlavega.es/event/taller-educando-en-valores-san-miguel-de-salinas/
LOCATION:Alicante
CATEGORIES:Infancia y Familia,Mujer,Otros Colectivos,San Miguel de Salinas
END:VEVENT
END:VCALENDAR