BEGIN:VCALENDAR
VERSION:2.0
PRODID:-//Mancomunidad la vega - ECPv6.11.2//NONSGML v1.0//EN
CALSCALE:GREGORIAN
METHOD:PUBLISH
X-WR-CALNAME:Mancomunidad la vega
X-ORIGINAL-URL:https://www.mancomunidadlavega.es
X-WR-CALDESC:Eventos para Mancomunidad la vega
REFRESH-INTERVAL;VALUE=DURATION:PT1H
X-Robots-Tag:noindex
X-PUBLISHED-TTL:PT1H
BEGIN:VTIMEZONE
TZID:UTC
BEGIN:STANDARD
TZOFFSETFROM:+0000
TZOFFSETTO:+0000
TZNAME:UTC
DTSTART:20240101T000000
END:STANDARD
END:VTIMEZONE
BEGIN:VEVENT
DTSTART;TZID=UTC:20240729T173000
DTEND;TZID=UTC:20240729T203000
DTSTAMP:20260421T052146
CREATED:20240705T065248Z
LAST-MODIFIED:20240910T071759Z
UID:59369-1722274200-1722285000@www.mancomunidadlavega.es
SUMMARY:Talleres julio jóvenes. Redován
DESCRIPTION:Talleres julio La Vega Joven.\n\n¿Preparad@ para la llegada del verano? ¿Quieres olvidarte de la televisión y el sofá durante el mes de julio? ESTE ES TU LUGAR!!\n\n\n#lavegajoven te ofrece una serie de TALLERES y ACTIVIDADES para que aproveches al máximo tu tiempo libre este verano!\n\n\n\nRedovan 1\,2\,5\,8\,9\,15\,22\,23\,29 y 30 de JULIO en Casa de Juventud de 17\,30 a 20\,30 horas.\nAlgorfa 3\,10\, 12\, 17\, 24 y 31 de JULIO en Casa de Juventud de 17\,30 a 20\,30 horas.\n\nJacarilla 4\, 11\, 18\, 19 y 25 de JULIO y 1 de AGOSTO en Centro Social de 17\,30 a 20\,30 horas.\n\n\n\n\n+INFO  658796154\n+info. La vega joven
URL:https://www.mancomunidadlavega.es/event/talleres-julio-redovan-2-2-2-2-2-2-2/
LOCATION:Redován\, Alicante\, España
CATEGORIES:Jóvenes,Redován
END:VEVENT
BEGIN:VEVENT
DTSTART;TZID=UTC:20240730T173000
DTEND;TZID=UTC:20240730T203000
DTSTAMP:20260421T052146
CREATED:20240705T065312Z
LAST-MODIFIED:20240910T071729Z
UID:59373-1722360600-1722371400@www.mancomunidadlavega.es
SUMMARY:Talleres julio jóvenes. Redován
DESCRIPTION:Talleres julio La Vega Joven.\n\n¿Preparad@ para la llegada del verano? ¿Quieres olvidarte de la televisión y el sofá durante el mes de julio? ESTE ES TU LUGAR!!\n\n\n#lavegajoven te ofrece una serie de TALLERES y ACTIVIDADES para que aproveches al máximo tu tiempo libre este verano!\n\n\n\nRedovan 1\,2\,5\,8\,9\,15\,22\,23\,29 y 30 de JULIO en Casa de Juventud de 17\,30 a 20\,30 horas.\nAlgorfa 3\,10\, 12\, 17\, 24 y 31 de JULIO en Casa de Juventud de 17\,30 a 20\,30 horas.\n\nJacarilla 4\, 11\, 18\, 19 y 25 de JULIO y 1 de AGOSTO en Centro Social de 17\,30 a 20\,30 horas.\n\n\n\n\n+INFO  658796154\n+info. La vega joven
URL:https://www.mancomunidadlavega.es/event/talleres-julio-redovan-2-2-2-2-2-2-2-2-2/
LOCATION:Redován\, Alicante\, España
CATEGORIES:Jóvenes,Redován
END:VEVENT
BEGIN:VEVENT
DTSTART;TZID=UTC:20240731T173000
DTEND;TZID=UTC:20240731T203000
DTSTAMP:20260421T052146
CREATED:20240705T070253Z
LAST-MODIFIED:20240910T071637Z
UID:59396-1722447000-1722457800@www.mancomunidadlavega.es
SUMMARY:Talleres julio jóvenes. Algorfa
DESCRIPTION:Talleres julio La Vega Joven.\n\n¿Preparad@ para la llegada del verano? ¿Quieres olvidarte de la televisión y el sofá durante el mes de julio? ESTE ES TU LUGAR!!\n\n\n#lavegajoven te ofrece una serie de TALLERES y ACTIVIDADES para que aproveches al máximo tu tiempo libre este verano!\n\n\n\nRedovan 1\,2\,5\,8\,9\,15\,22\,23\,29 y 30 de JULIO en Casa de Juventud de 17\,30 a 20\,30 horas.\nAlgorfa 3\,10\, 12\, 17\, 24 y 31 de JULIO en Casa de Juventud de 17\,30 a 20\,30 horas.\n\nJacarilla 4\, 11\, 18\, 19 y 25 de JULIO y 1 de AGOSTO en Centro Social de 17\,30 a 20\,30 horas.\n\n\n\n\n+INFO  658796154\n+info. La vega joven
URL:https://www.mancomunidadlavega.es/event/talleres-julio-jovenes-algorfa-2-2-2-2-2/
LOCATION:Algorfa
CATEGORIES:Algorfa,Jóvenes
END:VEVENT
BEGIN:VEVENT
DTSTART;TZID=UTC:20240801T173000
DTEND;TZID=UTC:20240801T203000
DTSTAMP:20260421T052146
CREATED:20240705T071245Z
LAST-MODIFIED:20240910T071612Z
UID:59409-1722533400-1722544200@www.mancomunidadlavega.es
SUMMARY:Talleres julio jóvenes. Jacarilla
DESCRIPTION:Talleres julio La Vega Joven.\n\n¿Preparad@ para la llegada del verano? ¿Quieres olvidarte de la televisión y el sofá durante el mes de julio? ESTE ES TU LUGAR!!\n\n\n#lavegajoven te ofrece una serie de TALLERES y ACTIVIDADES para que aproveches al máximo tu tiempo libre este verano!\n\n\n\nRedovan 1\,2\,5\,8\,9\,15\,22\,23\,29 y 30 de JULIO en Casa de Juventud de 17\,30 a 20\,30 horas.\nAlgorfa 3\,10\, 12\, 17\, 24 y 31 de JULIO en Casa de Juventud de 17\,30 a 20\,30 horas.\n\nJacarilla 4\, 11\, 18\, 19 y 25 de JULIO y 1 de AGOSTO en Centro Social de 17\,30 a 20\,30 horas.\n\n\n\n\n+INFO  658796154\n+info. La vega joven
URL:https://www.mancomunidadlavega.es/event/talleres-julio-jovenes-jacarilla-2-2-2-2-2/
LOCATION:Jacarilla
CATEGORIES:Jacarilla,Jóvenes
GEO:38.1142082;-0.9076136
END:VEVENT
END:VCALENDAR