BEGIN:VCALENDAR
VERSION:2.0
PRODID:-//Mancomunidad la vega - ECPv6.11.2//NONSGML v1.0//EN
CALSCALE:GREGORIAN
METHOD:PUBLISH
X-WR-CALNAME:Mancomunidad la vega
X-ORIGINAL-URL:https://www.mancomunidadlavega.es
X-WR-CALDESC:Eventos para Mancomunidad la vega
REFRESH-INTERVAL;VALUE=DURATION:PT1H
X-Robots-Tag:noindex
X-PUBLISHED-TTL:PT1H
BEGIN:VTIMEZONE
TZID:UTC
BEGIN:STANDARD
TZOFFSETFROM:+0000
TZOFFSETTO:+0000
TZNAME:UTC
DTSTART:20230101T000000
END:STANDARD
END:VTIMEZONE
BEGIN:VEVENT
DTSTART;VALUE=DATE:20230515
DTEND;VALUE=DATE:20230516
DTSTAMP:20260423T202409
CREATED:20230508T075012Z
LAST-MODIFIED:20230508T084109Z
UID:51792-1684108800-1684195199@www.mancomunidadlavega.es
SUMMARY:Mes de la familia. 15 de mayo. Día de la familia. Algorfa
DESCRIPTION:  \nDescárgate el Programa de actividades que  se están realizando en Algorfa de la Mancomunidad La Vega este mes de mayo/ Mes de la Familia. \n\nTalleres: Findes en familia:   7 de mayo/ Taller on line UNAF: 9 de mayo / IX Encuentro Familias acogedoras: El encuentro de todas las familias de los mancomunidad será el 16 de mayo en Redován./ Club de familias imperfectas:  18 de mayo /Alimenta. Prevención de la obesidad infantil: 24 de mayo / Día del Acogimiento Familiar 31 de mayo \n\n+Info. en www.mancomunidadlavega.es \n  \n\n\n  \n 
URL:https://www.mancomunidadlavega.es/event/mes-de-la-familia-15-de-mayo-dia-de-la-familia-algorfa-2/
LOCATION:Algorfa
CATEGORIES:Algorfa,Diversidad Funcional,Extranjeros,Infancia y Familia,Jóvenes,Mayores,Mujer,Otros Colectivos
END:VEVENT
BEGIN:VEVENT
DTSTART;VALUE=DATE:20230515
DTEND;VALUE=DATE:20230516
DTSTAMP:20260423T202409
CREATED:20230508T080510Z
LAST-MODIFIED:20230508T083222Z
UID:51800-1684108800-1684195199@www.mancomunidadlavega.es
SUMMARY:Mes de la familia. 15 de mayo. Día de la familia. Redován
DESCRIPTION:  \nDescárgate el Programa de actividades que  se están realizando en Redován este mes de mayo/ Mes de la Familia. \n\nTalleres: Findes en familia:   20 de mayo/ Taller on line UNAF: 9 de mayo / IX Encuentro Familias acogedoras: El encuentro de todas las familias de los mancomunidad será el 16 de mayo en Redován./ Club de familias imperfectas:  2 de mayo /Alimenta. Prevención de la obesidad infantil: 25 de mayo / Día del Acogimiento Familiar 31 de mayo \n\n+Info. en www.mancomunidadlavega.es \n  \n\n\n  \n 
URL:https://www.mancomunidadlavega.es/event/mes-de-la-familia-15-de-mayo-dia-de-la-familia-redovan/
LOCATION:Sede Mancomunidad\, Plaza del Ayuntamiento 4\, Redován\, Alicante\, 03370\, España
CATEGORIES:Diversidad Funcional,Extranjeros,Infancia y Familia,Jóvenes,Mayores,Mujer,Otros Colectivos,Redován
GEO:38.1137441;-0.9052296
X-APPLE-STRUCTURED-LOCATION;VALUE=URI;X-ADDRESS=Sede Mancomunidad Plaza del Ayuntamiento 4 Redován Alicante 03370 España;X-APPLE-RADIUS=500;X-TITLE=Plaza del Ayuntamiento 4:geo:-0.9052296,38.1137441
END:VEVENT
BEGIN:VEVENT
DTSTART;VALUE=DATE:20230515
DTEND;VALUE=DATE:20230516
DTSTAMP:20260423T202409
CREATED:20230508T081627Z
LAST-MODIFIED:20230508T082501Z
UID:51806-1684108800-1684195199@www.mancomunidadlavega.es
SUMMARY:Mes de la familia. 15 de mayo. Día de la familia. San Miguel
DESCRIPTION:  \nDescárgate el Programa de actividades que  se están realizando en San Miguel este mes de mayo/ Mes de la Familia. \n\nTalleres: Findes en familia:  San Miguel – 6 de mayo/ Taller on line UNAF: 9 de mayo / IX Encuentro Familias acogedoras: El encuentro de todas las familias de los mancomunidad será el 16 de mayo en Redován./ Club de familias imperfectas: 18 de mayo /Alimenta. Prevención de la obesidad infantil: 24 de mayo / Día del Acogimiento Familiar 31 de mayo \n\n+Info. en www.mancomunidadlavega.es \n  \n\n\n  \n 
URL:https://www.mancomunidadlavega.es/event/mes-de-la-familia-15-de-mayo-dia-de-la-familia-san-miguel/
LOCATION:San Miguel de Salinas\, San Miguel de Salinas\, Alicante\, 03370\, España
CATEGORIES:Diversidad Funcional,Extranjeros,Infancia y Familia,Jóvenes,Mayores,Mujer,Otros Colectivos,San Miguel de Salinas
GEO:38.3671062;-0.4796285
END:VEVENT
BEGIN:VEVENT
DTSTART;VALUE=DATE:20230515
DTEND;VALUE=DATE:20230516
DTSTAMP:20260423T202409
CREATED:20230508T082210Z
LAST-MODIFIED:20230508T083850Z
UID:51812-1684108800-1684195199@www.mancomunidadlavega.es
SUMMARY:Mes de la familia. 15 de mayo. Día de la familia. Jacarilla
DESCRIPTION:  \nDescárgate el Programa de actividades que  se están realizando en Jacarilla este mes de mayo/ Mes de la Familia. \n\nTalleres: Findes en familia: 21 de mayo/ Taller on line UNAF: 9 de mayo / IX Encuentro Familias acogedoras: El encuentro de todas las familias de los mancomunidad será el 16 de mayo en Redován./ Club de familias imperfectas: 2 de mayo /Alimenta. Prevención de la obesidad infantil: 23 de mayo / Día del Acogimiento Familiar 31 de mayo \n\n+Info. en www.mancomunidadlavega.es \n  \n\n\n  \n 
URL:https://www.mancomunidadlavega.es/event/mes-de-la-familia-15-de-mayo-dia-de-la-familia-jacarilla/
LOCATION:Jacarilla
CATEGORIES:Diversidad Funcional,Extranjeros,Infancia y Familia,Jacarilla,Jóvenes,Mayores,Mujer,Otros Colectivos
GEO:38.1142082;-0.9076136
END:VEVENT
BEGIN:VEVENT
DTSTART;TZID=UTC:20230515T183000
DTEND;TZID=UTC:20230515T200000
DTSTAMP:20260423T202409
CREATED:20230503T072410Z
LAST-MODIFIED:20230503T072410Z
UID:51619-1684175400-1684180800@www.mancomunidadlavega.es
SUMMARY:Espacio Joven. Redován
DESCRIPTION:  \n \n  \nEspacio reservado para jóvenes de entre 12 y 30 años en la Biblioteca Municipal. \nEl fin de este proyecto es crear un lugar donde los y las jóvenes de la población puedan disfrutar de su tiempo libre realizando actividades y relacionándose con otras personas. \nEn este espacio contaremos con todo tipo de juegos de mesa y actividades dirigidas por nuestra dinamizadora juvenil para que la tarde sea lo más divertida posible (bingo musical con regalos…) \nTambién escucharemos sus necesidades y las propuestas que tengan para mejorar su Espacio Joven. \nFECHAS mayo: 5\, 12\, 13\, 15\, 19\, 26\, 27\, 29 \nLunes de 18:30 a 20:00h \nViernes de 16:00h a 20:00h \nSábados de 16:00h a 20:00h \nMás info:  Espacio Joven \n  \n 
URL:https://www.mancomunidadlavega.es/event/espacio-joven-redovan-13/
LOCATION:Redován\, Alicante\, España
CATEGORIES:Jóvenes,Redován
END:VEVENT
BEGIN:VEVENT
DTSTART;TZID=UTC:20230516T173000
DTEND;TZID=UTC:20230516T200000
DTSTAMP:20260423T202409
CREATED:20230503T064711Z
LAST-MODIFIED:20230503T065113Z
UID:51601-1684258200-1684267200@www.mancomunidadlavega.es
SUMMARY:Espacio Joven. Jacarilla
DESCRIPTION:  \n \nEspacio reservado para jóvenes de entre 12 y 30 años en la Casa de la Cultura \nEl fin de este proyecto es crear un lugar donde los y las jóvenes de la población puedan disfrutar de su tiempo libre realizando actividades y relacionándose con otras personas. \nEn este espacio contaremos con todo tipo de juegos de mesa y actividades dirigidas por nuestra dinamizadora juvenil para que la tarde sea lo más divertida posible (bingo musical con regalos…) \nTambién escucharemos sus necesidades y las propuestas que tengan para mejorar su Espacio Joven. \nFECHAS: \nMartes: 2\, 9\, 16\, 23 y 30 de mayo de 16:00 a 20:00h. Martes 16 y 30 de 17.30 a 20h. \nMás info:  Espacio Joven \n  \n  \n 
URL:https://www.mancomunidadlavega.es/event/espacio-joven-jacarilla-4-2-2/
LOCATION:Jacarilla
CATEGORIES:Jacarilla,Jóvenes
GEO:38.1142082;-0.9076136
END:VEVENT
BEGIN:VEVENT
DTSTART;TZID=UTC:20230517T173000
DTEND;TZID=UTC:20230517T200000
DTSTAMP:20260423T202409
CREATED:20230503T063419Z
LAST-MODIFIED:20230503T063419Z
UID:51590-1684344600-1684353600@www.mancomunidadlavega.es
SUMMARY:Espacio Joven. Algorfa. Mayo
DESCRIPTION:  \n \nEspacio reservado para jóvenes de entre 12 y 30 años en la Casa de la Juventud de Algorfa. \nEl fin de este proyecto es crear un lugar donde los y las jóvenes de la población puedan disfrutar de su tiempo libre realizando actividades y relacionándose con otras personas. \nEn este espacio contaremos con todo tipo de juegos de mesa y actividades dirigidas por nuestra dinamizadora juvenil para que la tarde sea lo más divertida posible (bingo musical con regalos…) \nTambién escucharemos sus necesidades y las propuestas que tengan para mejorar su Espacio Joven. \nFECHAS: \nMiércoles de mayo: 3\, 10\, 17\, 24 y 31 Miércoles de 16:00 a 20:00h y miércoles 17 y 31  de 17:30 a 20h \nMás info:  Espacio Joven \n  \n 
URL:https://www.mancomunidadlavega.es/event/espacio-joven-algorfa-mayo-3/
LOCATION:Algorfa
CATEGORIES:Algorfa,Jóvenes
END:VEVENT
BEGIN:VEVENT
DTSTART;TZID=UTC:20230519T160000
DTEND;TZID=UTC:20230519T200000
DTSTAMP:20260423T202409
CREATED:20230503T070028Z
LAST-MODIFIED:20230503T070028Z
UID:51609-1684512000-1684526400@www.mancomunidadlavega.es
SUMMARY:Espacio Joven. Redován
DESCRIPTION:  \n \n  \nEspacio reservado para jóvenes de entre 12 y 30 años en la Biblioteca Municipal. \nEl fin de este proyecto es crear un lugar donde los y las jóvenes de la población puedan disfrutar de su tiempo libre realizando actividades y relacionándose con otras personas. \nEn este espacio contaremos con todo tipo de juegos de mesa y actividades dirigidas por nuestra dinamizadora juvenil para que la tarde sea lo más divertida posible (bingo musical con regalos…) \nTambién escucharemos sus necesidades y las propuestas que tengan para mejorar su Espacio Joven. \nFECHAS mayo: 5\, 12\, 13\, 15\, 19\, 26\, 27\, 29 \nLunes de 18:30 a 20:00h \nViernes de 16:00h a 20:00h \nSábados de 16:00h a 20:00h \nMás info:  Espacio Joven \n  \n 
URL:https://www.mancomunidadlavega.es/event/espacio-joven-redovan-12-2-2/
LOCATION:Redován\, Alicante\, España
CATEGORIES:Jóvenes,Redován
END:VEVENT
BEGIN:VEVENT
DTSTART;TZID=UTC:20230520T090000
DTEND;TZID=UTC:20230520T180000
DTSTAMP:20260423T202409
CREATED:20230125T095353Z
LAST-MODIFIED:20230126T044859Z
UID:46700-1684573200-1684605600@www.mancomunidadlavega.es
SUMMARY:Curso Monitor/a de Actividades de Tiempo Libre Educativo Infantil y Juvenil
DESCRIPTION:  \nEl curso de Monitor/a de Actividades de Tiempo Libre Educativo Infantil y Juvenil está dirigido a todas aquellas personas que quieran adquirir las competencias necesarias para trabajar en actividades de animación con niños/as y jóvenes: campamentos\, ludotecas\, escuelas de verano… \nCurso oficial del IVAJ (Instituto Valenciano de la Juventud de la Generalitat Valenciana)\, organizado por la Escuela de Animación Abast Animació con el apoyo de la Mancomunidad la Vega y su servicio de Juventud La Vega Joven. \n\nLugar: Centro Social LOS PASOS de Redován\, sito en Calle Los Pasos\,1.\nComienzo de curso: 25 de febrero. (Días lectivos: 25 febrero\, 4-11-25 marzo\, 1-15-22 abril\, 6-13-20 mayo\, 3-10-17 junio). De 9 a 14h y de 15 a 18h. 310h.\n\nMás info: https://bit.ly/2WdqrHN \n 
URL:https://www.mancomunidadlavega.es/event/curso-monitor-a-de-actividades-de-tiempo-libre-educativo-infantil-y-juvenil-9/
LOCATION:Redován\, Alicante\, España
CATEGORIES:Algorfa,Jacarilla,Jóvenes,Mujer,Otros Colectivos,Redován,San Miguel de Salinas
END:VEVENT
END:VCALENDAR