BEGIN:VCALENDAR
VERSION:2.0
PRODID:-//Mancomunidad la vega - ECPv6.11.2//NONSGML v1.0//EN
CALSCALE:GREGORIAN
METHOD:PUBLISH
X-WR-CALNAME:Mancomunidad la vega
X-ORIGINAL-URL:https://www.mancomunidadlavega.es
X-WR-CALDESC:Eventos para Mancomunidad la vega
REFRESH-INTERVAL;VALUE=DURATION:PT1H
X-Robots-Tag:noindex
X-PUBLISHED-TTL:PT1H
BEGIN:VTIMEZONE
TZID:UTC
BEGIN:STANDARD
TZOFFSETFROM:+0000
TZOFFSETTO:+0000
TZNAME:UTC
DTSTART:20230101T000000
END:STANDARD
END:VTIMEZONE
BEGIN:VEVENT
DTSTART;VALUE=DATE:20230501
DTEND;VALUE=DATE:20230502
DTSTAMP:20260423T203849
CREATED:20230405T121127Z
LAST-MODIFIED:20230426T112356Z
UID:50545-1682899200-1682985599@www.mancomunidadlavega.es
SUMMARY:Mes de la familia. 15 de mayo. Día de la familia
DESCRIPTION:Mes de la familia en la mancomunidad. Día 15 de mayo. Día de la Familia                                          \nDescárgate el díptico de actividades que  se van a realizar en la Mancomunidad La Vega este mes de mayo/ Mes de la Familia. En él detallamos actividades relacionadas con la familia que se ofertan en los cuatro municipios que conforman la mancomunidad. \nDíptico Mes de la Familia \n\nTalleres: \nFindes en familia: San Miguel de Salinas – 6 de mayo / Algorfa – 7 de mayo / Redován – 20 de mayo / Jacarilla 21 de mayo \nTaller on line UNAF: 9 de mayo \nIX Encuentro Familias acogedoras: Redován 16 de mayo \n\nClub de familias imperfectas: Redován y Jacarilla – 2 de mayo / Algorfa y San Miguel – 18 de mayo \nAlimenta. Prevención de la obesidad infantil: Jacarilla 23 de mayo / Algorfa y San Miguel: 24 de mayo / Redován: 25 de mayo \nEspacios de familia: San Miguel: 30 de mayo \n+Info. en www.mancomunidadlavega.es \n  \n\n\n  \n 
URL:https://www.mancomunidadlavega.es/event/mes-de-la-familia-15-de-mayo-dia-de-la-familia/
LOCATION:Sede Mancomunidad\, Plaza del Ayuntamiento 4\, Redován\, Alicante\, 03370\, España
CATEGORIES:Algorfa,Diversidad Funcional,Extranjeros,Infancia y Familia,Jacarilla,Jóvenes,Mayores,Mujer,Otros Colectivos,Redován,San Miguel de Salinas
GEO:38.1137441;-0.9052296
X-APPLE-STRUCTURED-LOCATION;VALUE=URI;X-ADDRESS=Sede Mancomunidad Plaza del Ayuntamiento 4 Redován Alicante 03370 España;X-APPLE-RADIUS=500;X-TITLE=Plaza del Ayuntamiento 4:geo:-0.9052296,38.1137441
END:VEVENT
BEGIN:VEVENT
DTSTART;TZID=UTC:20230502T160000
DTEND;TZID=UTC:20230502T200000
DTSTAMP:20260423T203849
CREATED:20230503T064039Z
LAST-MODIFIED:20230503T072811Z
UID:51596-1683043200-1683057600@www.mancomunidadlavega.es
SUMMARY:Espacio Joven. Jacarilla
DESCRIPTION:  \n \nEspacio reservado para jóvenes de entre 12 y 30 años en la Casa de la Cultura \nEl fin de este proyecto es crear un lugar donde los y las jóvenes de la población puedan disfrutar de su tiempo libre realizando actividades y relacionándose con otras personas. \nEn este espacio contaremos con todo tipo de juegos de mesa y actividades dirigidas por nuestra dinamizadora juvenil para que la tarde sea lo más divertida posible (bingo musical con regalos…) \nTambién escucharemos sus necesidades y las propuestas que tengan para mejorar su Espacio Joven. \nFECHAS: \nMartes: 2\, 9\, 16\, 23 y 30 de mayo de 16:00 a 20:00h. Martes 16 y 30 de 17.30 a 20h. \nMás info:  Espacio Joven \n  \n  \n 
URL:https://www.mancomunidadlavega.es/event/espacio-joven-jacarilla-4/
LOCATION:Jacarilla
CATEGORIES:Jacarilla,Jóvenes
GEO:38.1142082;-0.9076136
END:VEVENT
BEGIN:VEVENT
DTSTART;TZID=UTC:20230503T160000
DTEND;TZID=UTC:20230503T200000
DTSTAMP:20260423T203849
CREATED:20230503T063202Z
LAST-MODIFIED:20230503T063202Z
UID:51586-1683129600-1683144000@www.mancomunidadlavega.es
SUMMARY:Espacio Joven. Algorfa. Mayo
DESCRIPTION:  \n \nEspacio reservado para jóvenes de entre 12 y 30 años en la Casa de la Juventud de Algorfa. \nEl fin de este proyecto es crear un lugar donde los y las jóvenes de la población puedan disfrutar de su tiempo libre realizando actividades y relacionándose con otras personas. \nEn este espacio contaremos con todo tipo de juegos de mesa y actividades dirigidas por nuestra dinamizadora juvenil para que la tarde sea lo más divertida posible (bingo musical con regalos…) \nTambién escucharemos sus necesidades y las propuestas que tengan para mejorar su Espacio Joven. \nFECHAS: \nMiércoles de mayo: 3\, 10\, 17\, 24 y 31 Miércoles de 16:00 a 20:00h y miércoles 17 y 31  de 17:30 a 20h \nMás info:  Espacio Joven \n  \n 
URL:https://www.mancomunidadlavega.es/event/espacio-joven-algorfa-mayo/
LOCATION:Algorfa
CATEGORIES:Algorfa,Jóvenes
END:VEVENT
BEGIN:VEVENT
DTSTART;TZID=UTC:20230505T160000
DTEND;TZID=UTC:20230505T200000
DTSTAMP:20260423T203849
CREATED:20230503T065907Z
LAST-MODIFIED:20230503T071012Z
UID:51605-1683302400-1683316800@www.mancomunidadlavega.es
SUMMARY:Espacio Joven. Redován
DESCRIPTION:  \n \n  \nEspacio reservado para jóvenes de entre 12 y 30 años en la Biblioteca Municipal. \nEl fin de este proyecto es crear un lugar donde los y las jóvenes de la población puedan disfrutar de su tiempo libre realizando actividades y relacionándose con otras personas. \nEn este espacio contaremos con todo tipo de juegos de mesa y actividades dirigidas por nuestra dinamizadora juvenil para que la tarde sea lo más divertida posible (bingo musical con regalos…) \nTambién escucharemos sus necesidades y las propuestas que tengan para mejorar su Espacio Joven. \nFECHAS mayo: 5\, 12\, 13\, 15\, 19\, 26\, 27\, 29 \nLunes de 18:30 a 20:00h \nViernes de 16:00h a 20:00h \nSábados de 16:00h a 20:00h \nMás info:  Espacio Joven \n  \n 
URL:https://www.mancomunidadlavega.es/event/espacio-joven-redovan-12/
LOCATION:Redován\, Alicante\, España
CATEGORIES:Jóvenes,Redován
END:VEVENT
BEGIN:VEVENT
DTSTART;TZID=UTC:20230506T090000
DTEND;TZID=UTC:20230506T180000
DTSTAMP:20260423T203849
CREATED:20230125T095207Z
LAST-MODIFIED:20230126T044748Z
UID:46703-1683363600-1683396000@www.mancomunidadlavega.es
SUMMARY:Curso Monitor/a de Actividades de Tiempo Libre Educativo Infantil y Juvenil
DESCRIPTION:  \nEl curso de Monitor/a de Actividades de Tiempo Libre Educativo Infantil y Juvenil está dirigido a todas aquellas personas que quieran adquirir las competencias necesarias para trabajar en actividades de animación con niños/as y jóvenes: campamentos\, ludotecas\, escuelas de verano… \nCurso oficial del IVAJ (Instituto Valenciano de la Juventud de la Generalitat Valenciana)\, organizado por la Escuela de Animación Abast Animació con el apoyo de la Mancomunidad la Vega y su servicio de Juventud La Vega Joven. \n\nLugar: Centro Municipal LOS PASOS de Redován\, sito en Calle Los Pasos\, 1.\nComienzo de curso: 25 de febrero. (Días lectivos: 25 febrero\, 4-11-25 marzo\, 1-15-22 abril\, 6-13-20 mayo\, 3-10-17 junio). De 9 a 14h y de 15 a 18h. 310h.\n\nMás info: https://bit.ly/2WdqrHN \n 
URL:https://www.mancomunidadlavega.es/event/curso-monitor-a-de-actividades-de-tiempo-libre-educativo-infantil-y-juvenil-8/
LOCATION:Redován\, Alicante\, España
CATEGORIES:Algorfa,Jacarilla,Jóvenes,Mujer,Otros Colectivos,Redován,San Miguel de Salinas
END:VEVENT
END:VCALENDAR