BEGIN:VCALENDAR
VERSION:2.0
PRODID:-//Mancomunidad la vega - ECPv6.11.2//NONSGML v1.0//EN
CALSCALE:GREGORIAN
METHOD:PUBLISH
X-WR-CALNAME:Mancomunidad la vega
X-ORIGINAL-URL:https://www.mancomunidadlavega.es
X-WR-CALDESC:Eventos para Mancomunidad la vega
REFRESH-INTERVAL;VALUE=DURATION:PT1H
X-Robots-Tag:noindex
X-PUBLISHED-TTL:PT1H
BEGIN:VTIMEZONE
TZID:UTC
BEGIN:STANDARD
TZOFFSETFROM:+0000
TZOFFSETTO:+0000
TZNAME:UTC
DTSTART:20230101T000000
END:STANDARD
END:VTIMEZONE
BEGIN:VEVENT
DTSTART;TZID=UTC:20230411T160000
DTEND;TZID=UTC:20230411T200000
DTSTAMP:20260423T215951
CREATED:20230329T130255Z
LAST-MODIFIED:20230329T130255Z
UID:49705-1681228800-1681243200@www.mancomunidadlavega.es
SUMMARY:Espacio Joven. Jacarilla
DESCRIPTION:  \n \nEspacio reservado para jóvenes de entre 12 y 30 años en la Casa de la Cultura \nEl fin de este proyecto es crear un lugar donde los y las jóvenes de la población puedan disfrutar de su tiempo libre realizando actividades y relacionándose con otras personas. \nEn este espacio contaremos con todo tipo de juegos de mesa y actividades dirigidas por nuestra dinamizadora juvenil para que la tarde sea lo más divertida posible (bingo musical con regalos…) \nTambién escucharemos sus necesidades y las propuestas que tengan para mejorar su Espacio Joven. \nFECHAS: \nMartes: 4\, 11\, 18 y 25 de abril de 16:00H a 20:00H \nMás info:  Espacio Joven \n  \n  \n 
URL:https://www.mancomunidadlavega.es/event/espacio-joven-jacarilla-2/
LOCATION:Jacarilla
CATEGORIES:Jacarilla,Jóvenes
GEO:38.1142082;-0.9076136
END:VEVENT
BEGIN:VEVENT
DTSTART;TZID=UTC:20230412T160000
DTEND;TZID=UTC:20230412T200000
DTSTAMP:20260423T215951
CREATED:20230329T122724Z
LAST-MODIFIED:20230329T122724Z
UID:49673-1681315200-1681329600@www.mancomunidadlavega.es
SUMMARY:Espacio Joven. Algorfa
DESCRIPTION:  \n \n  \nEspacio reservado para jóvenes de entre 12 y 30 años en la Casa de la Juventud de Algorfa. \nEl fin de este proyecto es crear un lugar donde los y las jóvenes de la población puedan disfrutar de su tiempo libre realizando actividades y relacionándose con otras personas. \nEn este espacio contaremos con todo tipo de juegos de mesa y actividades dirigidas por nuestra dinamizadora juvenil para que la tarde sea lo más divertida posible (bingo musical con regalos…) \nTambién escucharemos sus necesidades y las propuestas que tengan para mejorar su Espacio Joven. \nFECHAS: \nMiércoles de Abril:  5 (Inauguración)\, 12\, 19 y 26 de 16:00H a 20:00H \nMás info:  Espacio Joven \n  \n 
URL:https://www.mancomunidadlavega.es/event/espacio-joven-algorfa-3/
LOCATION:Algorfa
CATEGORIES:Algorfa,Jóvenes
END:VEVENT
BEGIN:VEVENT
DTSTART;TZID=UTC:20230414T083000
DTEND;TZID=UTC:20230414T193000
DTSTAMP:20260423T215951
CREATED:20230331T081730Z
LAST-MODIFIED:20230404T111243Z
UID:49998-1681461000-1681500600@www.mancomunidadlavega.es
SUMMARY:Excursión Oceanogràfic. Redován
DESCRIPTION:  \n\n\n\n\n\n\n\n\n\n\n\n\n\n\n\nEl día 14 de abril el Servicio de Juventud de La Vega Joven nos lleva de excursión al Oceanogrâfic de Valencia.\nTienes toda la información aquí: Excursiones la Vega Joven.\nLas inscripciones son hasta el 12 de abril.\nSi tienes alguna duda o quieres mas información puedes llamar al 658 79 61 54 (Fátima o Elena)\n\n\n\n\n\n\n\nEsta excursión es la primera de un grupo de actividades de #Corresponsables primavera-verano. Si resides en Algorfa\, Redovan o SanMigueldeSalinas\, estate  atento/a para ir apuntándote conforme se abra el plazo de cada actividad.\n\n\nPuedes consultar aquí el programa de cada municipio: Algorfa \, Redován\, San Miguel de Salinas.\n\n\nEste programa lo ha preparado lavegajoven de la Mancomunidad la Vega con los fondos del programa Corresponsables de la GVA Igualtat i Polítiques Inclusives.\n\n\n\n\n\n\n\n 
URL:https://www.mancomunidadlavega.es/event/excursion-oceanografic-redovan-2-2/
LOCATION:Redován\, Alicante\, España
CATEGORIES:Infancia y Familia,Jóvenes,Redován
END:VEVENT
BEGIN:VEVENT
DTSTART;TZID=UTC:20230414T083000
DTEND;TZID=UTC:20230414T193000
DTSTAMP:20260423T215951
CREATED:20230404T091845Z
LAST-MODIFIED:20230404T110957Z
UID:50418-1681461000-1681500600@www.mancomunidadlavega.es
SUMMARY:Excursión Oceanogràfic. Algorfa
DESCRIPTION:  \n\n\n\n\n\n\n\n\n\n\n\n\n\n\n\nEl día 14 de abril el Servicio de Juventud de La Vega Joven nos lleva de excursión al Oceanogrâfic de Valencia.\nTienes toda la información aquí: Excursiones la Vega Joven.\nLas inscripciones son hasta el 12 de abril.\nSi tienes alguna duda o quieres mas información puedes llamar al 658 79 61 54 (Fátima o Elena)\n\n\n\n\n\n\n\nEsta excursión es la primera de un grupo de actividades de #Corresponsables primavera-verano. Si resides en #Algorfa\, #Redovan o #SanMigueldeSalinas\, estate  atento/a para ir apuntándote conforme se abra el plazo de cada actividad.\n\n\nPuedes consultar aquí el programa de cada municipio: Algorfa \, Redován\, San Miguel de Salinas.\n\n\nEste programa lo ha preparado #lavegajoven de la Mancomunidad la Vega con los fondos del programa Corresponsables de la GVA Igualtat i Polítiques Inclusives.\n\n\n\n\n\n\n\n\n\n\n\n\n\n\n  \n 
URL:https://www.mancomunidadlavega.es/event/excursion-oceanografic-algorfa/
LOCATION:Algorfa
CATEGORIES:Algorfa,Infancia y Familia,Jóvenes
END:VEVENT
BEGIN:VEVENT
DTSTART;TZID=UTC:20230415T090000
DTEND;TZID=UTC:20230415T180000
DTSTAMP:20260423T215951
CREATED:20230125T094254Z
LAST-MODIFIED:20230126T044645Z
UID:46696-1681549200-1681581600@www.mancomunidadlavega.es
SUMMARY:Curso Monitor/a de Actividades de Tiempo Libre Educativo Infantil y Juvenil
DESCRIPTION:  \nEl curso de Monitor/a de Actividades de Tiempo Libre Educativo Infantil y Juvenil está dirigido a todas aquellas personas que quieran adquirir las competencias necesarias para trabajar en actividades de animación con niños/as y jóvenes: campamentos\, ludotecas\, escuelas de verano… \nCurso oficial del IVAJ (Instituto Valenciano de la Juventud de la Generalitat Valenciana)\, organizado por la Escuela de Animación Abast Animació con el apoyo de la Mancomunidad la Vega y su servicio de Juventud La Vega Joven. \n\nLugar: Centro Municipal LOS PASOS de Redován\, sito en Calle Los Pasos\,1.\nComienzo de curso: 25 de febrero. (Días lectivos: 25 febrero\, 4-11-25 marzo\, 1-15-22 abril\, 6-13-20 mayo\, 3-10-17 junio). De 9 a 14h y de 15 a 18h. 310h.\n\nMás info: https://bit.ly/2WdqrHN \n 
URL:https://www.mancomunidadlavega.es/event/curso-monitor-a-de-actividades-de-tiempo-libre-educativo-infantil-y-juvenil-5/
LOCATION:Redován\, Alicante\, España
CATEGORIES:Algorfa,Jacarilla,Jóvenes,Mujer,Otros Colectivos,Redován,San Miguel de Salinas
END:VEVENT
BEGIN:VEVENT
DTSTART;TZID=UTC:20230415T160000
DTEND;TZID=UTC:20230415T200000
DTSTAMP:20260423T215951
CREATED:20230329T123940Z
LAST-MODIFIED:20230330T062542Z
UID:49690-1681574400-1681588800@www.mancomunidadlavega.es
SUMMARY:Espacio Joven. Redován
DESCRIPTION:  \nEspacio reservado para jóvenes de entre 12 y 30 años en la Biblioteca Municipal de Redován. \nEl fin de este proyecto es crear un lugar donde los y las jóvenes de la población puedan disfrutar de su tiempo libre realizando actividades y relacionándose con otras personas. \nEn este espacio contaremos con todo tipo de juegos de mesa y actividades dirigidas por nuestra dinamizadora juvenil para que la tarde sea lo más divertida posible (bingo musical con regalos…) \nTambién escucharemos sus necesidades y las propuestas que tengan para mejorar su Espacio Joven. \nFECHAS Abril: \nLunes 3  de 18:30H a 20:00h / Sábado 15  de 16:00h a 20:00h / Viernes 21  y sábado 22 de 16:00h a 20:00h / Lunes 24 de 18:30 a 20h  y viernes 28 de 16h a 20h \nMás info:  Espacio Joven \n  \n 
URL:https://www.mancomunidadlavega.es/event/espacio-joven-redovan-9/
LOCATION:Redován\, Alicante\, España
CATEGORIES:Jóvenes,Redován
END:VEVENT
END:VCALENDAR