BEGIN:VCALENDAR
VERSION:2.0
PRODID:-//Mancomunidad la vega - ECPv6.11.2//NONSGML v1.0//EN
CALSCALE:GREGORIAN
METHOD:PUBLISH
X-WR-CALNAME:Mancomunidad la vega
X-ORIGINAL-URL:https://www.mancomunidadlavega.es
X-WR-CALDESC:Eventos para Mancomunidad la vega
REFRESH-INTERVAL;VALUE=DURATION:PT1H
X-Robots-Tag:noindex
X-PUBLISHED-TTL:PT1H
BEGIN:VTIMEZONE
TZID:UTC
BEGIN:STANDARD
TZOFFSETFROM:+0000
TZOFFSETTO:+0000
TZNAME:UTC
DTSTART:20230101T000000
END:STANDARD
END:VTIMEZONE
BEGIN:VEVENT
DTSTART;TZID=UTC:20230320T170000
DTEND;TZID=UTC:20230320T180000
DTSTAMP:20260424T140238
CREATED:20230220T140323Z
LAST-MODIFIED:20230303T092140Z
UID:47651-1679331600-1679335200@www.mancomunidadlavega.es
SUMMARY:Taller Ciclo menstrual y primera menstruación. Jacarilla
DESCRIPTION:Taller Ciclo menstrual y primera menstruación. Taller para niñas\, adolescentes\, madres y padres. \nEste taller te ayudará a conocer mejor tu menstruación\, tu fertilidad y los cambios que provoca en tu cuerpo. \nJacarilla: 20 de marzo a las 17h en la Casa de la Cultura. \nOtros municipios \nRedován: 20 de marzo a las 19.30h en el Centro de la 3ª edad. \nAlgorfa: 27 de marzo a las 17h en el Centro Cultural San Vicente Ferrer. \nSan Miguel: 27 de marzo a las 19.30h en el Centro Social.
URL:https://www.mancomunidadlavega.es/event/taller-ciclo-menstrual-y-primera-menstruacion-jacarilla/
LOCATION:Casa de Cultura. Jacarilla\, Jacarilla\, Alicante\, España
CATEGORIES:Infancia y Familia,Jacarilla,Jóvenes,Mujer
GEO:37.9784386;-0.7889244
END:VEVENT
BEGIN:VEVENT
DTSTART;TZID=UTC:20230320T193000
DTEND;TZID=UTC:20230320T203000
DTSTAMP:20260424T140238
CREATED:20230220T140553Z
LAST-MODIFIED:20230303T092006Z
UID:47656-1679340600-1679344200@www.mancomunidadlavega.es
SUMMARY:Taller Ciclo menstrual y primera menstruación. Redován
DESCRIPTION:  \nTaller Ciclo menstrual y primera menstruación. Taller para niñas\, adolescentes\, madres y padres. \nEste taller te ayudará a conocer mejor tu menstruación\, tu fertilidad y los cambios que provoca en tu cuerpo. \nRedován: 20 de marzo a las 19.30h en el Centro de la 3ª edad. \nOtros municipios: \nJacarilla: 20 de marzo a las 17h en la Casa de la Cultura. \nAlgorfa: 27 de marzo a las 17h en el Centro Cultural San Vicente Ferrer. \nSan Miguel: 27 de marzo a las 19.30h en el Centro Social.
URL:https://www.mancomunidadlavega.es/event/taller-ciclo-menstrual-y-primera-menstruacion-redovan/
LOCATION:Redován\, Alicante\, España
CATEGORIES:Infancia y Familia,Jóvenes,Mujer,Redován
END:VEVENT
BEGIN:VEVENT
DTSTART;VALUE=DATE:20230324
DTEND;VALUE=DATE:20230327
DTSTAMP:20260424T140238
CREATED:20221205T114101Z
LAST-MODIFIED:20230302T132309Z
UID:44084-1679616000-1679875199@www.mancomunidadlavega.es
SUMMARY:Senda del poeta
DESCRIPTION:  \nYa puedes inscribirte a la 27ª edición de la Senda del Poeta. En 2023 vuelve a su forma tradicional los días 24\, 25 y 26 de marzo.\nLos 68 kilómetros de senderismo cultural\, repartidos en tres etapas\, recorren los lugares más relacionados con la vida y obra de Miguel Hernández. \nConsulta más información en www.ivaj.gva.es \n 
URL:https://www.mancomunidadlavega.es/event/senda-del-poeta/
LOCATION:Alicante
CATEGORIES:Algorfa,Extranjeros,Infancia y Familia,Jacarilla,Jóvenes,Mujer,Otros Colectivos,Redován,San Miguel de Salinas
END:VEVENT
BEGIN:VEVENT
DTSTART;TZID=UTC:20230325T090000
DTEND;TZID=UTC:20230325T180000
DTSTAMP:20260424T140238
CREATED:20230125T092713Z
LAST-MODIFIED:20230126T044506Z
UID:46683-1679734800-1679767200@www.mancomunidadlavega.es
SUMMARY:Curso Monitor/a de Actividades de Tiempo Libre Educativo Infantil y Juvenil
DESCRIPTION:  \nEl curso de Monitor/a de Actividades de Tiempo Libre Educativo Infantil y Juvenil está dirigido a todas aquellas personas que quieran adquirir las competencias necesarias para trabajar en actividades de animación con niños/as y jóvenes: campamentos\, ludotecas\, escuelas de verano… \nCurso oficial del IVAJ (Instituto Valenciano de la Juventud de la Generalitat Valenciana)\, organizado por la Escuela de Animación Abast Animació con el apoyo de la Mancomunidad la Vega y su servicio de Juventud La Vega Joven. \n\nLugar: Centro Municipal LOS PASOS de Redován\, sito en Calle Los Pasos\,1.\nComienzo de curso: 25 de febrero. (Días lectivos: 25 febrero\, 4-11-25 marzo\, 1-15-22 abril\, 6-13-20 mayo\, 3-10-17 junio). De 9 a 14h y de 15 a 18h. 310h.\n\nMás info: https://bit.ly/2WdqrHN \n 
URL:https://www.mancomunidadlavega.es/event/curso-monitor-a-de-actividades-de-tiempo-libre-educativo-infantil-y-juvenil-3-2/
LOCATION:Redován\, Alicante\, España
CATEGORIES:Algorfa,Jacarilla,Jóvenes,Mujer,Otros Colectivos,Redován,San Miguel de Salinas
END:VEVENT
BEGIN:VEVENT
DTSTART;TZID=UTC:20230325T160000
DTEND;TZID=UTC:20230325T200000
DTSTAMP:20260424T140238
CREATED:20230313T040913Z
LAST-MODIFIED:20230313T040913Z
UID:48627-1679760000-1679774400@www.mancomunidadlavega.es
SUMMARY:Espacio Joven. Redován
DESCRIPTION:  \n  \n \nInauguración de un espacio reservado para jóvenes de entre 12 y 30 años en la Biblioteca Municipal de Redován. \nEl fin de este proyecto es crear un lugar donde los y las jóvenes de la población puedan disfrutar de su tiempo libre realizando actividades y relacionándose con otras personas. \nEn este espacio contaremos con todo tipo de juegos de mesa y actividades dirigidas por nuestra dinamizadora juvenil para que la tarde sea lo más divertida posible (bingo musical con regalos…) \nTambién escucharemos sus necesidades y las propuestas que tengan para mejorar su Espacio Joven. \nFECHAS: \nSábado 25 de marzo de 16:00H a 20:00H \nTodos los viernes a partir del 17 de marzo de 16:00H a 20:00H \n(Inauguración 11 de Marzo a las 16:00H) \nMás info:  Espacio Joven \n  \n 
URL:https://www.mancomunidadlavega.es/event/espacio-joven-redovan-2/
LOCATION:Redován\, Alicante\, España
CATEGORIES:Jóvenes,Redován
END:VEVENT
END:VCALENDAR