BEGIN:VCALENDAR
VERSION:2.0
PRODID:-//Mancomunidad la vega - ECPv6.11.2//NONSGML v1.0//EN
CALSCALE:GREGORIAN
METHOD:PUBLISH
X-ORIGINAL-URL:https://www.mancomunidadlavega.es
X-WR-CALDESC:Eventos para Mancomunidad la vega
REFRESH-INTERVAL;VALUE=DURATION:PT1H
X-Robots-Tag:noindex
X-PUBLISHED-TTL:PT1H
BEGIN:VTIMEZONE
TZID:UTC
BEGIN:STANDARD
TZOFFSETFROM:+0000
TZOFFSETTO:+0000
TZNAME:UTC
DTSTART:20250101T000000
END:STANDARD
END:VTIMEZONE
BEGIN:VEVENT
DTSTART;TZID=UTC:20250305T153000
DTEND;TZID=UTC:20250305T163000
DTSTAMP:20260419T211538
CREATED:20250227T133932Z
LAST-MODIFIED:20250227T135250Z
UID:62266-1741188600-1741192200@www.mancomunidadlavega.es
SUMMARY:Taller pinta tu totebag. Algorfa
DESCRIPTION:Decora bolsa CLIA y Juventud \n¡Conmemora el 8 de marzo con creatividad y estilo!\nDurante el mes de marzo\, ¡te invitamos a un taller lleno de arte y diversión!  Vamos a decorar tote bags con diseños únicos para conmemorar el Día Internacional de las Mujeres.\n¿Qué haremos?\nEn este taller podrás diseñar tu propia tote bag con mensajes poderosos\, dibujos inspiradores y colores que reflejan la igualdad\, el respeto y el poder de las mujeres.\n¡Tu creatividad será el límite!
URL:https://www.mancomunidadlavega.es/event/taller-pinta-tu-totebag-algorfa-2/
LOCATION:Centro Cultural San Vicente Ferrer. Algorfa\, Av. Constitución\, 35\, Algorfa\, Alicante\, 03169\, España
CATEGORIES:Algorfa,Jóvenes,Mujer
GEO:38.0868832;-0.7958869
X-APPLE-STRUCTURED-LOCATION;VALUE=URI;X-ADDRESS=Centro Cultural San Vicente Ferrer. Algorfa Av. Constitución 35 Algorfa Alicante 03169 España;X-APPLE-RADIUS=500;X-TITLE=Av. Constitución\, 35:geo:-0.7958869,38.0868832
END:VEVENT
END:VCALENDAR