BEGIN:VCALENDAR
VERSION:2.0
PRODID:-//Mancomunidad la vega - ECPv6.11.2//NONSGML v1.0//EN
CALSCALE:GREGORIAN
METHOD:PUBLISH
X-WR-CALNAME:Mancomunidad la vega
X-ORIGINAL-URL:https://www.mancomunidadlavega.es
X-WR-CALDESC:Eventos para Mancomunidad la vega
REFRESH-INTERVAL;VALUE=DURATION:PT1H
X-Robots-Tag:noindex
X-PUBLISHED-TTL:PT1H
BEGIN:VTIMEZONE
TZID:UTC
BEGIN:STANDARD
TZOFFSETFROM:+0000
TZOFFSETTO:+0000
TZNAME:UTC
DTSTART:20250101T000000
END:STANDARD
END:VTIMEZONE
BEGIN:VEVENT
DTSTART;TZID=UTC:20250228T080000
DTEND;TZID=UTC:20250228T140000
DTSTAMP:20260419T211254
CREATED:20250204T124036Z
LAST-MODIFIED:20250204T131621Z
UID:61894-1740729600-1740751200@www.mancomunidadlavega.es
SUMMARY:Taller de promoción del consentimiento. IES San Miguel
DESCRIPTION:RESPECT IS SEXY. TALLER DE PROMOCIÓN DEL CONSENTIMIENTO. IES SAN MIGUEL \nTalleres Respect is sexy en el IES de San Miguel\, para sensibilizar sobre el consentimiento\, como la clave para construir relaciones saludables y respetuosas. En este taller\, exploraremos qué significa dar y recibir consentimiento de manera clara y respetuosa\, abordando temas como el respeto\, la comunicación y los límites.
URL:https://www.mancomunidadlavega.es/event/taller-de-promocion-del-consentimiento-ies-san-miguel/2025-02-28/
LOCATION:IES Los Alcores\, C/ San Rafael\, 17\, San Miguel de Salinas\, Alicante\, 03193\, España
CATEGORIES:Jóvenes,San Miguel de Salinas
GEO:37.9784386;-0.7889244
X-APPLE-STRUCTURED-LOCATION;VALUE=URI;X-ADDRESS=IES Los Alcores C/ San Rafael 17 San Miguel de Salinas Alicante 03193 España;X-APPLE-RADIUS=500;X-TITLE=C/ San Rafael\, 17:geo:-0.7889244,37.9784386
END:VEVENT
BEGIN:VEVENT
DTSTART;TZID=UTC:20250228T080000
DTEND;TZID=UTC:20250228T140000
DTSTAMP:20260419T211254
CREATED:20250204T131313Z
LAST-MODIFIED:20250204T131747Z
UID:61916-1740729600-1740751200@www.mancomunidadlavega.es
SUMMARY:Taller sexualidades. Redován
DESCRIPTION:TALLER SEXUALIDADES. REDOVÁN \n¿Qué ingredientes tiene que tener una relación para que se buena? Aprende a crear conexiones reales\, sin presiones ni estereotipos.\nTalleres para sensibilizar sobre el consentimiento\, como la clave para construir relaciones saludables y respetuosas. En este taller\, exploraremos qué significa dar y recibir consentimiento de manera clara y respetuosa\, abordando temas como el respeto\, la comunicación y los límites. \nIES JAIME DE SANT ÁNGEL.
URL:https://www.mancomunidadlavega.es/event/taller-sexualidades-redovan/2025-02-28/
LOCATION:IES Los Alcores\, C/ San Rafael\, 17\, San Miguel de Salinas\, Alicante\, 03193\, España
CATEGORIES:Infancia y Familia,Jóvenes,Redován
GEO:37.9784386;-0.7889244
X-APPLE-STRUCTURED-LOCATION;VALUE=URI;X-ADDRESS=IES Los Alcores C/ San Rafael 17 San Miguel de Salinas Alicante 03193 España;X-APPLE-RADIUS=500;X-TITLE=C/ San Rafael\, 17:geo:-0.7889244,37.9784386
END:VEVENT
BEGIN:VEVENT
DTSTART;TZID=UTC:20250228T153000
DTEND;TZID=UTC:20250228T163000
DTSTAMP:20260419T211254
CREATED:20250227T135035Z
LAST-MODIFIED:20250227T135325Z
UID:62274-1740756600-1740760200@www.mancomunidadlavega.es
SUMMARY:Taller pinta tu totebag. Redován
DESCRIPTION:Decora bolsa CLIA y Juventud \n¡Conmemora el 8 de marzo con creatividad y estilo!\nDurante el mes de marzo\, ¡te invitamos a un taller lleno de arte y diversión!  Vamos a decorar tote bags con diseños únicos para conmemorar el Día Internacional de las Mujeres.\n¿Qué haremos?\nEn este taller podrás diseñar tu propia tote bag con mensajes poderosos\, dibujos inspiradores y colores que reflejan la igualdad\, el respeto y el poder de las mujeres.\n¡Tu creatividad será el límite!
URL:https://www.mancomunidadlavega.es/event/taller-pinta-tu-totebag-redovan/
LOCATION:CEIP SAGRADOS CORAZONES\, C/ JUAN XXIII\, S/N\, Redován\, Alicante\, 03370\, España
CATEGORIES:Jóvenes,Mujer,Redován
END:VEVENT
END:VCALENDAR