BEGIN:VCALENDAR
VERSION:2.0
PRODID:-//Mancomunidad la vega - ECPv6.11.2//NONSGML v1.0//EN
CALSCALE:GREGORIAN
METHOD:PUBLISH
X-ORIGINAL-URL:https://www.mancomunidadlavega.es
X-WR-CALDESC:Eventos para Mancomunidad la vega
REFRESH-INTERVAL;VALUE=DURATION:PT1H
X-Robots-Tag:noindex
X-PUBLISHED-TTL:PT1H
BEGIN:VTIMEZONE
TZID:UTC
BEGIN:STANDARD
TZOFFSETFROM:+0000
TZOFFSETTO:+0000
TZNAME:UTC
DTSTART:20250101T000000
END:STANDARD
END:VTIMEZONE
BEGIN:VEVENT
DTSTART;TZID=UTC:20250203T080000
DTEND;TZID=UTC:20250203T140000
DTSTAMP:20260420T054117
CREATED:20250204T124036Z
LAST-MODIFIED:20250204T131615Z
UID:61872-1738569600-1738591200@www.mancomunidadlavega.es
SUMMARY:Taller de promoción del consentimiento. IES San Miguel
DESCRIPTION:RESPECT IS SEXY. TALLER DE PROMOCIÓN DEL CONSENTIMIENTO. IES SAN MIGUEL \nTalleres Respect is sexy en el IES de San Miguel\, para sensibilizar sobre el consentimiento\, como la clave para construir relaciones saludables y respetuosas. En este taller\, exploraremos qué significa dar y recibir consentimiento de manera clara y respetuosa\, abordando temas como el respeto\, la comunicación y los límites.
URL:https://www.mancomunidadlavega.es/event/taller-de-promocion-del-consentimiento-ies-san-miguel/2025-02-03/
LOCATION:IES Los Alcores\, C/ San Rafael\, 17\, San Miguel de Salinas\, Alicante\, 03193\, España
CATEGORIES:Jóvenes,San Miguel de Salinas
GEO:37.9784386;-0.7889244
X-APPLE-STRUCTURED-LOCATION;VALUE=URI;X-ADDRESS=IES Los Alcores C/ San Rafael 17 San Miguel de Salinas Alicante 03193 España;X-APPLE-RADIUS=500;X-TITLE=C/ San Rafael\, 17:geo:-0.7889244,37.9784386
END:VEVENT
BEGIN:VEVENT
DTSTART;TZID=UTC:20250203T080000
DTEND;TZID=UTC:20250203T140000
DTSTAMP:20260420T054117
CREATED:20250204T131313Z
LAST-MODIFIED:20250204T131740Z
UID:61895-1738569600-1738591200@www.mancomunidadlavega.es
SUMMARY:Taller sexualidades. Redován
DESCRIPTION:TALLER SEXUALIDADES. REDOVÁN \n¿Qué ingredientes tiene que tener una relación para que se buena? Aprende a crear conexiones reales\, sin presiones ni estereotipos.\nTalleres para sensibilizar sobre el consentimiento\, como la clave para construir relaciones saludables y respetuosas. En este taller\, exploraremos qué significa dar y recibir consentimiento de manera clara y respetuosa\, abordando temas como el respeto\, la comunicación y los límites. \nIES JAIME DE SANT ÁNGEL.
URL:https://www.mancomunidadlavega.es/event/taller-sexualidades-redovan/2025-02-03/
LOCATION:IES Los Alcores\, C/ San Rafael\, 17\, San Miguel de Salinas\, Alicante\, 03193\, España
CATEGORIES:Infancia y Familia,Jóvenes,Redován
GEO:37.9784386;-0.7889244
X-APPLE-STRUCTURED-LOCATION;VALUE=URI;X-ADDRESS=IES Los Alcores C/ San Rafael 17 San Miguel de Salinas Alicante 03193 España;X-APPLE-RADIUS=500;X-TITLE=C/ San Rafael\, 17:geo:-0.7889244,37.9784386
END:VEVENT
BEGIN:VEVENT
DTSTART;TZID=UTC:20250203T080000
DTEND;TZID=UTC:20250203T170000
DTSTAMP:20260420T054117
CREATED:20250124T073643Z
LAST-MODIFIED:20250204T102907Z
UID:61857-1738569600-1738602000@www.mancomunidadlavega.es
SUMMARY:CURSO MONITOR DE ACTIVIDADES DE TIEMPO LIBRE INFANTIL Y JUVENIL.
DESCRIPTION:Abrimos el plazo para la prescripción del Curso de Monitor/a de actividades de tiempo libre infantil y juvenil \nSi tienes más de 17 años y estas interesad@ manda un mensaje antes del 7 de FEBRERO al número ~> 658796154 o a través de la web de la mancomunidad con los siguientes datos: \n\nNombre completo\nMunicipio\nNúmero de teléfono\nFecha de nacimientoEl pago se realizará al confirmar la plaza\n•125 euros empadronados en Algorfa\, Jacarilla\, San Miguel de Salinas y Redován\n•160 empadronados en el resto de municipiosTítulo Oficial IVAJ impartido por EOAJ Abast Animació\n+INFO. https://www.mancomunidadlavega.es/tramites/curso-de-monitor-de-tiempo-libre-infantil-y-juvenil/
URL:https://www.mancomunidadlavega.es/event/curso-mat-monitor-de-activividades-de-tiempo-libre-infantil-y-juvenil/2025-02-03/
CATEGORIES:Algorfa,Jacarilla,Jóvenes,Redován,San Miguel de Salinas
END:VEVENT
END:VCALENDAR