BEGIN:VCALENDAR
VERSION:2.0
PRODID:-//Mancomunidad la vega - ECPv6.11.2//NONSGML v1.0//EN
CALSCALE:GREGORIAN
METHOD:PUBLISH
X-WR-CALNAME:Mancomunidad la vega
X-ORIGINAL-URL:https://www.mancomunidadlavega.es
X-WR-CALDESC:Eventos para Mancomunidad la vega
REFRESH-INTERVAL;VALUE=DURATION:PT1H
X-Robots-Tag:noindex
X-PUBLISHED-TTL:PT1H
BEGIN:VTIMEZONE
TZID:UTC
BEGIN:STANDARD
TZOFFSETFROM:+0000
TZOFFSETTO:+0000
TZNAME:UTC
DTSTART:20240101T000000
END:STANDARD
END:VTIMEZONE
BEGIN:VEVENT
DTSTART;TZID=UTC:20241127T173000
DTEND;TZID=UTC:20241127T183000
DTSTAMP:20260420T183637
CREATED:20241209T125041Z
LAST-MODIFIED:20241209T125041Z
UID:61599-1732728600-1732732200@www.mancomunidadlavega.es
SUMMARY:Torneo Brain of Sex. Algorfa
DESCRIPTION:  \n\nTORNEO BRAIN OF SEX.\n¿Cuanto crees que sabes de sexualidad?\nVen a jugar con La Vega Joven\, al Brain of Sex y lo descubrirás.\n\n\n\n\n¿QUÉ ES BRAIN OF SEX? Brain of Sex es un juego interactivo y educativo diseñado por la agencia de igualdad de Mancomunidad la Vega para fomentar la conversación abierta\, reflexiva y respetuosa sobre temas de sexualidad\, relaciones sanas y no violentas.\n\n\n\n\n¿A QUIÉN VA DIRIGIDO? Este evento está dirigido a jóvenes mayores de 15 años que estén interesados/as de manera divertida y educativa en saber más sobre educación sexual y sobre relaciones basadas en el respeto y el consentimiento.\n¿DONDE LO VAMOS A HACER?\n\n\n\n San Miguel: 19 de noviembre a las 17 horas en el Centro Social\n Algorfa: 27 de noviembre a las 17\,30 horas en la Casa de Juventud\n Jacarilla: 28 de noviembre a las 17\,30 horas en Servicios Sociales (Espacio Joven)\n Redován: 29 de noviembre a las 17\,30 horas en Casa de Juventud.\n\n\n¿QUIERES SABER MAS? Entra y descubre https://brainofsex.es/\n\n 
URL:https://www.mancomunidadlavega.es/event/torneo-brain-of-sex-algorfa/
LOCATION:Algorfa
CATEGORIES:Algorfa,Jóvenes
END:VEVENT
END:VCALENDAR