BEGIN:VCALENDAR
VERSION:2.0
PRODID:-//Mancomunidad la vega - ECPv6.11.2//NONSGML v1.0//EN
CALSCALE:GREGORIAN
METHOD:PUBLISH
X-ORIGINAL-URL:https://www.mancomunidadlavega.es
X-WR-CALDESC:Eventos para Mancomunidad la vega
REFRESH-INTERVAL;VALUE=DURATION:PT1H
X-Robots-Tag:noindex
X-PUBLISHED-TTL:PT1H
BEGIN:VTIMEZONE
TZID:UTC
BEGIN:STANDARD
TZOFFSETFROM:+0000
TZOFFSETTO:+0000
TZNAME:UTC
DTSTART:20240101T000000
END:STANDARD
END:VTIMEZONE
BEGIN:VEVENT
DTSTART;TZID=UTC:20240701T173000
DTEND;TZID=UTC:20240701T203000
DTSTAMP:20260421T052134
CREATED:20240705T064638Z
LAST-MODIFIED:20240910T072102Z
UID:59351-1719855000-1719865800@www.mancomunidadlavega.es
SUMMARY:Talleres julio jóvenes. Redován
DESCRIPTION:Talleres julio La Vega Joven.\n\n¿Preparad@ para la llegada del verano? ¿Quieres olvidarte de la televisión y el sofá durante el mes de julio? ESTE ES TU LUGAR!!\n\n\n#lavegajoven te ofrece una serie de TALLERES y ACTIVIDADES para que aproveches al máximo tu tiempo libre este verano!\n\n\n\nRedovan 1\,2\,5\,8\,9\,15\,22\,23\,29 y 30 de JULIO en Casa de Juventud de 17\,30 a 20\,30 horas.\nAlgorfa 3\,10\, 12\, 17\, 24 y 31 de JULIO en Casa de Juventud de 17\,30 a 20\,30 horas.\n\nJacarilla 4\, 11\, 18\, 19 y 25 de JULIO y 1 de AGOSTO en Centro Social de 17\,30 a 20\,30 horas.\n\n\n\n\n+INFO  658796154\n+info. La vega joven
URL:https://www.mancomunidadlavega.es/event/talleres-julio-redovan/
LOCATION:Redován\, Alicante\, España
CATEGORIES:Jóvenes,Redován
END:VEVENT
BEGIN:VEVENT
DTSTART;TZID=UTC:20240702T173000
DTEND;TZID=UTC:20240702T203000
DTSTAMP:20260421T052134
CREATED:20240705T065140Z
LAST-MODIFIED:20240910T072058Z
UID:59359-1719941400-1719952200@www.mancomunidadlavega.es
SUMMARY:Talleres julio jóvenes. Redován
DESCRIPTION:Talleres julio La Vega Joven.\n\n¿Preparad@ para la llegada del verano? ¿Quieres olvidarte de la televisión y el sofá durante el mes de julio? ESTE ES TU LUGAR!!\n\n\n#lavegajoven te ofrece una serie de TALLERES y ACTIVIDADES para que aproveches al máximo tu tiempo libre este verano!\n\n\n\nRedovan 1\,2\,5\,8\,9\,15\,22\,23\,29 y 30 de JULIO en Casa de Juventud de 17\,30 a 20\,30 horas.\nAlgorfa 3\,10\, 12\, 17\, 24 y 31 de JULIO en Casa de Juventud de 17\,30 a 20\,30 horas.\n\nJacarilla 4\, 11\, 18\, 19 y 25 de JULIO y 1 de AGOSTO en Centro Social de 17\,30 a 20\,30 horas.\n\n\n\n\n+INFO  658796154\n+info. La vega joven
URL:https://www.mancomunidadlavega.es/event/talleres-julio-redovan-2-2/
LOCATION:Redován\, Alicante\, España
CATEGORIES:Jóvenes,Redován
END:VEVENT
BEGIN:VEVENT
DTSTART;TZID=UTC:20240703T173000
DTEND;TZID=UTC:20240703T203000
DTSTAMP:20260421T052134
CREATED:20240705T070151Z
LAST-MODIFIED:20240705T070151Z
UID:59385-1720027800-1720038600@www.mancomunidadlavega.es
SUMMARY:Talleres julio jóvenes. Algorfa
DESCRIPTION:Talleres julio La Vega Joven.\n\n¿Preparad@ para la llegada del verano? ¿Quieres olvidarte de la televisión y el sofá durante el mes de julio? ESTE ES TU LUGAR!!\n\n\n#lavegajoven te ofrece una serie de TALLERES y ACTIVIDADES para que aproveches al máximo tu tiempo libre este verano!\n\n\n\nRedovan 1\,2\,5\,8\,9\,15\,22\,23\,29 y 30 de JULIO en Casa de Juventud de 17\,30 a 20\,30 horas.\nAlgorfa 3\,10\, 12\, 17\, 24 y 31 de JULIO en Casa de Juventud de 17\,30 a 20\,30 horas.\n\nJacarilla 4\, 11\, 18\, 19 y 25 de JULIO y 1 de AGOSTO en Centro Social de 17\,30 a 20\,30 horas.\n\n\n\n\n+INFO  658796154\n+ifo. La vega joven
URL:https://www.mancomunidadlavega.es/event/talleres-julio-jovenes-algorfa/
LOCATION:Algorfa
CATEGORIES:Algorfa,Jóvenes
END:VEVENT
BEGIN:VEVENT
DTSTART;TZID=UTC:20240704T173000
DTEND;TZID=UTC:20240704T203000
DTSTAMP:20260421T052134
CREATED:20240705T071131Z
LAST-MODIFIED:20240910T072054Z
UID:59398-1720114200-1720125000@www.mancomunidadlavega.es
SUMMARY:Talleres julio jóvenes. Jacarilla
DESCRIPTION:Talleres julio La Vega Joven.\n\n¿Preparad@ para la llegada del verano? ¿Quieres olvidarte de la televisión y el sofá durante el mes de julio? ESTE ES TU LUGAR!!\n\n\n#lavegajoven te ofrece una serie de TALLERES y ACTIVIDADES para que aproveches al máximo tu tiempo libre este verano!\n\n\n\nRedovan 1\,2\,5\,8\,9\,15\,22\,23\,29 y 30 de JULIO en Casa de Juventud de 17\,30 a 20\,30 horas.\nAlgorfa 3\,10\, 12\, 17\, 24 y 31 de JULIO en Casa de Juventud de 17\,30 a 20\,30 horas.\n\nJacarilla 4\, 11\, 18\, 19 y 25 de JULIO y 1 de AGOSTO en Centro Social de 17\,30 a 20\,30 horas.\n\n\n\n\n+INFO  658796154\n+info. La vega joven
URL:https://www.mancomunidadlavega.es/event/talleres-julio-jovenes-jacarilla/
LOCATION:Jacarilla
CATEGORIES:Jacarilla,Jóvenes
GEO:38.1142082;-0.9076136
END:VEVENT
BEGIN:VEVENT
DTSTART;TZID=UTC:20240705T173000
DTEND;TZID=UTC:20240705T203000
DTSTAMP:20260421T052134
CREATED:20240705T065205Z
LAST-MODIFIED:20240910T072049Z
UID:59363-1720200600-1720211400@www.mancomunidadlavega.es
SUMMARY:Talleres julio jóvenes. Redován
DESCRIPTION:Talleres julio La Vega Joven.\n\n¿Preparad@ para la llegada del verano? ¿Quieres olvidarte de la televisión y el sofá durante el mes de julio? ESTE ES TU LUGAR!!\n\n\n#lavegajoven te ofrece una serie de TALLERES y ACTIVIDADES para que aproveches al máximo tu tiempo libre este verano!\n\n\n\nRedovan 1\,2\,5\,8\,9\,15\,22\,23\,29 y 30 de JULIO en Casa de Juventud de 17\,30 a 20\,30 horas.\nAlgorfa 3\,10\, 12\, 17\, 24 y 31 de JULIO en Casa de Juventud de 17\,30 a 20\,30 horas.\n\nJacarilla 4\, 11\, 18\, 19 y 25 de JULIO y 1 de AGOSTO en Centro Social de 17\,30 a 20\,30 horas.\n\n\n\n\n+INFO  658796154\n+info. La vega joven
URL:https://www.mancomunidadlavega.es/event/talleres-julio-redovan-2-2-2-2/
LOCATION:Redován\, Alicante\, España
CATEGORIES:Jóvenes,Redován
END:VEVENT
BEGIN:VEVENT
DTSTART;TZID=UTC:20240708T173000
DTEND;TZID=UTC:20240708T203000
DTSTAMP:20260421T052134
CREATED:20240705T065235Z
LAST-MODIFIED:20240910T072044Z
UID:59367-1720459800-1720470600@www.mancomunidadlavega.es
SUMMARY:Talleres julio jóvenes. Redován
DESCRIPTION:Talleres julio La Vega Joven.\n\n¿Preparad@ para la llegada del verano? ¿Quieres olvidarte de la televisión y el sofá durante el mes de julio? ESTE ES TU LUGAR!!\n\n\n#lavegajoven te ofrece una serie de TALLERES y ACTIVIDADES para que aproveches al máximo tu tiempo libre este verano!\n\n\n\nRedovan 1\,2\,5\,8\,9\,15\,22\,23\,29 y 30 de JULIO en Casa de Juventud de 17\,30 a 20\,30 horas.\nAlgorfa 3\,10\, 12\, 17\, 24 y 31 de JULIO en Casa de Juventud de 17\,30 a 20\,30 horas.\n\nJacarilla 4\, 11\, 18\, 19 y 25 de JULIO y 1 de AGOSTO en Centro Social de 17\,30 a 20\,30 horas.\n\n\n\n\n+INFO  658796154\n+info. La vega joven
URL:https://www.mancomunidadlavega.es/event/talleres-julio-redovan-2-2-2-2-2-2/
LOCATION:Redován\, Alicante\, España
CATEGORIES:Jóvenes,Redován
END:VEVENT
BEGIN:VEVENT
DTSTART;TZID=UTC:20240709T173000
DTEND;TZID=UTC:20240709T203000
DTSTAMP:20260421T052134
CREATED:20240705T065300Z
LAST-MODIFIED:20240910T072016Z
UID:59371-1720546200-1720557000@www.mancomunidadlavega.es
SUMMARY:Talleres julio jóvenes. Redován
DESCRIPTION:Talleres julio La Vega Joven.\n\n¿Preparad@ para la llegada del verano? ¿Quieres olvidarte de la televisión y el sofá durante el mes de julio? ESTE ES TU LUGAR!!\n\n\n#lavegajoven te ofrece una serie de TALLERES y ACTIVIDADES para que aproveches al máximo tu tiempo libre este verano!\n\n\n\nRedovan 1\,2\,5\,8\,9\,15\,22\,23\,29 y 30 de JULIO en Casa de Juventud de 17\,30 a 20\,30 horas.\nAlgorfa 3\,10\, 12\, 17\, 24 y 31 de JULIO en Casa de Juventud de 17\,30 a 20\,30 horas.\n\nJacarilla 4\, 11\, 18\, 19 y 25 de JULIO y 1 de AGOSTO en Centro Social de 17\,30 a 20\,30 horas.\n\n\n\n\n+INFO  658796154\n+info. La vega joven
URL:https://www.mancomunidadlavega.es/event/talleres-julio-redovan-2-2-2-2-2-2-2-2/
LOCATION:Redován\, Alicante\, España
CATEGORIES:Jóvenes,Redován
END:VEVENT
BEGIN:VEVENT
DTSTART;TZID=UTC:20240710T173000
DTEND;TZID=UTC:20240710T203000
DTSTAMP:20260421T052134
CREATED:20240705T070206Z
LAST-MODIFIED:20240910T072008Z
UID:59388-1720632600-1720643400@www.mancomunidadlavega.es
SUMMARY:Talleres julio jóvenes. Algorfa
DESCRIPTION:Talleres julio La Vega Joven.\n\n¿Preparad@ para la llegada del verano? ¿Quieres olvidarte de la televisión y el sofá durante el mes de julio? ESTE ES TU LUGAR!!\n\n\n#lavegajoven te ofrece una serie de TALLERES y ACTIVIDADES para que aproveches al máximo tu tiempo libre este verano!\n\n\n\nRedovan 1\,2\,5\,8\,9\,15\,22\,23\,29 y 30 de JULIO en Casa de Juventud de 17\,30 a 20\,30 horas.\nAlgorfa 3\,10\, 12\, 17\, 24 y 31 de JULIO en Casa de Juventud de 17\,30 a 20\,30 horas.\n\nJacarilla 4\, 11\, 18\, 19 y 25 de JULIO y 1 de AGOSTO en Centro Social de 17\,30 a 20\,30 horas.\n\n\n\n\n+INFO  658796154\n+info. La vega joven
URL:https://www.mancomunidadlavega.es/event/talleres-julio-jovenes-algorfa-2/
LOCATION:Algorfa
CATEGORIES:Algorfa,Jóvenes
END:VEVENT
BEGIN:VEVENT
DTSTART;TZID=UTC:20240711T173000
DTEND;TZID=UTC:20240711T203000
DTSTAMP:20260421T052134
CREATED:20240705T071146Z
LAST-MODIFIED:20240910T072002Z
UID:59401-1720719000-1720729800@www.mancomunidadlavega.es
SUMMARY:Talleres julio jóvenes. Jacarilla
DESCRIPTION:Talleres julio La Vega Joven.\n\n¿Preparad@ para la llegada del verano? ¿Quieres olvidarte de la televisión y el sofá durante el mes de julio? ESTE ES TU LUGAR!!\n\n\n#lavegajoven te ofrece una serie de TALLERES y ACTIVIDADES para que aproveches al máximo tu tiempo libre este verano!\n\n\n\nRedovan 1\,2\,5\,8\,9\,15\,22\,23\,29 y 30 de JULIO en Casa de Juventud de 17\,30 a 20\,30 horas.\nAlgorfa 3\,10\, 12\, 17\, 24 y 31 de JULIO en Casa de Juventud de 17\,30 a 20\,30 horas.\n\nJacarilla 4\, 11\, 18\, 19 y 25 de JULIO y 1 de AGOSTO en Centro Social de 17\,30 a 20\,30 horas.\n\n\n\n\n+INFO  658796154\n+info. La vega joven
URL:https://www.mancomunidadlavega.es/event/talleres-julio-jovenes-jacarilla-2/
LOCATION:Jacarilla
CATEGORIES:Jacarilla,Jóvenes
GEO:38.1142082;-0.9076136
END:VEVENT
BEGIN:VEVENT
DTSTART;TZID=UTC:20240712T173000
DTEND;TZID=UTC:20240712T203000
DTSTAMP:20260421T052134
CREATED:20240705T070218Z
LAST-MODIFIED:20240705T070218Z
UID:59390-1720805400-1720816200@www.mancomunidadlavega.es
SUMMARY:Talleres julio jóvenes. Algorfa
DESCRIPTION:Talleres julio La Vega Joven.\n\n¿Preparad@ para la llegada del verano? ¿Quieres olvidarte de la televisión y el sofá durante el mes de julio? ESTE ES TU LUGAR!!\n\n\n#lavegajoven te ofrece una serie de TALLERES y ACTIVIDADES para que aproveches al máximo tu tiempo libre este verano!\n\n\n\nRedovan 1\,2\,5\,8\,9\,15\,22\,23\,29 y 30 de JULIO en Casa de Juventud de 17\,30 a 20\,30 horas.\nAlgorfa 3\,10\, 12\, 17\, 24 y 31 de JULIO en Casa de Juventud de 17\,30 a 20\,30 horas.\n\nJacarilla 4\, 11\, 18\, 19 y 25 de JULIO y 1 de AGOSTO en Centro Social de 17\,30 a 20\,30 horas.\n\n\n\n\n+INFO  658796154\n+ifo. La vega joven
URL:https://www.mancomunidadlavega.es/event/talleres-julio-jovenes-algorfa-2-2/
LOCATION:Algorfa
CATEGORIES:Algorfa,Jóvenes
END:VEVENT
BEGIN:VEVENT
DTSTART;TZID=UTC:20240715T173000
DTEND;TZID=UTC:20240715T203000
DTSTAMP:20260421T052134
CREATED:20240705T065125Z
LAST-MODIFIED:20240910T071956Z
UID:59357-1721064600-1721075400@www.mancomunidadlavega.es
SUMMARY:Talleres julio jóvenes. Redován
DESCRIPTION:Talleres julio La Vega Joven.\n\n¿Preparad@ para la llegada del verano? ¿Quieres olvidarte de la televisión y el sofá durante el mes de julio? ESTE ES TU LUGAR!!\n\n\n#lavegajoven te ofrece una serie de TALLERES y ACTIVIDADES para que aproveches al máximo tu tiempo libre este verano!\n\n\n\nRedovan 1\,2\,5\,8\,9\,15\,22\,23\,29 y 30 de JULIO en Casa de Juventud de 17\,30 a 20\,30 horas.\nAlgorfa 3\,10\, 12\, 17\, 24 y 31 de JULIO en Casa de Juventud de 17\,30 a 20\,30 horas.\n\nJacarilla 4\, 11\, 18\, 19 y 25 de JULIO y 1 de AGOSTO en Centro Social de 17\,30 a 20\,30 horas.\n\n\n\n\n+INFO  658796154\n+info. La vega joven
URL:https://www.mancomunidadlavega.es/event/talleres-julio-redovan-2/
LOCATION:Redován\, Alicante\, España
CATEGORIES:Jóvenes,Redován
END:VEVENT
BEGIN:VEVENT
DTSTART;TZID=UTC:20240717T090000
DTEND;TZID=UTC:20240717T203000
DTSTAMP:20260421T052134
CREATED:20240715T103451Z
LAST-MODIFIED:20240715T103451Z
UID:59673-1721206800-1721248200@www.mancomunidadlavega.es
SUMMARY:Excursión gratuita Aqualandia. Algorfa
DESCRIPTION:¿Estáis preparad@s para la excursión más esperada del año?\n NOS VAMOS A AQUALANDIA EL JUEVES 18 DE JULIO\n\n\nInscripciones en el AYUNTAMIENTO — HASTA EL 15 DE JULIO!!\nDate prisa en inscribirte que las plazas son limitadas! POR ORDEN DE ENTREGA\nVen a pasar un día EN GRANDE!\n\n\n+INFO– 658 79 61 54\nAyuntamiento de Algorfa La Vega Joven
URL:https://www.mancomunidadlavega.es/event/excursion-gratuita-aqualandia-algorfa/
LOCATION:Algorfa
CATEGORIES:Algorfa,Jóvenes
END:VEVENT
BEGIN:VEVENT
DTSTART;TZID=UTC:20240717T173000
DTEND;TZID=UTC:20240717T203000
DTSTAMP:20260421T052134
CREATED:20240705T070229Z
LAST-MODIFIED:20240910T071950Z
UID:59392-1721237400-1721248200@www.mancomunidadlavega.es
SUMMARY:Talleres julio jóvenes. Algorfa
DESCRIPTION:Talleres julio La Vega Joven.\n\n¿Preparad@ para la llegada del verano? ¿Quieres olvidarte de la televisión y el sofá durante el mes de julio? ESTE ES TU LUGAR!!\n\n\n#lavegajoven te ofrece una serie de TALLERES y ACTIVIDADES para que aproveches al máximo tu tiempo libre este verano!\n\n\n\nRedovan 1\,2\,5\,8\,9\,15\,22\,23\,29 y 30 de JULIO en Casa de Juventud de 17\,30 a 20\,30 horas.\nAlgorfa 3\,10\, 12\, 17\, 24 y 31 de JULIO en Casa de Juventud de 17\,30 a 20\,30 horas.\n\nJacarilla 4\, 11\, 18\, 19 y 25 de JULIO y 1 de AGOSTO en Centro Social de 17\,30 a 20\,30 horas.\n\n\n\n\n+INFO  658796154\n+info. La vega joven
URL:https://www.mancomunidadlavega.es/event/talleres-julio-jovenes-algorfa-2-2-2/
LOCATION:Algorfa
CATEGORIES:Algorfa,Jóvenes
END:VEVENT
BEGIN:VEVENT
DTSTART;TZID=UTC:20240718T173000
DTEND;TZID=UTC:20240718T203000
DTSTAMP:20260421T052134
CREATED:20240705T071207Z
LAST-MODIFIED:20240910T071943Z
UID:59403-1721323800-1721334600@www.mancomunidadlavega.es
SUMMARY:Talleres julio jóvenes. Jacarilla
DESCRIPTION:Talleres julio La Vega Joven.\n\n¿Preparad@ para la llegada del verano? ¿Quieres olvidarte de la televisión y el sofá durante el mes de julio? ESTE ES TU LUGAR!!\n\n\n#lavegajoven te ofrece una serie de TALLERES y ACTIVIDADES para que aproveches al máximo tu tiempo libre este verano!\n\n\n\nRedovan 1\,2\,5\,8\,9\,15\,22\,23\,29 y 30 de JULIO en Casa de Juventud de 17\,30 a 20\,30 horas.\nAlgorfa 3\,10\, 12\, 17\, 24 y 31 de JULIO en Casa de Juventud de 17\,30 a 20\,30 horas.\n\nJacarilla 4\, 11\, 18\, 19 y 25 de JULIO y 1 de AGOSTO en Centro Social de 17\,30 a 20\,30 horas.\n\n\n\n\n+INFO  658796154\n+info. La vega joven
URL:https://www.mancomunidadlavega.es/event/talleres-julio-jovenes-jacarilla-2-2/
LOCATION:Jacarilla
CATEGORIES:Jacarilla,Jóvenes
GEO:38.1142082;-0.9076136
END:VEVENT
BEGIN:VEVENT
DTSTART;TZID=UTC:20240719T173000
DTEND;TZID=UTC:20240719T203000
DTSTAMP:20260421T052134
CREATED:20240705T071219Z
LAST-MODIFIED:20240910T071937Z
UID:59405-1721410200-1721421000@www.mancomunidadlavega.es
SUMMARY:Talleres julio jóvenes. Jacarilla
DESCRIPTION:Talleres julio La Vega Joven.\n\n¿Preparad@ para la llegada del verano? ¿Quieres olvidarte de la televisión y el sofá durante el mes de julio? ESTE ES TU LUGAR!!\n\n\n#lavegajoven te ofrece una serie de TALLERES y ACTIVIDADES para que aproveches al máximo tu tiempo libre este verano!\n\n\n\nRedovan 1\,2\,5\,8\,9\,15\,22\,23\,29 y 30 de JULIO en Casa de Juventud de 17\,30 a 20\,30 horas.\nAlgorfa 3\,10\, 12\, 17\, 24 y 31 de JULIO en Casa de Juventud de 17\,30 a 20\,30 horas.\n\nJacarilla 4\, 11\, 18\, 19 y 25 de JULIO y 1 de AGOSTO en Centro Social de 17\,30 a 20\,30 horas.\n\n\n\n\n+INFO  658796154\n+info. La vega joven
URL:https://www.mancomunidadlavega.es/event/talleres-julio-jovenes-jacarilla-2-2-2/
LOCATION:Jacarilla
CATEGORIES:Jacarilla,Jóvenes
GEO:38.1142082;-0.9076136
END:VEVENT
BEGIN:VEVENT
DTSTART;TZID=UTC:20240722T173000
DTEND;TZID=UTC:20240722T203000
DTSTAMP:20260421T052134
CREATED:20240705T065151Z
LAST-MODIFIED:20240910T071931Z
UID:59361-1721669400-1721680200@www.mancomunidadlavega.es
SUMMARY:Talleres julio jóvenes. Redován
DESCRIPTION:Talleres julio La Vega Joven.\n\n¿Preparad@ para la llegada del verano? ¿Quieres olvidarte de la televisión y el sofá durante el mes de julio? ESTE ES TU LUGAR!!\n\n\n#lavegajoven te ofrece una serie de TALLERES y ACTIVIDADES para que aproveches al máximo tu tiempo libre este verano!\n\n\n\nRedovan 1\,2\,5\,8\,9\,15\,22\,23\,29 y 30 de JULIO en Casa de Juventud de 17\,30 a 20\,30 horas.\nAlgorfa 3\,10\, 12\, 17\, 24 y 31 de JULIO en Casa de Juventud de 17\,30 a 20\,30 horas.\n\nJacarilla 4\, 11\, 18\, 19 y 25 de JULIO y 1 de AGOSTO en Centro Social de 17\,30 a 20\,30 horas.\n\n\n\n\n+INFO  658796154\n+info. La vega joven
URL:https://www.mancomunidadlavega.es/event/talleres-julio-redovan-2-2-2/
LOCATION:Redován\, Alicante\, España
CATEGORIES:Jóvenes,Redován
END:VEVENT
BEGIN:VEVENT
DTSTART;TZID=UTC:20240723T173000
DTEND;TZID=UTC:20240723T203000
DTSTAMP:20260421T052134
CREATED:20240705T065223Z
LAST-MODIFIED:20240910T071925Z
UID:59365-1721755800-1721766600@www.mancomunidadlavega.es
SUMMARY:Talleres julio jóvenes. Redován
DESCRIPTION:Talleres julio La Vega Joven.\n\n¿Preparad@ para la llegada del verano? ¿Quieres olvidarte de la televisión y el sofá durante el mes de julio? ESTE ES TU LUGAR!!\n\n\n#lavegajoven te ofrece una serie de TALLERES y ACTIVIDADES para que aproveches al máximo tu tiempo libre este verano!\n\n\n\nRedovan 1\,2\,5\,8\,9\,15\,22\,23\,29 y 30 de JULIO en Casa de Juventud de 17\,30 a 20\,30 horas.\nAlgorfa 3\,10\, 12\, 17\, 24 y 31 de JULIO en Casa de Juventud de 17\,30 a 20\,30 horas.\n\nJacarilla 4\, 11\, 18\, 19 y 25 de JULIO y 1 de AGOSTO en Centro Social de 17\,30 a 20\,30 horas.\n\n\n\n\n+INFO  658796154\n+info. La vega joven
URL:https://www.mancomunidadlavega.es/event/talleres-julio-redovan-2-2-2-2-2/
LOCATION:Redován\, Alicante\, España
CATEGORIES:Jóvenes,Redován
END:VEVENT
BEGIN:VEVENT
DTSTART;TZID=UTC:20240724T173000
DTEND;TZID=UTC:20240724T203000
DTSTAMP:20260421T052134
CREATED:20240705T070242Z
LAST-MODIFIED:20240910T071840Z
UID:59394-1721842200-1721853000@www.mancomunidadlavega.es
SUMMARY:Talleres julio jóvenes. Algorfa
DESCRIPTION:Talleres julio La Vega Joven.\n\n¿Preparad@ para la llegada del verano? ¿Quieres olvidarte de la televisión y el sofá durante el mes de julio? ESTE ES TU LUGAR!!\n\n\n#lavegajoven te ofrece una serie de TALLERES y ACTIVIDADES para que aproveches al máximo tu tiempo libre este verano!\n\n\n\nRedovan 1\,2\,5\,8\,9\,15\,22\,23\,29 y 30 de JULIO en Casa de Juventud de 17\,30 a 20\,30 horas.\nAlgorfa 3\,10\, 12\, 17\, 24 y 31 de JULIO en Casa de Juventud de 17\,30 a 20\,30 horas.\n\nJacarilla 4\, 11\, 18\, 19 y 25 de JULIO y 1 de AGOSTO en Centro Social de 17\,30 a 20\,30 horas.\n\n\n\n\n+INFO  658796154\n+info. La vega joven
URL:https://www.mancomunidadlavega.es/event/talleres-julio-jovenes-algorfa-2-2-2-2/
LOCATION:Algorfa
CATEGORIES:Algorfa,Jóvenes
END:VEVENT
BEGIN:VEVENT
DTSTART;TZID=UTC:20240725T173000
DTEND;TZID=UTC:20240725T203000
DTSTAMP:20260421T052134
CREATED:20240705T071231Z
LAST-MODIFIED:20240705T071231Z
UID:59407-1721928600-1721939400@www.mancomunidadlavega.es
SUMMARY:Talleres julio jóvenes. Jacarilla
DESCRIPTION:Talleres julio La Vega Joven.\n\n¿Preparad@ para la llegada del verano? ¿Quieres olvidarte de la televisión y el sofá durante el mes de julio? ESTE ES TU LUGAR!!\n\n\n#lavegajoven te ofrece una serie de TALLERES y ACTIVIDADES para que aproveches al máximo tu tiempo libre este verano!\n\n\n\nRedovan 1\,2\,5\,8\,9\,15\,22\,23\,29 y 30 de JULIO en Casa de Juventud de 17\,30 a 20\,30 horas.\nAlgorfa 3\,10\, 12\, 17\, 24 y 31 de JULIO en Casa de Juventud de 17\,30 a 20\,30 horas.\n\nJacarilla 4\, 11\, 18\, 19 y 25 de JULIO y 1 de AGOSTO en Centro Social de 17\,30 a 20\,30 horas.\n\n\n\n\n+INFO  658796154\n+ifo. La vega joven
URL:https://www.mancomunidadlavega.es/event/talleres-julio-jovenes-jacarilla-2-2-2-2/
LOCATION:Jacarilla
CATEGORIES:Jacarilla,Jóvenes
GEO:38.1142082;-0.9076136
END:VEVENT
BEGIN:VEVENT
DTSTART;TZID=UTC:20240729T173000
DTEND;TZID=UTC:20240729T203000
DTSTAMP:20260421T052134
CREATED:20240705T065248Z
LAST-MODIFIED:20240910T071759Z
UID:59369-1722274200-1722285000@www.mancomunidadlavega.es
SUMMARY:Talleres julio jóvenes. Redován
DESCRIPTION:Talleres julio La Vega Joven.\n\n¿Preparad@ para la llegada del verano? ¿Quieres olvidarte de la televisión y el sofá durante el mes de julio? ESTE ES TU LUGAR!!\n\n\n#lavegajoven te ofrece una serie de TALLERES y ACTIVIDADES para que aproveches al máximo tu tiempo libre este verano!\n\n\n\nRedovan 1\,2\,5\,8\,9\,15\,22\,23\,29 y 30 de JULIO en Casa de Juventud de 17\,30 a 20\,30 horas.\nAlgorfa 3\,10\, 12\, 17\, 24 y 31 de JULIO en Casa de Juventud de 17\,30 a 20\,30 horas.\n\nJacarilla 4\, 11\, 18\, 19 y 25 de JULIO y 1 de AGOSTO en Centro Social de 17\,30 a 20\,30 horas.\n\n\n\n\n+INFO  658796154\n+info. La vega joven
URL:https://www.mancomunidadlavega.es/event/talleres-julio-redovan-2-2-2-2-2-2-2/
LOCATION:Redován\, Alicante\, España
CATEGORIES:Jóvenes,Redován
END:VEVENT
BEGIN:VEVENT
DTSTART;TZID=UTC:20240730T173000
DTEND;TZID=UTC:20240730T203000
DTSTAMP:20260421T052134
CREATED:20240705T065312Z
LAST-MODIFIED:20240910T071729Z
UID:59373-1722360600-1722371400@www.mancomunidadlavega.es
SUMMARY:Talleres julio jóvenes. Redován
DESCRIPTION:Talleres julio La Vega Joven.\n\n¿Preparad@ para la llegada del verano? ¿Quieres olvidarte de la televisión y el sofá durante el mes de julio? ESTE ES TU LUGAR!!\n\n\n#lavegajoven te ofrece una serie de TALLERES y ACTIVIDADES para que aproveches al máximo tu tiempo libre este verano!\n\n\n\nRedovan 1\,2\,5\,8\,9\,15\,22\,23\,29 y 30 de JULIO en Casa de Juventud de 17\,30 a 20\,30 horas.\nAlgorfa 3\,10\, 12\, 17\, 24 y 31 de JULIO en Casa de Juventud de 17\,30 a 20\,30 horas.\n\nJacarilla 4\, 11\, 18\, 19 y 25 de JULIO y 1 de AGOSTO en Centro Social de 17\,30 a 20\,30 horas.\n\n\n\n\n+INFO  658796154\n+info. La vega joven
URL:https://www.mancomunidadlavega.es/event/talleres-julio-redovan-2-2-2-2-2-2-2-2-2/
LOCATION:Redován\, Alicante\, España
CATEGORIES:Jóvenes,Redován
END:VEVENT
BEGIN:VEVENT
DTSTART;TZID=UTC:20240731T173000
DTEND;TZID=UTC:20240731T203000
DTSTAMP:20260421T052134
CREATED:20240705T070253Z
LAST-MODIFIED:20240910T071637Z
UID:59396-1722447000-1722457800@www.mancomunidadlavega.es
SUMMARY:Talleres julio jóvenes. Algorfa
DESCRIPTION:Talleres julio La Vega Joven.\n\n¿Preparad@ para la llegada del verano? ¿Quieres olvidarte de la televisión y el sofá durante el mes de julio? ESTE ES TU LUGAR!!\n\n\n#lavegajoven te ofrece una serie de TALLERES y ACTIVIDADES para que aproveches al máximo tu tiempo libre este verano!\n\n\n\nRedovan 1\,2\,5\,8\,9\,15\,22\,23\,29 y 30 de JULIO en Casa de Juventud de 17\,30 a 20\,30 horas.\nAlgorfa 3\,10\, 12\, 17\, 24 y 31 de JULIO en Casa de Juventud de 17\,30 a 20\,30 horas.\n\nJacarilla 4\, 11\, 18\, 19 y 25 de JULIO y 1 de AGOSTO en Centro Social de 17\,30 a 20\,30 horas.\n\n\n\n\n+INFO  658796154\n+info. La vega joven
URL:https://www.mancomunidadlavega.es/event/talleres-julio-jovenes-algorfa-2-2-2-2-2/
LOCATION:Algorfa
CATEGORIES:Algorfa,Jóvenes
END:VEVENT
END:VCALENDAR