BEGIN:VCALENDAR
VERSION:2.0
PRODID:-//Mancomunidad la vega - ECPv6.11.2//NONSGML v1.0//EN
CALSCALE:GREGORIAN
METHOD:PUBLISH
X-ORIGINAL-URL:https://www.mancomunidadlavega.es
X-WR-CALDESC:Eventos para Mancomunidad la vega
REFRESH-INTERVAL;VALUE=DURATION:PT1H
X-Robots-Tag:noindex
X-PUBLISHED-TTL:PT1H
BEGIN:VTIMEZONE
TZID:UTC
BEGIN:STANDARD
TZOFFSETFROM:+0000
TZOFFSETTO:+0000
TZNAME:UTC
DTSTART:20190101T000000
END:STANDARD
END:VTIMEZONE
BEGIN:VEVENT
DTSTART;TZID=UTC:20190306T080000
DTEND;TZID=UTC:20190306T170000
DTSTAMP:20260420T102822
CREATED:20190315T110903Z
LAST-MODIFIED:20190315T110903Z
UID:24861-1551859200-1551891600@www.mancomunidadlavega.es
SUMMARY:Talleres educativos en valores. Jacarilla
DESCRIPTION:CEIP VIRGEN DE BELÉN
URL:https://www.mancomunidadlavega.es/event/talleres-educativos-en-valores-jacarilla/
CATEGORIES:Jacarilla,Jóvenes
END:VEVENT
BEGIN:VEVENT
DTSTART;TZID=UTC:20190306T100000
DTEND;TZID=UTC:20190306T123000
DTSTAMP:20260420T102822
CREATED:20190315T110753Z
LAST-MODIFIED:20190315T110753Z
UID:24859-1551866400-1551875400@www.mancomunidadlavega.es
SUMMARY:ESPECTÁCULO COEDUCATIVO QUIERO SER ASTRONAUTA. JACARILA
DESCRIPTION:Para Escolares de Primaria \nLugar: Centro Social \nHorario: de 9:30h \n 
URL:https://www.mancomunidadlavega.es/event/espectaculo-coeducativo-quiero-ser-astronauta-jacarila/
CATEGORIES:Jacarilla,Jóvenes,Mujer
END:VEVENT
BEGIN:VEVENT
DTSTART;TZID=UTC:20190307T180000
DTEND;TZID=UTC:20190307T190000
DTSTAMP:20260420T102822
CREATED:20190315T111144Z
LAST-MODIFIED:20190315T111209Z
UID:24863-1551981600-1551985200@www.mancomunidadlavega.es
SUMMARY:Grupo de apoyo Bienestar Emocional. Jacarilla
DESCRIPTION:Dependencias de Servicios Sociales \n+ info.: https://www.mancomunidadlavega.es/tramites/dona-salud-bienestar-emocional/
URL:https://www.mancomunidadlavega.es/event/talleres-educativos-en-valores-jacarilla-2/
CATEGORIES:Jacarilla,Mujer
END:VEVENT
BEGIN:VEVENT
DTSTART;TZID=UTC:20190309T180000
DTEND;TZID=UTC:20190309T190000
DTSTAMP:20260420T102822
CREATED:20190315T111414Z
LAST-MODIFIED:20190315T111557Z
UID:24866-1552154400-1552158000@www.mancomunidadlavega.es
SUMMARY:Charla Mujer. Jacarilla
DESCRIPTION:«Los Estereotipos de mujeres y hombres en el cine de Tim burton». \nPonente: Idaira Herrero Lorca.
URL:https://www.mancomunidadlavega.es/event/charla-mujer-jacarilla/
CATEGORIES:Jacarilla,Mujer
END:VEVENT
BEGIN:VEVENT
DTSTART;TZID=UTC:20190309T180000
DTEND;TZID=UTC:20190309T190000
DTSTAMP:20260420T102822
CREATED:20190315T111514Z
LAST-MODIFIED:20190315T111524Z
UID:24868-1552154400-1552158000@www.mancomunidadlavega.es
SUMMARY:Presentación Película. Jacarilla
DESCRIPTION:«Figuras ocultas». \nPonente: Pilar Díaz Rodríguez.
URL:https://www.mancomunidadlavega.es/event/presentacion-pelicula-jacarilla/
CATEGORIES:Jacarilla,Mujer
END:VEVENT
END:VCALENDAR