BEGIN:VCALENDAR
VERSION:2.0
PRODID:-//Mancomunidad la vega - ECPv6.11.2//NONSGML v1.0//EN
CALSCALE:GREGORIAN
METHOD:PUBLISH
X-WR-CALNAME:Mancomunidad la vega
X-ORIGINAL-URL:https://www.mancomunidadlavega.es
X-WR-CALDESC:Eventos para Mancomunidad la vega
REFRESH-INTERVAL;VALUE=DURATION:PT1H
X-Robots-Tag:noindex
X-PUBLISHED-TTL:PT1H
BEGIN:VTIMEZONE
TZID:UTC
BEGIN:STANDARD
TZOFFSETFROM:+0000
TZOFFSETTO:+0000
TZNAME:UTC
DTSTART:20180101T000000
END:STANDARD
END:VTIMEZONE
BEGIN:VEVENT
DTSTART;TZID=UTC:20180625T090000
DTEND;TZID=UTC:20180625T210000
DTSTAMP:20260421T191515
CREATED:20180626T100749Z
LAST-MODIFIED:20180626T100749Z
UID:21754-1529917200-1529960400@www.mancomunidadlavega.es
SUMMARY:Curso MAT Monitor de Actividades de Tiempo Libre Educativo Infantil y Juvenil
DESCRIPTION:Toda la info en https://www.mancomunidadlavega.es/tramites/curso-de-monitor-de-tiempo-libre-infantil-y-juvenil/
URL:https://www.mancomunidadlavega.es/event/curso-mat-monitor-de-actividades-de-tiempo-libre-educativo-infantil-y-juvenil/2018-06-25/
CATEGORIES:Algorfa,Infancia y Familia,Jacarilla,Jóvenes,Redován,San Miguel de Salinas
END:VEVENT
END:VCALENDAR